{"text_format":"3","workbook":"xlsx","n_sheets":2,"sheets":["Retirement Planner","Calculations"],"not_rendered":{"charts":1,"defined_names":68},"read":"whole","date_system":"1900"}

{"sheet":"Retirement Planner","index":0,"n_rows":135,"n_cols":15,"rows_kept":135,"merged":[[35,3,35,5],[35,7,35,8],[35,9,35,11],[35,13,35,15],[36,3,36,5],[36,7,36,8],[36,9,36,11],[36,13,36,15],[37,3,37,5],[37,7,37,8],[37,9,37,11],[37,13,37,15],[38,3,38,5],[38,7,38,8],[38,9,38,11],[38,13,38,15],[39,3,39,5],[39,7,39,8],[39,9,39,11],[39,13,39,15],[40,3,40,5],[40,7,40,8],[40,9,40,11],[40,13,40,15],[41,3,41,5],[41,7,41,8],[41,9,41,11],[41,13,41,15],[42,3,42,5],[42,7,42,8],[42,9,42,11],[42,13,42,15],[43,3,43,5],[43,7,43,8],[43,9,43,11],[43,13,43,15],[44,3,44,5],[44,7,44,8],[44,9,44,11],[44,13,44,15],[45,3,45,5],[45,7,45,8],[45,9,45,11],[45,13,45,15],[46,3,46,5],[46,7,46,8],[46,9,46,11],[46,13,46,15],[47,3,47,5],[47,7,47,8],[47,9,47,11],[47,13,47,15],[48,3,48,5],[48,7,48,8],[48,9,48,11],[48,13,48,15],[49,3,49,5],[49,7,49,8],[49,9,49,11],[49,13,49,15],[50,3,50,5],[50,7,50,8],[50,9,50,11],[50,13,50,15],[51,3,51,5],[51,7,51,8],[51,9,51,11],[51,13,51,15],[52,3,52,5],[52,7,52,8],[52,9,52,11],[52,13,52,15],[53,3,53,5],[53,7,53,8],[53,9,53,11],[53,13,53,15],[54,3,54,5],[54,7,54,8],[54,9,54,11],[54,13,54,15],[55,3,55,5],[55,7,55,8],[55,9,55,11],[55,13,55,15],[56,3,56,5],[56,7,56,8],[56,9,56,11],[56,13,56,15],[57,3,57,5],[57,7,57,8],[57,9,57,11],[57,13,57,15],[58,3,58,5],[58,7,58,8],[58,9,58,11],[58,13,58,15],[59,3,59,5],[59,7,59,8],[59,9,59,11],[59,13,59,15],[60,3,60,5],[60,7,60,8],[60,9,60,11],[60,13,60,15],[61,3,61,5],[61,7,61,8],[61,9,61,11],[61,13,61,15],[62,3,62,5],[62,7,62,8],[62,9,62,11],[62,13,62,15],[63,3,63,5],[63,7,63,8],[63,9,63,11],[63,13,63,15],[64,3,64,5],[64,7,64,8],[64,9,64,11],[64,13,64,15],[65,3,65,5],[65,7,65,8],[65,9,65,11],[65,13,65,15],[66,3,66,5],[66,7,66,8],[66,9,66,11],[66,13,66,15],[67,3,67,5],[67,7,67,8],[67,9,67,11],[67,13,67,15],[68,3,68,5],[68,7,68,8],[68,9,68,11],[68,13,68,15],[69,3,69,5],[69,7,69,8],[69,9,69,11],[69,13,69,15],[70,3,70,5],[70,7,70,8],[70,9,70,11],[70,13,70,15],[71,3,71,5],[71,7,71,8],[71,9,71,11],[71,13,71,15],[72,3,72,5],[72,7,72,8],[72,9,72,11],[72,13,72,15],[73,3,73,5],[73,7,73,8],[73,9,73,11],[73,13,73,15],[74,3,74,5],[74,7,74,8],[74,9,74,11],[74,13,74,15],[75,3,75,5],[75,7,75,8],[75,9,75,11],[75,13,75,15],[76,3,76,5],[76,7,76,8],[76,9,76,11],[76,13,76,15],[77,3,77,5],[77,7,77,8],[77,9,77,11],[77,13,77,15],[78,3,78,5],[78,7,78,8],[78,9,78,11],[78,13,78,15],[79,3,79,5],[79,7,79,8],[79,9,79,11],[79,13,79,15],[80,3,80,5],[80,7,80,8],[80,9,80,11],[80,13,80,15],[81,3,81,5],[81,7,81,8],[81,9,81,11],[81,13,81,15],[82,3,82,5],[82,7,82,8],[82,9,82,11],[82,13,82,15],[83,3,83,5],[83,7,83,8],[83,9,83,11],[83,13,83,15],[84,3,84,5],[84,7,84,8],[84,9,84,11],[84,13,84,15],[85,3,85,5],[85,7,85,8],[85,9,85,11],[85,13,85,15],[86,3,86,5],[86,7,86,8],[86,9,86,11],[86,13,86,15],[87,3,87,5],[87,7,87,8],[87,9,87,11],[87,13,87,15],[88,3,88,5],[88,7,88,8],[88,9,88,11],[88,13,88,15],[89,3,89,5],[89,7,89,8],[89,9,89,11],[89,13,89,15],[90,3,90,5],[90,7,90,8],[90,9,90,11],[90,13,90,15],[91,3,91,5],[91,7,91,8],[91,9,91,11],[91,13,91,15],[92,3,92,5],[92,7,92,8],[92,9,92,11],[92,13,92,15],[93,3,93,5],[93,7,93,8],[93,9,93,11],[93,13,93,15],[94,3,94,5],[94,7,94,8],[94,9,94,11],[94,13,94,15],[95,3,95,5],[95,7,95,8],[95,9,95,11],[95,13,95,15],[96,3,96,5],[96,7,96,8],[96,9,96,11],[96,13,96,15],[97,3,97,5],[97,7,97,8],[97,9,97,11],[97,13,97,15],[98,3,98,5],[98,7,98,8],[98,9,98,11],[98,13,98,15],[99,3,99,5],[99,7,99,8],[99,9,99,11],[99,13,99,15],[100,3,100,5],[100,7,100,8],[100,9,100,11],[100,13,100,15],[101,3,101,5],[101,7,101,8],[101,9,101,11],[101,13,101,15],[102,3,102,5],[102,7,102,8],[102,9,102,11],[102,13,102,15],[103,3,103,5],[103,7,103,8],[103,9,103,11],[103,13,103,15],[104,3,104,5],[104,7,104,8],[104,9,104,11],[104,13,104,15],[105,3,105,5],[105,7,105,8],[105,9,105,11],[105,13,105,15],[106,3,106,5],[106,7,106,8],[106,9,106,11],[106,13,106,15],[107,3,107,5],[107,7,107,8],[107,9,107,11],[107,13,107,15],[108,3,108,5],[108,7,108,8],[108,9,108,11],[108,13,108,15],[109,3,109,5],[109,7,109,8],[109,9,109,11],[109,13,109,15],[110,3,110,5],[110,7,110,8],[110,9,110,11],[110,13,110,15],[111,3,111,5],[111,7,111,8],[111,9,111,11],[111,13,111,15],[112,3,112,5],[112,7,112,8],[112,9,112,11],[112,13,112,15],[113,3,113,5],[113,7,113,8],[113,9,113,11],[113,13,113,15],[114,3,114,5],[114,7,114,8],[114,9,114,11],[114,13,114,15],[115,3,115,5],[115,7,115,8],[115,9,115,11],[115,13,115,15],[116,3,116,5],[116,7,116,8],[116,9,116,11],[116,13,116,15],[117,3,117,5],[117,7,117,8],[117,9,117,11],[117,13,117,15],[118,3,118,5],[118,7,118,8],[118,9,118,11],[118,13,118,15],[119,3,119,5],[119,7,119,8],[119,9,119,11],[119,13,119,15],[120,3,120,5],[120,7,120,8],[120,9,120,11],[120,13,120,15],[121,3,121,5],[121,7,121,8],[121,9,121,11],[121,13,121,15],[122,3,122,5],[122,7,122,8],[122,9,122,11],[122,13,122,15],[123,3,123,5],[123,7,123,8],[123,9,123,11],[123,13,123,15],[124,3,124,5],[124,7,124,8],[124,9,124,11],[124,13,124,15],[125,3,125,5],[125,7,125,8],[125,9,125,11],[125,13,125,15],[126,3,126,5],[126,7,126,8],[126,9,126,11],[126,13,126,15],[127,3,127,5],[127,7,127,8],[127,9,127,11],[127,13,127,15],[128,3,128,5],[128,7,128,8],[128,9,128,11],[128,13,128,15],[129,3,129,5],[129,7,129,8],[129,9,129,11],[129,13,129,15],[130,3,130,5],[130,7,130,8],[130,9,130,11],[130,13,130,15],[131,3,131,5],[131,7,131,8],[131,9,131,11],[131,13,131,15],[132,3,132,5],[132,7,132,8],[132,9,132,11],[132,13,132,15],[133,3,133,5],[133,7,133,8],[133,9,133,11],[133,13,133,15],[134,3,134,5],[134,7,134,8],[134,9,134,11],[134,13,134,15]]}
[" "]
[null,"Retirement Planner"]
{"$rows_empty":21}
[null,"INPUT"]
[null,"Now",{"$nulls":4},"At Retirement",{"$nulls":4},"Uncertainty"]
[null," Your Current Age",null,null,40,null,"Annual Pension Benefit ($)",null,null,0,null,"Investment Return Uncertainty (%)",null,null,{"v":0.02,"d":"2.00%"}]
[null," Annual Income ($)",null,null,{"v":50000,"d":"50,000"},null,"Annual Pension Benefit Increases (%)",null,null,{"v":0,"d":"0.00%"},null,"Annual Savings Amount Uncertainty (%)",null,null,{"v":0,"d":"0.00%"}]
[null," Annual Inflation and income Increases (%)",null,null,{"v":0.03,"d":"3.00%"},null,"Desired Retirement Age",null,null,65,null,"Annual Savings Increases Uncertainty (%)",null,null,{"v":0,"d":"0.00%"}]
[null," Retirement Savings Balance ($)",null,null,{"v":60000,"d":"60,000"},null,"Number of Years of Retirement Income",null,null,20,null,"Annual Pension Benefit Amount Uncertainty (%)",null,null,{"v":0,"d":"0.00%"}]
[null," Annual Savings Amount ($)",null,null,{"v":15000,"d":"15,000"},null,"Income Replacement (%)",null,null,{"v":0.75,"d":"75.00%"},null,"Annual pension benefit increases Uncertainty (%)",null,null,{"v":0,"d":"0.00%"}]
[null," Annual Savings Increases (%)",null,null,{"v":0,"d":"0.00%"},null,"Investment Return (%)",null,null,{"v":0.0625,"d":"6.25%"}]
[null," Investment Return (%)",null,null,{"v":0.0625,"d":"6.25%"}]
[null,"CHART DETAILS"]
[{"$nulls":7},"Yearly",null,"Desired",null,null,"Pension","Year Ending"]
[null,"Age","Salary","Balance",null,null,"Interest","Savings",null,"Retirement Income",null,null,"Income","Balance"]
[null,{"$f":"IFERROR(Calculations!B36,\"\")","v":40},{"$f":"IFERROR(Calculations!C36,\"\")","v":{"v":50000,"d":"$50,000"}},{"$f":"IFERROR(Calculations!F36,\"\")","v":{"v":60000,"d":"$60,000"}},null,null,{"$f":"IFERROR(Calculations!G36,\"\")","v":{"v":3750,"d":"$3,750"}},{"$f":"IFERROR(Calculations!H36,\"\")","v":{"v":15000,"d":"$15,000"}},null,{"$f":"IFERROR(Calculations!I36,\"\")","v":{"v":0,"d":"$0"}},null,null,{"$f":"IFERROR(Calculations!J36,\"\")","v":{"v":0,"d":"$0"}},{"$f":"IFERROR(Calculations!K36,\"\")","v":{"v":78750,"d":"$78,750"}}]
[null,{"$f":"IFERROR(Calculations!B37,\"\")","v":41},{"$f":"IFERROR(Calculations!C37,\"\")","v":{"v":51500,"d":"$51,500"}},{"$f":"IFERROR(Calculations!F37,\"\")","v":{"v":78750,"d":"$78,750"}},null,null,{"$f":"IFERROR(Calculations!G37,\"\")","v":{"v":4921.875,"d":"$4,922"}},{"$f":"IFERROR(Calculations!H37,\"\")","v":{"v":15000,"d":"$15,000"}},null,{"$f":"IFERROR(Calculations!I37,\"\")","v":{"v":0,"d":"$0"}},null,null,{"$f":"IFERROR(Calculations!J37,\"\")","v":{"v":0,"d":"$0"}},{"$f":"IFERROR(Calculations!K37,\"\")","v":{"v":98671.875,"d":"$98,672"}}]
[null,{"$f":"IFERROR(Calculations!B38,\"\")","v":42},{"$f":"IFERROR(Calculations!C38,\"\")","v":{"v":53045,"d":"$53,045"}},{"$f":"IFERROR(Calculations!F38,\"\")","v":{"v":98671.875,"d":"$98,672"}},null,null,{"$f":"IFERROR(Calculations!G38,\"\")","v":{"v":6166.9921875,"d":"$6,167"}},{"$f":"IFERROR(Calculations!H38,\"\")","v":{"v":15000,"d":"$15,000"}},null,{"$f":"IFERROR(Calculations!I38,\"\")","v":{"v":0,"d":"$0"}},null,null,{"$f":"IFERROR(Calculations!J38,\"\")","v":{"v":0,"d":"$0"}},{"$f":"IFERROR(Calculations!K38,\"\")","v":{"v":119838.8671875,"d":"$119,839"}}]
[null,{"$f":"IFERROR(Calculations!B39,\"\")","v":43},{"$f":"IFERROR(Calculations!C39,\"\")","v":{"v":54636.35,"d":"$54,636"}},{"$f":"IFERROR(Calculations!F39,\"\")","v":{"v":119838.8671875,"d":"$119,839"}},null,null,{"$f":"IFERROR(Calculations!G39,\"\")","v":{"v":7489.92919921875,"d":"$7,490"}},{"$f":"IFERROR(Calculations!H39,\"\")","v":{"v":15000,"d":"$15,000"}},null,{"$f":"IFERROR(Calculations!I39,\"\")","v":{"v":0,"d":"$0"}},null,null,{"$f":"IFERROR(Calculations!J39,\"\")","v":{"v":0,"d":"$0"}},{"$f":"IFERROR(Calculations!K39,\"\")","v":{"v":142328.79638671875,"d":"$142,329"}}]
[null,{"$f":"IFERROR(Calculations!B40,\"\")","v":44},{"$f":"IFERROR(Calculations!C40,\"\")","v":{"v":56275.4405,"d":"$56,275"}},{"$f":"IFERROR(Calculations!F40,\"\")","v":{"v":142328.79638671875,"d":"$142,329"}},null,null,{"$f":"IFERROR(Calculations!G40,\"\")","v":{"v":8895.549774169922,"d":"$8,896"}},{"$f":"IFERROR(Calculations!H40,\"\")","v":{"v":15000,"d":"$15,000"}},null,{"$f":"IFERROR(Calculations!I40,\"\")","v":{"v":0,"d":"$0"}},null,null,{"$f":"IFERROR(Calculations!J40,\"\")","v":{"v":0,"d":"$0"}},{"$f":"IFERROR(Calculations!K40,\"\")","v":{"v":166224.34616088867,"d":"$166,224"}}]
[null,{"$f":"IFERROR(Calculations!B41,\"\")","v":45},{"$f":"IFERROR(Calculations!C41,\"\")","v":{"v":57963.703714999996,"d":"$57,964"}},{"$f":"IFERROR(Calculations!F41,\"\")","v":{"v":166224.34616088867,"d":"$166,224"}},null,null,{"$f":"IFERROR(Calculations!G41,\"\")","v":{"v":10389.021635055542,"d":"$10,389"}},{"$f":"IFERROR(Calculations!H41,\"\")","v":{"v":15000,"d":"$15,000"}},null,{"$f":"IFERROR(Calculations!I41,\"\")","v":{"v":0,"d":"$0"}},null,null,{"$f":"IFERROR(Calculations!J41,\"\")","v":{"v":0,"d":"$0"}},{"$f":"IFERROR(Calculations!K41,\"\")","v":{"v":191613.3677959442,"d":"$191,613"}}]
[null,{"$f":"IFERROR(Calculations!B42,\"\")","v":46},{"$f":"IFERROR(Calculations!C42,\"\")","v":{"v":59702.61482644999,"d":"$59,703"}},{"$f":"IFERROR(Calculations!F42,\"\")","v":{"v":191613.3677959442,"d":"$191,613"}},null,null,{"$f":"IFERROR(Calculations!G42,\"\")","v":{"v":11975.835487246513,"d":"$11,976"}},{"$f":"IFERROR(Calculations!H42,\"\")","v":{"v":15000,"d":"$15,000"}},null,{"$f":"IFERROR(Calculations!I42,\"\")","v":{"v":0,"d":"$0"}},null,null,{"$f":"IFERROR(Calculations!J42,\"\")","v":{"v":0,"d":"$0"}},{"$f":"IFERROR(Calculations!K42,\"\")","v":{"v":218589.20328319073,"d":"$218,589"}}]
[null,{"$f":"IFERROR(Calculations!B43,\"\")","v":47},{"$f":"IFERROR(Calculations!C43,\"\")","v":{"v":61493.693271243494,"d":"$61,494"}},{"$f":"IFERROR(Calculations!F43,\"\")","v":{"v":218589.20328319073,"d":"$218,589"}},null,null,{"$f":"IFERROR(Calculations!G43,\"\")","v":{"v":13661.82520519942,"d":"$13,662"}},{"$f":"IFERROR(Calculations!H43,\"\")","v":{"v":15000,"d":"$15,000"}},null,{"$f":"IFERROR(Calculations!I43,\"\")","v":{"v":0,"d":"$0"}},null,null,{"$f":"IFERROR(Calculations!J43,\"\")","v":{"v":0,"d":"$0"}},{"$f":"IFERROR(Calculations!K43,\"\")","v":{"v":247251.02848839015,"d":"$247,251"}}]
[null,{"$f":"IFERROR(Calculations!B44,\"\")","v":48},{"$f":"IFERROR(Calculations!C44,\"\")","v":{"v":63338.5040693808,"d":"$63,339"}},{"$f":"IFERROR(Calculations!F44,\"\")","v":{"v":247251.02848839015,"d":"$247,251"}},null,null,{"$f":"IFERROR(Calculations!G44,\"\")","v":{"v":15453.189280524384,"d":"$15,453"}},{"$f":"IFERROR(Calculations!H44,\"\")","v":{"v":15000,"d":"$15,000"}},null,{"$f":"IFERROR(Calculations!I44,\"\")","v":{"v":0,"d":"$0"}},null,null,{"$f":"IFERROR(Calculations!J44,\"\")","v":{"v":0,"d":"$0"}},{"$f":"IFERROR(Calculations!K44,\"\")","v":{"v":277704.21776891453,"d":"$277,704"}}]
[null,{"$f":"IFERROR(Calculations!B45,\"\")","v":49},{"$f":"IFERROR(Calculations!C45,\"\")","v":{"v":65238.65919146222,"d":"$65,239"}},{"$f":"IFERROR(Calculations!F45,\"\")","v":{"v":277704.21776891453,"d":"$277,704"}},null,null,{"$f":"IFERROR(Calculations!G45,\"\")","v":{"v":17356.51361055716,"d":"$17,357"}},{"$f":"IFERROR(Calculations!H45,\"\")","v":{"v":15000,"d":"$15,000"}},null,{"$f":"IFERROR(Calculations!I45,\"\")","v":{"v":0,"d":"$0"}},null,null,{"$f":"IFERROR(Calculations!J45,\"\")","v":{"v":0,"d":"$0"}},{"$f":"IFERROR(Calculations!K45,\"\")","v":{"v":310060.7313794717,"d":"$310,061"}}]
[null,{"$f":"IFERROR(Calculations!B46,\"\")","v":50},{"$f":"IFERROR(Calculations!C46,\"\")","v":{"v":67195.81896720608,"d":"$67,196"}},{"$f":"IFERROR(Calculations!F46,\"\")","v":{"v":310060.7313794717,"d":"$310,061"}},null,null,{"$f":"IFERROR(Calculations!G46,\"\")","v":{"v":19378.795711216982,"d":"$19,379"}},{"$f":"IFERROR(Calculations!H46,\"\")","v":{"v":15000,"d":"$15,000"}},null,{"$f":"IFERROR(Calculations!I46,\"\")","v":{"v":0,"d":"$0"}},null,null,{"$f":"IFERROR(Calculations!J46,\"\")","v":{"v":0,"d":"$0"}},{"$f":"IFERROR(Calculations!K46,\"\")","v":{"v":344439.5270906887,"d":"$344,440"}}]
[null,{"$f":"IFERROR(Calculations!B47,\"\")","v":51},{"$f":"IFERROR(Calculations!C47,\"\")","v":{"v":69211.69353622227,"d":"$69,212"}},{"$f":"IFERROR(Calculations!F47,\"\")","v":{"v":344439.5270906887,"d":"$344,440"}},null,null,{"$f":"IFERROR(Calculations!G47,\"\")","v":{"v":21527.470443168044,"d":"$21,527"}},{"$f":"IFERROR(Calculations!H47,\"\")","v":{"v":15000,"d":"$15,000"}},null,{"$f":"IFERROR(Calculations!I47,\"\")","v":{"v":0,"d":"$0"}},null,null,{"$f":"IFERROR(Calculations!J47,\"\")","v":{"v":0,"d":"$0"}},{"$f":"IFERROR(Calculations!K47,\"\")","v":{"v":380966.9975338568,"d":"$380,967"}}]
[null,{"$f":"IFERROR(Calculations!B48,\"\")","v":52},{"$f":"IFERROR(Calculations!C48,\"\")","v":{"v":71288.04434230895,"d":"$71,288"}},{"$f":"IFERROR(Calculations!F48,\"\")","v":{"v":380966.9975338568,"d":"$380,967"}},null,null,{"$f":"IFERROR(Calculations!G48,\"\")","v":{"v":23810.43734586605,"d":"$23,810"}},{"$f":"IFERROR(Calculations!H48,\"\")","v":{"v":15000,"d":"$15,000"}},null,{"$f":"IFERROR(Calculations!I48,\"\")","v":{"v":0,"d":"$0"}},null,null,{"$f":"IFERROR(Calculations!J48,\"\")","v":{"v":0,"d":"$0"}},{"$f":"IFERROR(Calculations!K48,\"\")","v":{"v":419777.43487972283,"d":"$419,777"}}]
[null,{"$f":"IFERROR(Calculations!B49,\"\")","v":53},{"$f":"IFERROR(Calculations!C49,\"\")","v":{"v":73426.68567257821,"d":"$73,427"}},{"$f":"IFERROR(Calculations!F49,\"\")","v":{"v":419777.43487972283,"d":"$419,777"}},null,null,{"$f":"IFERROR(Calculations!G49,\"\")","v":{"v":26236.089679982677,"d":"$26,236"}},{"$f":"IFERROR(Calculations!H49,\"\")","v":{"v":15000,"d":"$15,000"}},null,{"$f":"IFERROR(Calculations!I49,\"\")","v":{"v":0,"d":"$0"}},null,null,{"$f":"IFERROR(Calculations!J49,\"\")","v":{"v":0,"d":"$0"}},{"$f":"IFERROR(Calculations!K49,\"\")","v":{"v":461013.5245597055,"d":"$461,014"}}]
[null,{"$f":"IFERROR(Calculations!B50,\"\")","v":54},{"$f":"IFERROR(Calculations!C50,\"\")","v":{"v":75629.48624275556,"d":"$75,629"}},{"$f":"IFERROR(Calculations!F50,\"\")","v":{"v":461013.5245597055,"d":"$461,014"}},null,null,{"$f":"IFERROR(Calculations!G50,\"\")","v":{"v":28813.345284981595,"d":"$28,813"}},{"$f":"IFERROR(Calculations!H50,\"\")","v":{"v":15000,"d":"$15,000"}},null,{"$f":"IFERROR(Calculations!I50,\"\")","v":{"v":0,"d":"$0"}},null,null,{"$f":"IFERROR(Calculations!J50,\"\")","v":{"v":0,"d":"$0"}},{"$f":"IFERROR(Calculations!K50,\"\")","v":{"v":504826.8698446871,"d":"$504,827"}}]
[null,{"$f":"IFERROR(Calculations!B51,\"\")","v":55},{"$f":"IFERROR(Calculations!C51,\"\")","v":{"v":77898.37083003823,"d":"$77,898"}},{"$f":"IFERROR(Calculations!F51,\"\")","v":{"v":504826.8698446871,"d":"$504,827"}},null,null,{"$f":"IFERROR(Calculations!G51,\"\")","v":{"v":31551.679365292945,"d":"$31,552"}},{"$f":"IFERROR(Calculations!H51,\"\")","v":{"v":15000,"d":"$15,000"}},null,{"$f":"IFERROR(Calculations!I51,\"\")","v":{"v":0,"d":"$0"}},null,null,{"$f":"IFERROR(Calculations!J51,\"\")","v":{"v":0,"d":"$0"}},{"$f":"IFERROR(Calculations!K51,\"\")","v":{"v":551378.5492099801,"d":"$551,379"}}]
[null,{"$f":"IFERROR(Calculations!B52,\"\")","v":56},{"$f":"IFERROR(Calculations!C52,\"\")","v":{"v":80235.32195493937,"d":"$80,235"}},{"$f":"IFERROR(Calculations!F52,\"\")","v":{"v":551378.5492099801,"d":"$551,379"}},null,null,{"$f":"IFERROR(Calculations!G52,\"\")","v":{"v":34461.159325623754,"d":"$34,461"}},{"$f":"IFERROR(Calculations!H52,\"\")","v":{"v":15000,"d":"$15,000"}},null,{"$f":"IFERROR(Calculations!I52,\"\")","v":{"v":0,"d":"$0"}},null,null,{"$f":"IFERROR(Calculations!J52,\"\")","v":{"v":0,"d":"$0"}},{"$f":"IFERROR(Calculations!K52,\"\")","v":{"v":600839.7085356038,"d":"$600,840"}}]
[null,{"$f":"IFERROR(Calculations!B53,\"\")","v":57},{"$f":"IFERROR(Calculations!C53,\"\")","v":{"v":82642.38161358755,"d":"$82,642"}},{"$f":"IFERROR(Calculations!F53,\"\")","v":{"v":600839.7085356038,"d":"$600,840"}},null,null,{"$f":"IFERROR(Calculations!G53,\"\")","v":{"v":37552.48178347524,"d":"$37,552"}},{"$f":"IFERROR(Calculations!H53,\"\")","v":{"v":15000,"d":"$15,000"}},null,{"$f":"IFERROR(Calculations!I53,\"\")","v":{"v":0,"d":"$0"}},null,null,{"$f":"IFERROR(Calculations!J53,\"\")","v":{"v":0,"d":"$0"}},{"$f":"IFERROR(Calculations!K53,\"\")","v":{"v":653392.1903190791,"d":"$653,392"}}]
[null,{"$f":"IFERROR(Calculations!B54,\"\")","v":58},{"$f":"IFERROR(Calculations!C54,\"\")","v":{"v":85121.65306199518,"d":"$85,122"}},{"$f":"IFERROR(Calculations!F54,\"\")","v":{"v":653392.1903190791,"d":"$653,392"}},null,null,{"$f":"IFERROR(Calculations!G54,\"\")","v":{"v":40837.01189494244,"d":"$40,837"}},{"$f":"IFERROR(Calculations!H54,\"\")","v":{"v":15000,"d":"$15,000"}},null,{"$f":"IFERROR(Calculations!I54,\"\")","v":{"v":0,"d":"$0"}},null,null,{"$f":"IFERROR(Calculations!J54,\"\")","v":{"v":0,"d":"$0"}},{"$f":"IFERROR(Calculations!K54,\"\")","v":{"v":709229.2022140216,"d":"$709,229"}}]
[null,{"$f":"IFERROR(Calculations!B55,\"\")","v":59},{"$f":"IFERROR(Calculations!C55,\"\")","v":{"v":87675.30265385503,"d":"$87,675"}},{"$f":"IFERROR(Calculations!F55,\"\")","v":{"v":709229.2022140216,"d":"$709,229"}},null,null,{"$f":"IFERROR(Calculations!G55,\"\")","v":{"v":44326.82513837635,"d":"$44,327"}},{"$f":"IFERROR(Calculations!H55,\"\")","v":{"v":15000,"d":"$15,000"}},null,{"$f":"IFERROR(Calculations!I55,\"\")","v":{"v":0,"d":"$0"}},null,null,{"$f":"IFERROR(Calculations!J55,\"\")","v":{"v":0,"d":"$0"}},{"$f":"IFERROR(Calculations!K55,\"\")","v":{"v":768556.0273523979,"d":"$768,556"}}]
[null,{"$f":"IFERROR(Calculations!B56,\"\")","v":60},{"$f":"IFERROR(Calculations!C56,\"\")","v":{"v":90305.56173347068,"d":"$90,306"}},{"$f":"IFERROR(Calculations!F56,\"\")","v":{"v":768556.0273523979,"d":"$768,556"}},null,null,{"$f":"IFERROR(Calculations!G56,\"\")","v":{"v":48034.75170952487,"d":"$48,035"}},{"$f":"IFERROR(Calculations!H56,\"\")","v":{"v":15000,"d":"$15,000"}},null,{"$f":"IFERROR(Calculations!I56,\"\")","v":{"v":0,"d":"$0"}},null,null,{"$f":"IFERROR(Calculations!J56,\"\")","v":{"v":0,"d":"$0"}},{"$f":"IFERROR(Calculations!K56,\"\")","v":{"v":831590.7790619228,"d":"$831,591"}}]
[null,{"$f":"IFERROR(Calculations!B57,\"\")","v":61},{"$f":"IFERROR(Calculations!C57,\"\")","v":{"v":93014.7285854748,"d":"$93,015"}},{"$f":"IFERROR(Calculations!F57,\"\")","v":{"v":831590.7790619228,"d":"$831,591"}},null,null,{"$f":"IFERROR(Calculations!G57,\"\")","v":{"v":51974.423691370175,"d":"$51,974"}},{"$f":"IFERROR(Calculations!H57,\"\")","v":{"v":15000,"d":"$15,000"}},null,{"$f":"IFERROR(Calculations!I57,\"\")","v":{"v":0,"d":"$0"}},null,null,{"$f":"IFERROR(Calculations!J57,\"\")","v":{"v":0,"d":"$0"}},{"$f":"IFERROR(Calculations!K57,\"\")","v":{"v":898565.202753293,"d":"$898,565"}}]
[null,{"$f":"IFERROR(Calculations!B58,\"\")","v":62},{"$f":"IFERROR(Calculations!C58,\"\")","v":{"v":95805.17044303905,"d":"$95,805"}},{"$f":"IFERROR(Calculations!F58,\"\")","v":{"v":898565.202753293,"d":"$898,565"}},null,null,{"$f":"IFERROR(Calculations!G58,\"\")","v":{"v":56160.32517208081,"d":"$56,160"}},{"$f":"IFERROR(Calculations!H58,\"\")","v":{"v":15000,"d":"$15,000"}},null,{"$f":"IFERROR(Calculations!I58,\"\")","v":{"v":0,"d":"$0"}},null,null,{"$f":"IFERROR(Calculations!J58,\"\")","v":{"v":0,"d":"$0"}},{"$f":"IFERROR(Calculations!K58,\"\")","v":{"v":969725.5279253738,"d":"$969,726"}}]
[null,{"$f":"IFERROR(Calculations!B59,\"\")","v":63},{"$f":"IFERROR(Calculations!C59,\"\")","v":{"v":98679.32555633022,"d":"$98,679"}},{"$f":"IFERROR(Calculations!F59,\"\")","v":{"v":969725.5279253738,"d":"$969,726"}},null,null,{"$f":"IFERROR(Calculations!G59,\"\")","v":{"v":60607.84549533586,"d":"$60,608"}},{"$f":"IFERROR(Calculations!H59,\"\")","v":{"v":15000,"d":"$15,000"}},null,{"$f":"IFERROR(Calculations!I59,\"\")","v":{"v":0,"d":"$0"}},null,null,{"$f":"IFERROR(Calculations!J59,\"\")","v":{"v":0,"d":"$0"}},{"$f":"IFERROR(Calculations!K59,\"\")","v":{"v":1045333.3734207096,"d":"$1,045,333"}}]
[null,{"$f":"IFERROR(Calculations!B60,\"\")","v":64},{"$f":"IFERROR(Calculations!C60,\"\")","v":{"v":101639.70532302013,"d":"$101,640"}},{"$f":"IFERROR(Calculations!F60,\"\")","v":{"v":1045333.3734207096,"d":"$1,045,333"}},null,null,{"$f":"IFERROR(Calculations!G60,\"\")","v":{"v":65333.33583879435,"d":"$65,333"}},{"$f":"IFERROR(Calculations!H60,\"\")","v":{"v":15000,"d":"$15,000"}},null,{"$f":"IFERROR(Calculations!I60,\"\")","v":{"v":0,"d":"$0"}},null,null,{"$f":"IFERROR(Calculations!J60,\"\")","v":{"v":0,"d":"$0"}},{"$f":"IFERROR(Calculations!K60,\"\")","v":{"v":1125666.709259504,"d":"$1,125,667"}}]
[null,{"$f":"IFERROR(Calculations!B61,\"\")","v":65},{"$f":"IFERROR(Calculations!C61,\"\")","v":{"v":0,"d":"$0"}},{"$f":"IFERROR(Calculations!F61,\"\")","v":{"v":1125666.709259504,"d":"$1,125,667"}},null,null,{"$f":"IFERROR(Calculations!G61,\"\")","v":{"v":70354.169328719,"d":"$70,354"}},{"$f":"IFERROR(Calculations!H61,\"\")","v":{"v":0,"d":"$0"}},null,{"$f":"IFERROR(Calculations!I61,\"\")","v":{"v":78516.67236203302,"d":"$78,517"}},null,null,{"$f":"IFERROR(Calculations!J61,\"\")","v":{"v":0,"d":"$0"}},{"$f":"IFERROR(Calculations!K61,\"\")","v":{"v":1117504.2062261899,"d":"$1,117,504"}}]
[null,{"$f":"IFERROR(Calculations!B62,\"\")","v":66},{"$f":"IFERROR(Calculations!C62,\"\")","v":{"v":0,"d":"$0"}},{"$f":"IFERROR(Calculations!F62,\"\")","v":{"v":1117504.2062261899,"d":"$1,117,504"}},null,null,{"$f":"IFERROR(Calculations!G62,\"\")","v":{"v":69844.01288913687,"d":"$69,844"}},{"$f":"IFERROR(Calculations!H62,\"\")","v":{"v":0,"d":"$0"}},null,{"$f":"IFERROR(Calculations!I62,\"\")","v":{"v":80872.17253289402,"d":"$80,872"}},null,null,{"$f":"IFERROR(Calculations!J62,\"\")","v":{"v":0,"d":"$0"}},{"$f":"IFERROR(Calculations!K62,\"\")","v":{"v":1106476.0465824327,"d":"$1,106,476"}}]
[null,{"$f":"IFERROR(Calculations!B63,\"\")","v":67},{"$f":"IFERROR(Calculations!C63,\"\")","v":{"v":0,"d":"$0"}},{"$f":"IFERROR(Calculations!F63,\"\")","v":{"v":1106476.0465824327,"d":"$1,106,476"}},null,null,{"$f":"IFERROR(Calculations!G63,\"\")","v":{"v":69154.75291140204,"d":"$69,155"}},{"$f":"IFERROR(Calculations!H63,\"\")","v":{"v":0,"d":"$0"}},null,{"$f":"IFERROR(Calculations!I63,\"\")","v":{"v":83298.33770888083,"d":"$83,298"}},null,null,{"$f":"IFERROR(Calculations!J63,\"\")","v":{"v":0,"d":"$0"}},{"$f":"IFERROR(Calculations!K63,\"\")","v":{"v":1092332.461784954,"d":"$1,092,332"}}]
[null,{"$f":"IFERROR(Calculations!B64,\"\")","v":68},{"$f":"IFERROR(Calculations!C64,\"\")","v":{"v":0,"d":"$0"}},{"$f":"IFERROR(Calculations!F64,\"\")","v":{"v":1092332.461784954,"d":"$1,092,332"}},null,null,{"$f":"IFERROR(Calculations!G64,\"\")","v":{"v":68270.77886155962,"d":"$68,271"}},{"$f":"IFERROR(Calculations!H64,\"\")","v":{"v":0,"d":"$0"}},null,{"$f":"IFERROR(Calculations!I64,\"\")","v":{"v":85797.28784014726,"d":"$85,797"}},null,null,{"$f":"IFERROR(Calculations!J64,\"\")","v":{"v":0,"d":"$0"}},{"$f":"IFERROR(Calculations!K64,\"\")","v":{"v":1074805.9528063664,"d":"$1,074,806"}}]
[null,{"$f":"IFERROR(Calculations!B65,\"\")","v":69},{"$f":"IFERROR(Calculations!C65,\"\")","v":{"v":0,"d":"$0"}},{"$f":"IFERROR(Calculations!F65,\"\")","v":{"v":1074805.9528063664,"d":"$1,074,806"}},null,null,{"$f":"IFERROR(Calculations!G65,\"\")","v":{"v":67175.3720503979,"d":"$67,175"}},{"$f":"IFERROR(Calculations!H65,\"\")","v":{"v":0,"d":"$0"}},null,{"$f":"IFERROR(Calculations!I65,\"\")","v":{"v":88371.20647535166,"d":"$88,371"}},null,null,{"$f":"IFERROR(Calculations!J65,\"\")","v":{"v":0,"d":"$0"}},{"$f":"IFERROR(Calculations!K65,\"\")","v":{"v":1053610.1183814125,"d":"$1,053,610"}}]
[null,{"$f":"IFERROR(Calculations!B66,\"\")","v":70},{"$f":"IFERROR(Calculations!C66,\"\")","v":{"v":0,"d":"$0"}},{"$f":"IFERROR(Calculations!F66,\"\")","v":{"v":1053610.1183814125,"d":"$1,053,610"}},null,null,{"$f":"IFERROR(Calculations!G66,\"\")","v":{"v":65850.63239883828,"d":"$65,851"}},{"$f":"IFERROR(Calculations!H66,\"\")","v":{"v":0,"d":"$0"}},null,{"$f":"IFERROR(Calculations!I66,\"\")","v":{"v":91022.34266961222,"d":"$91,022"}},null,null,{"$f":"IFERROR(Calculations!J66,\"\")","v":{"v":0,"d":"$0"}},{"$f":"IFERROR(Calculations!K66,\"\")","v":{"v":1028438.4081106384,"d":"$1,028,438"}}]
[null,{"$f":"IFERROR(Calculations!B67,\"\")","v":71},{"$f":"IFERROR(Calculations!C67,\"\")","v":{"v":0,"d":"$0"}},{"$f":"IFERROR(Calculations!F67,\"\")","v":{"v":1028438.4081106384,"d":"$1,028,438"}},null,null,{"$f":"IFERROR(Calculations!G67,\"\")","v":{"v":64277.4005069149,"d":"$64,277"}},{"$f":"IFERROR(Calculations!H67,\"\")","v":{"v":0,"d":"$0"}},null,{"$f":"IFERROR(Calculations!I67,\"\")","v":{"v":93753.0129497006,"d":"$93,753"}},null,null,{"$f":"IFERROR(Calculations!J67,\"\")","v":{"v":0,"d":"$0"}},{"$f":"IFERROR(Calculations!K67,\"\")","v":{"v":998962.7956678526,"d":"$998,963"}}]
[null,{"$f":"IFERROR(Calculations!B68,\"\")","v":72},{"$f":"IFERROR(Calculations!C68,\"\")","v":{"v":0,"d":"$0"}},{"$f":"IFERROR(Calculations!F68,\"\")","v":{"v":998962.7956678526,"d":"$998,963"}},null,null,{"$f":"IFERROR(Calculations!G68,\"\")","v":{"v":62435.17472924079,"d":"$62,435"}},{"$f":"IFERROR(Calculations!H68,\"\")","v":{"v":0,"d":"$0"}},null,{"$f":"IFERROR(Calculations!I68,\"\")","v":{"v":96565.60333819159,"d":"$96,566"}},null,null,{"$f":"IFERROR(Calculations!J68,\"\")","v":{"v":0,"d":"$0"}},{"$f":"IFERROR(Calculations!K68,\"\")","v":{"v":964832.3670589017,"d":"$964,832"}}]
[null,{"$f":"IFERROR(Calculations!B69,\"\")","v":73},{"$f":"IFERROR(Calculations!C69,\"\")","v":{"v":0,"d":"$0"}},{"$f":"IFERROR(Calculations!F69,\"\")","v":{"v":964832.3670589017,"d":"$964,832"}},null,null,{"$f":"IFERROR(Calculations!G69,\"\")","v":{"v":60302.022941181356,"d":"$60,302"}},{"$f":"IFERROR(Calculations!H69,\"\")","v":{"v":0,"d":"$0"}},null,{"$f":"IFERROR(Calculations!I69,\"\")","v":{"v":99462.57143833736,"d":"$99,463"}},null,null,{"$f":"IFERROR(Calculations!J69,\"\")","v":{"v":0,"d":"$0"}},{"$f":"IFERROR(Calculations!K69,\"\")","v":{"v":925671.8185617457,"d":"$925,672"}}]
[null,{"$f":"IFERROR(Calculations!B70,\"\")","v":74},{"$f":"IFERROR(Calculations!C70,\"\")","v":{"v":0,"d":"$0"}},{"$f":"IFERROR(Calculations!F70,\"\")","v":{"v":925671.8185617457,"d":"$925,672"}},null,null,{"$f":"IFERROR(Calculations!G70,\"\")","v":{"v":57854.488660109106,"d":"$57,854"}},{"$f":"IFERROR(Calculations!H70,\"\")","v":{"v":0,"d":"$0"}},null,{"$f":"IFERROR(Calculations!I70,\"\")","v":{"v":102446.44858148745,"d":"$102,446"}},null,null,{"$f":"IFERROR(Calculations!J70,\"\")","v":{"v":0,"d":"$0"}},{"$f":"IFERROR(Calculations!K70,\"\")","v":{"v":881079.8586403674,"d":"$881,080"}}]
[null,{"$f":"IFERROR(Calculations!B71,\"\")","v":75},{"$f":"IFERROR(Calculations!C71,\"\")","v":{"v":0,"d":"$0"}},{"$f":"IFERROR(Calculations!F71,\"\")","v":{"v":881079.8586403674,"d":"$881,080"}},null,null,{"$f":"IFERROR(Calculations!G71,\"\")","v":{"v":55067.49116502296,"d":"$55,067"}},{"$f":"IFERROR(Calculations!H71,\"\")","v":{"v":0,"d":"$0"}},null,{"$f":"IFERROR(Calculations!I71,\"\")","v":{"v":105519.8420389321,"d":"$105,520"}},null,null,{"$f":"IFERROR(Calculations!J71,\"\")","v":{"v":0,"d":"$0"}},{"$f":"IFERROR(Calculations!K71,\"\")","v":{"v":830627.5077664582,"d":"$830,628"}}]
[null,{"$f":"IFERROR(Calculations!B72,\"\")","v":76},{"$f":"IFERROR(Calculations!C72,\"\")","v":{"v":0,"d":"$0"}},{"$f":"IFERROR(Calculations!F72,\"\")","v":{"v":830627.5077664582,"d":"$830,628"}},null,null,{"$f":"IFERROR(Calculations!G72,\"\")","v":{"v":51914.21923540364,"d":"$51,914"}},{"$f":"IFERROR(Calculations!H72,\"\")","v":{"v":0,"d":"$0"}},null,{"$f":"IFERROR(Calculations!I72,\"\")","v":{"v":108685.43730010005,"d":"$108,685"}},null,null,{"$f":"IFERROR(Calculations!J72,\"\")","v":{"v":0,"d":"$0"}},{"$f":"IFERROR(Calculations!K72,\"\")","v":{"v":773856.2897017619,"d":"$773,856"}}]
[null,{"$f":"IFERROR(Calculations!B73,\"\")","v":77},{"$f":"IFERROR(Calculations!C73,\"\")","v":{"v":0,"d":"$0"}},{"$f":"IFERROR(Calculations!F73,\"\")","v":{"v":773856.2897017619,"d":"$773,856"}},null,null,{"$f":"IFERROR(Calculations!G73,\"\")","v":{"v":48366.01810636012,"d":"$48,366"}},{"$f":"IFERROR(Calculations!H73,\"\")","v":{"v":0,"d":"$0"}},null,{"$f":"IFERROR(Calculations!I73,\"\")","v":{"v":111946.00041910303,"d":"$111,946"}},null,null,{"$f":"IFERROR(Calculations!J73,\"\")","v":{"v":0,"d":"$0"}},{"$f":"IFERROR(Calculations!K73,\"\")","v":{"v":710276.3073890189,"d":"$710,276"}}]
[null,{"$f":"IFERROR(Calculations!B74,\"\")","v":78},{"$f":"IFERROR(Calculations!C74,\"\")","v":{"v":0,"d":"$0"}},{"$f":"IFERROR(Calculations!F74,\"\")","v":{"v":710276.3073890189,"d":"$710,276"}},null,null,{"$f":"IFERROR(Calculations!G74,\"\")","v":{"v":44392.269211813684,"d":"$44,392"}},{"$f":"IFERROR(Calculations!H74,\"\")","v":{"v":0,"d":"$0"}},null,{"$f":"IFERROR(Calculations!I74,\"\")","v":{"v":115304.38043167612,"d":"$115,304"}},null,null,{"$f":"IFERROR(Calculations!J74,\"\")","v":{"v":0,"d":"$0"}},{"$f":"IFERROR(Calculations!K74,\"\")","v":{"v":639364.1961691565,"d":"$639,364"}}]
[null,{"$f":"IFERROR(Calculations!B75,\"\")","v":79},{"$f":"IFERROR(Calculations!C75,\"\")","v":{"v":0,"d":"$0"}},{"$f":"IFERROR(Calculations!F75,\"\")","v":{"v":639364.1961691565,"d":"$639,364"}},null,null,{"$f":"IFERROR(Calculations!G75,\"\")","v":{"v":39960.26226057228,"d":"$39,960"}},{"$f":"IFERROR(Calculations!H75,\"\")","v":{"v":0,"d":"$0"}},null,{"$f":"IFERROR(Calculations!I75,\"\")","v":{"v":118763.51184462642,"d":"$118,764"}},null,null,{"$f":"IFERROR(Calculations!J75,\"\")","v":{"v":0,"d":"$0"}},{"$f":"IFERROR(Calculations!K75,\"\")","v":{"v":560560.9465851024,"d":"$560,561"}}]
[null,{"$f":"IFERROR(Calculations!B76,\"\")","v":80},{"$f":"IFERROR(Calculations!C76,\"\")","v":{"v":0,"d":"$0"}},{"$f":"IFERROR(Calculations!F76,\"\")","v":{"v":560560.9465851024,"d":"$560,561"}},null,null,{"$f":"IFERROR(Calculations!G76,\"\")","v":{"v":35035.0591615689,"d":"$35,035"}},{"$f":"IFERROR(Calculations!H76,\"\")","v":{"v":0,"d":"$0"}},null,{"$f":"IFERROR(Calculations!I76,\"\")","v":{"v":122326.4171999652,"d":"$122,326"}},null,null,{"$f":"IFERROR(Calculations!J76,\"\")","v":{"v":0,"d":"$0"}},{"$f":"IFERROR(Calculations!K76,\"\")","v":{"v":473269.588546706,"d":"$473,270"}}]
[null,{"$f":"IFERROR(Calculations!B77,\"\")","v":81},{"$f":"IFERROR(Calculations!C77,\"\")","v":{"v":0,"d":"$0"}},{"$f":"IFERROR(Calculations!F77,\"\")","v":{"v":473269.588546706,"d":"$473,270"}},null,null,{"$f":"IFERROR(Calculations!G77,\"\")","v":{"v":29579.349284169126,"d":"$29,579"}},{"$f":"IFERROR(Calculations!H77,\"\")","v":{"v":0,"d":"$0"}},null,{"$f":"IFERROR(Calculations!I77,\"\")","v":{"v":125996.20971596417,"d":"$125,996"}},null,null,{"$f":"IFERROR(Calculations!J77,\"\")","v":{"v":0,"d":"$0"}},{"$f":"IFERROR(Calculations!K77,\"\")","v":{"v":376852.728114911,"d":"$376,853"}}]
[null,{"$f":"IFERROR(Calculations!B78,\"\")","v":82},{"$f":"IFERROR(Calculations!C78,\"\")","v":{"v":0,"d":"$0"}},{"$f":"IFERROR(Calculations!F78,\"\")","v":{"v":376852.728114911,"d":"$376,853"}},null,null,{"$f":"IFERROR(Calculations!G78,\"\")","v":{"v":23553.295507181938,"d":"$23,553"}},{"$f":"IFERROR(Calculations!H78,\"\")","v":{"v":0,"d":"$0"}},null,{"$f":"IFERROR(Calculations!I78,\"\")","v":{"v":129776.09600744309,"d":"$129,776"}},null,null,{"$f":"IFERROR(Calculations!J78,\"\")","v":{"v":0,"d":"$0"}},{"$f":"IFERROR(Calculations!K78,\"\")","v":{"v":270629.9276146499,"d":"$270,630"}}]
[null,{"$f":"IFERROR(Calculations!B79,\"\")","v":83},{"$f":"IFERROR(Calculations!C79,\"\")","v":{"v":0,"d":"$0"}},{"$f":"IFERROR(Calculations!F79,\"\")","v":{"v":270629.9276146499,"d":"$270,630"}},null,null,{"$f":"IFERROR(Calculations!G79,\"\")","v":{"v":16914.370475915617,"d":"$16,914"}},{"$f":"IFERROR(Calculations!H79,\"\")","v":{"v":0,"d":"$0"}},null,{"$f":"IFERROR(Calculations!I79,\"\")","v":{"v":133669.3788876664,"d":"$133,669"}},null,null,{"$f":"IFERROR(Calculations!J79,\"\")","v":{"v":0,"d":"$0"}},{"$f":"IFERROR(Calculations!K79,\"\")","v":{"v":153874.9192028991,"d":"$153,875"}}]
[null,{"$f":"IFERROR(Calculations!B80,\"\")","v":84},{"$f":"IFERROR(Calculations!C80,\"\")","v":{"v":0,"d":"$0"}},{"$f":"IFERROR(Calculations!F80,\"\")","v":{"v":153874.9192028991,"d":"$153,875"}},null,null,{"$f":"IFERROR(Calculations!G80,\"\")","v":{"v":9617.182450181193,"d":"$9,617"}},{"$f":"IFERROR(Calculations!H80,\"\")","v":{"v":0,"d":"$0"}},null,{"$f":"IFERROR(Calculations!I80,\"\")","v":{"v":137679.46025429637,"d":"$137,679"}},null,null,{"$f":"IFERROR(Calculations!J80,\"\")","v":{"v":0,"d":"$0"}},{"$f":"IFERROR(Calculations!K80,\"\")","v":{"v":25812.64139878392,"d":"$25,813"}}]
[null,{"$f":"IFERROR(Calculations!B81,\"\")","v":""},{"$f":"IFERROR(Calculations!C81,\"\")","v":""},{"$f":"IFERROR(Calculations!F81,\"\")","v":""},null,null,{"$f":"IFERROR(Calculations!G81,\"\")","v":""},{"$f":"IFERROR(Calculations!H81,\"\")","v":""},null,{"$f":"IFERROR(Calculations!I81,\"\")","v":""},null,null,{"$f":"IFERROR(Calculations!J81,\"\")","v":""},{"$f":"IFERROR(Calculations!K81,\"\")","v":""}]
[null,{"$f":"IFERROR(Calculations!B82,\"\")","v":""},{"$f":"IFERROR(Calculations!C82,\"\")","v":""},{"$f":"IFERROR(Calculations!F82,\"\")","v":""},null,null,{"$f":"IFERROR(Calculations!G82,\"\")","v":""},{"$f":"IFERROR(Calculations!H82,\"\")","v":""},null,{"$f":"IFERROR(Calculations!I82,\"\")","v":""},null,null,{"$f":"IFERROR(Calculations!J82,\"\")","v":""},{"$f":"IFERROR(Calculations!K82,\"\")","v":""}]
[null,{"$f":"IFERROR(Calculations!B83,\"\")","v":""},{"$f":"IFERROR(Calculations!C83,\"\")","v":""},{"$f":"IFERROR(Calculations!F83,\"\")","v":""},null,null,{"$f":"IFERROR(Calculations!G83,\"\")","v":""},{"$f":"IFERROR(Calculations!H83,\"\")","v":""},null,{"$f":"IFERROR(Calculations!I83,\"\")","v":""},null,null,{"$f":"IFERROR(Calculations!J83,\"\")","v":""},{"$f":"IFERROR(Calculations!K83,\"\")","v":""}]
[null,{"$f":"IFERROR(Calculations!B84,\"\")","v":""},{"$f":"IFERROR(Calculations!C84,\"\")","v":""},{"$f":"IFERROR(Calculations!F84,\"\")","v":""},null,null,{"$f":"IFERROR(Calculations!G84,\"\")","v":""},{"$f":"IFERROR(Calculations!H84,\"\")","v":""},null,{"$f":"IFERROR(Calculations!I84,\"\")","v":""},null,null,{"$f":"IFERROR(Calculations!J84,\"\")","v":""},{"$f":"IFERROR(Calculations!K84,\"\")","v":""}]
[null,{"$f":"IFERROR(Calculations!B85,\"\")","v":""},{"$f":"IFERROR(Calculations!C85,\"\")","v":""},{"$f":"IFERROR(Calculations!F85,\"\")","v":""},null,null,{"$f":"IFERROR(Calculations!G85,\"\")","v":""},{"$f":"IFERROR(Calculations!H85,\"\")","v":""},null,{"$f":"IFERROR(Calculations!I85,\"\")","v":""},null,null,{"$f":"IFERROR(Calculations!J85,\"\")","v":""},{"$f":"IFERROR(Calculations!K85,\"\")","v":""}]
[null,{"$f":"IFERROR(Calculations!B86,\"\")","v":""},{"$f":"IFERROR(Calculations!C86,\"\")","v":""},{"$f":"IFERROR(Calculations!F86,\"\")","v":""},null,null,{"$f":"IFERROR(Calculations!G86,\"\")","v":""},{"$f":"IFERROR(Calculations!H86,\"\")","v":""},null,{"$f":"IFERROR(Calculations!I86,\"\")","v":""},null,null,{"$f":"IFERROR(Calculations!J86,\"\")","v":""},{"$f":"IFERROR(Calculations!K86,\"\")","v":""}]
[null,{"$f":"IFERROR(Calculations!B87,\"\")","v":""},{"$f":"IFERROR(Calculations!C87,\"\")","v":""},{"$f":"IFERROR(Calculations!F87,\"\")","v":""},null,null,{"$f":"IFERROR(Calculations!G87,\"\")","v":""},{"$f":"IFERROR(Calculations!H87,\"\")","v":""},null,{"$f":"IFERROR(Calculations!I87,\"\")","v":""},null,null,{"$f":"IFERROR(Calculations!J87,\"\")","v":""},{"$f":"IFERROR(Calculations!K87,\"\")","v":""}]
[null,{"$f":"IFERROR(Calculations!B88,\"\")","v":""},{"$f":"IFERROR(Calculations!C88,\"\")","v":""},{"$f":"IFERROR(Calculations!F88,\"\")","v":""},null,null,{"$f":"IFERROR(Calculations!G88,\"\")","v":""},{"$f":"IFERROR(Calculations!H88,\"\")","v":""},null,{"$f":"IFERROR(Calculations!I88,\"\")","v":""},null,null,{"$f":"IFERROR(Calculations!J88,\"\")","v":""},{"$f":"IFERROR(Calculations!K88,\"\")","v":""}]
[null,{"$f":"IFERROR(Calculations!B89,\"\")","v":""},{"$f":"IFERROR(Calculations!C89,\"\")","v":""},{"$f":"IFERROR(Calculations!F89,\"\")","v":""},null,null,{"$f":"IFERROR(Calculations!G89,\"\")","v":""},{"$f":"IFERROR(Calculations!H89,\"\")","v":""},null,{"$f":"IFERROR(Calculations!I89,\"\")","v":""},null,null,{"$f":"IFERROR(Calculations!J89,\"\")","v":""},{"$f":"IFERROR(Calculations!K89,\"\")","v":""}]
[null,{"$f":"IFERROR(Calculations!B90,\"\")","v":""},{"$f":"IFERROR(Calculations!C90,\"\")","v":""},{"$f":"IFERROR(Calculations!F90,\"\")","v":""},null,null,{"$f":"IFERROR(Calculations!G90,\"\")","v":""},{"$f":"IFERROR(Calculations!H90,\"\")","v":""},null,{"$f":"IFERROR(Calculations!I90,\"\")","v":""},null,null,{"$f":"IFERROR(Calculations!J90,\"\")","v":""},{"$f":"IFERROR(Calculations!K90,\"\")","v":""}]
[null,{"$f":"IFERROR(Calculations!B91,\"\")","v":""},{"$f":"IFERROR(Calculations!C91,\"\")","v":""},{"$f":"IFERROR(Calculations!F91,\"\")","v":""},null,null,{"$f":"IFERROR(Calculations!G91,\"\")","v":""},{"$f":"IFERROR(Calculations!H91,\"\")","v":""},null,{"$f":"IFERROR(Calculations!I91,\"\")","v":""},null,null,{"$f":"IFERROR(Calculations!J91,\"\")","v":""},{"$f":"IFERROR(Calculations!K91,\"\")","v":""}]
[null,{"$f":"IFERROR(Calculations!B92,\"\")","v":""},{"$f":"IFERROR(Calculations!C92,\"\")","v":""},{"$f":"IFERROR(Calculations!F92,\"\")","v":""},null,null,{"$f":"IFERROR(Calculations!G92,\"\")","v":""},{"$f":"IFERROR(Calculations!H92,\"\")","v":""},null,{"$f":"IFERROR(Calculations!I92,\"\")","v":""},null,null,{"$f":"IFERROR(Calculations!J92,\"\")","v":""},{"$f":"IFERROR(Calculations!K92,\"\")","v":""}]
[null,{"$f":"IFERROR(Calculations!B93,\"\")","v":""},{"$f":"IFERROR(Calculations!C93,\"\")","v":""},{"$f":"IFERROR(Calculations!F93,\"\")","v":""},null,null,{"$f":"IFERROR(Calculations!G93,\"\")","v":""},{"$f":"IFERROR(Calculations!H93,\"\")","v":""},null,{"$f":"IFERROR(Calculations!I93,\"\")","v":""},null,null,{"$f":"IFERROR(Calculations!J93,\"\")","v":""},{"$f":"IFERROR(Calculations!K93,\"\")","v":""}]
[null,{"$f":"IFERROR(Calculations!B94,\"\")","v":""},{"$f":"IFERROR(Calculations!C94,\"\")","v":""},{"$f":"IFERROR(Calculations!F94,\"\")","v":""},null,null,{"$f":"IFERROR(Calculations!G94,\"\")","v":""},{"$f":"IFERROR(Calculations!H94,\"\")","v":""},null,{"$f":"IFERROR(Calculations!I94,\"\")","v":""},null,null,{"$f":"IFERROR(Calculations!J94,\"\")","v":""},{"$f":"IFERROR(Calculations!K94,\"\")","v":""}]
[null,{"$f":"IFERROR(Calculations!B95,\"\")","v":""},{"$f":"IFERROR(Calculations!C95,\"\")","v":""},{"$f":"IFERROR(Calculations!F95,\"\")","v":""},null,null,{"$f":"IFERROR(Calculations!G95,\"\")","v":""},{"$f":"IFERROR(Calculations!H95,\"\")","v":""},null,{"$f":"IFERROR(Calculations!I95,\"\")","v":""},null,null,{"$f":"IFERROR(Calculations!J95,\"\")","v":""},{"$f":"IFERROR(Calculations!K95,\"\")","v":""}]
[null,{"$f":"IFERROR(Calculations!B96,\"\")","v":""},{"$f":"IFERROR(Calculations!C96,\"\")","v":""},{"$f":"IFERROR(Calculations!F96,\"\")","v":""},null,null,{"$f":"IFERROR(Calculations!G96,\"\")","v":""},{"$f":"IFERROR(Calculations!H96,\"\")","v":""},null,{"$f":"IFERROR(Calculations!I96,\"\")","v":""},null,null,{"$f":"IFERROR(Calculations!J96,\"\")","v":""},{"$f":"IFERROR(Calculations!K96,\"\")","v":""}]
[null,{"$f":"IFERROR(Calculations!B97,\"\")","v":""},{"$f":"IFERROR(Calculations!C97,\"\")","v":""},{"$f":"IFERROR(Calculations!F97,\"\")","v":""},null,null,{"$f":"IFERROR(Calculations!G97,\"\")","v":""},{"$f":"IFERROR(Calculations!H97,\"\")","v":""},null,{"$f":"IFERROR(Calculations!I97,\"\")","v":""},null,null,{"$f":"IFERROR(Calculations!J97,\"\")","v":""},{"$f":"IFERROR(Calculations!K97,\"\")","v":""}]
[null,{"$f":"IFERROR(Calculations!B98,\"\")","v":""},{"$f":"IFERROR(Calculations!C98,\"\")","v":""},{"$f":"IFERROR(Calculations!F98,\"\")","v":""},null,null,{"$f":"IFERROR(Calculations!G98,\"\")","v":""},{"$f":"IFERROR(Calculations!H98,\"\")","v":""},null,{"$f":"IFERROR(Calculations!I98,\"\")","v":""},null,null,{"$f":"IFERROR(Calculations!J98,\"\")","v":""},{"$f":"IFERROR(Calculations!K98,\"\")","v":""}]
[null,{"$f":"IFERROR(Calculations!B99,\"\")","v":""},{"$f":"IFERROR(Calculations!C99,\"\")","v":""},{"$f":"IFERROR(Calculations!F99,\"\")","v":""},null,null,{"$f":"IFERROR(Calculations!G99,\"\")","v":""},{"$f":"IFERROR(Calculations!H99,\"\")","v":""},null,{"$f":"IFERROR(Calculations!I99,\"\")","v":""},null,null,{"$f":"IFERROR(Calculations!J99,\"\")","v":""},{"$f":"IFERROR(Calculations!K99,\"\")","v":""}]
[null,{"$f":"IFERROR(Calculations!B100,\"\")","v":""},{"$f":"IFERROR(Calculations!C100,\"\")","v":""},{"$f":"IFERROR(Calculations!F100,\"\")","v":""},null,null,{"$f":"IFERROR(Calculations!G100,\"\")","v":""},{"$f":"IFERROR(Calculations!H100,\"\")","v":""},null,{"$f":"IFERROR(Calculations!I100,\"\")","v":""},null,null,{"$f":"IFERROR(Calculations!J100,\"\")","v":""},{"$f":"IFERROR(Calculations!K100,\"\")","v":""}]
[null,{"$f":"IFERROR(Calculations!B101,\"\")","v":""},{"$f":"IFERROR(Calculations!C101,\"\")","v":""},{"$f":"IFERROR(Calculations!F101,\"\")","v":""},null,null,{"$f":"IFERROR(Calculations!G101,\"\")","v":""},{"$f":"IFERROR(Calculations!H101,\"\")","v":""},null,{"$f":"IFERROR(Calculations!I101,\"\")","v":""},null,null,{"$f":"IFERROR(Calculations!J101,\"\")","v":""},{"$f":"IFERROR(Calculations!K101,\"\")","v":""}]
[null,{"$f":"IFERROR(Calculations!B102,\"\")","v":""},{"$f":"IFERROR(Calculations!C102,\"\")","v":""},{"$f":"IFERROR(Calculations!F102,\"\")","v":""},null,null,{"$f":"IFERROR(Calculations!G102,\"\")","v":""},{"$f":"IFERROR(Calculations!H102,\"\")","v":""},null,{"$f":"IFERROR(Calculations!I102,\"\")","v":""},null,null,{"$f":"IFERROR(Calculations!J102,\"\")","v":""},{"$f":"IFERROR(Calculations!K102,\"\")","v":""}]
[null,{"$f":"IFERROR(Calculations!B103,\"\")","v":""},{"$f":"IFERROR(Calculations!C103,\"\")","v":""},{"$f":"IFERROR(Calculations!F103,\"\")","v":""},null,null,{"$f":"IFERROR(Calculations!G103,\"\")","v":""},{"$f":"IFERROR(Calculations!H103,\"\")","v":""},null,{"$f":"IFERROR(Calculations!I103,\"\")","v":""},null,null,{"$f":"IFERROR(Calculations!J103,\"\")","v":""},{"$f":"IFERROR(Calculations!K103,\"\")","v":""}]
[null,{"$f":"IFERROR(Calculations!B104,\"\")","v":""},{"$f":"IFERROR(Calculations!C104,\"\")","v":""},{"$f":"IFERROR(Calculations!F104,\"\")","v":""},null,null,{"$f":"IFERROR(Calculations!G104,\"\")","v":""},{"$f":"IFERROR(Calculations!H104,\"\")","v":""},null,{"$f":"IFERROR(Calculations!I104,\"\")","v":""},null,null,{"$f":"IFERROR(Calculations!J104,\"\")","v":""},{"$f":"IFERROR(Calculations!K104,\"\")","v":""}]
[null,{"$f":"IFERROR(Calculations!B105,\"\")","v":""},{"$f":"IFERROR(Calculations!C105,\"\")","v":""},{"$f":"IFERROR(Calculations!F105,\"\")","v":""},null,null,{"$f":"IFERROR(Calculations!G105,\"\")","v":""},{"$f":"IFERROR(Calculations!H105,\"\")","v":""},null,{"$f":"IFERROR(Calculations!I105,\"\")","v":""},null,null,{"$f":"IFERROR(Calculations!J105,\"\")","v":""},{"$f":"IFERROR(Calculations!K105,\"\")","v":""}]
[null,{"$f":"IFERROR(Calculations!B106,\"\")","v":""},{"$f":"IFERROR(Calculations!C106,\"\")","v":""},{"$f":"IFERROR(Calculations!F106,\"\")","v":""},null,null,{"$f":"IFERROR(Calculations!G106,\"\")","v":""},{"$f":"IFERROR(Calculations!H106,\"\")","v":""},null,{"$f":"IFERROR(Calculations!I106,\"\")","v":""},null,null,{"$f":"IFERROR(Calculations!J106,\"\")","v":""},{"$f":"IFERROR(Calculations!K106,\"\")","v":""}]
[null,{"$f":"IFERROR(Calculations!B107,\"\")","v":""},{"$f":"IFERROR(Calculations!C107,\"\")","v":""},{"$f":"IFERROR(Calculations!F107,\"\")","v":""},null,null,{"$f":"IFERROR(Calculations!G107,\"\")","v":""},{"$f":"IFERROR(Calculations!H107,\"\")","v":""},null,{"$f":"IFERROR(Calculations!I107,\"\")","v":""},null,null,{"$f":"IFERROR(Calculations!J107,\"\")","v":""},{"$f":"IFERROR(Calculations!K107,\"\")","v":""}]
[null,{"$f":"IFERROR(Calculations!B108,\"\")","v":""},{"$f":"IFERROR(Calculations!C108,\"\")","v":""},{"$f":"IFERROR(Calculations!F108,\"\")","v":""},null,null,{"$f":"IFERROR(Calculations!G108,\"\")","v":""},{"$f":"IFERROR(Calculations!H108,\"\")","v":""},null,{"$f":"IFERROR(Calculations!I108,\"\")","v":""},null,null,{"$f":"IFERROR(Calculations!J108,\"\")","v":""},{"$f":"IFERROR(Calculations!K108,\"\")","v":""}]
[null,{"$f":"IFERROR(Calculations!B109,\"\")","v":""},{"$f":"IFERROR(Calculations!C109,\"\")","v":""},{"$f":"IFERROR(Calculations!F109,\"\")","v":""},null,null,{"$f":"IFERROR(Calculations!G109,\"\")","v":""},{"$f":"IFERROR(Calculations!H109,\"\")","v":""},null,{"$f":"IFERROR(Calculations!I109,\"\")","v":""},null,null,{"$f":"IFERROR(Calculations!J109,\"\")","v":""},{"$f":"IFERROR(Calculations!K109,\"\")","v":""}]
[null,{"$f":"IFERROR(Calculations!B110,\"\")","v":""},{"$f":"IFERROR(Calculations!C110,\"\")","v":""},{"$f":"IFERROR(Calculations!F110,\"\")","v":""},null,null,{"$f":"IFERROR(Calculations!G110,\"\")","v":""},{"$f":"IFERROR(Calculations!H110,\"\")","v":""},null,{"$f":"IFERROR(Calculations!I110,\"\")","v":""},null,null,{"$f":"IFERROR(Calculations!J110,\"\")","v":""},{"$f":"IFERROR(Calculations!K110,\"\")","v":""}]
[null,{"$f":"IFERROR(Calculations!B111,\"\")","v":""},{"$f":"IFERROR(Calculations!C111,\"\")","v":""},{"$f":"IFERROR(Calculations!F111,\"\")","v":""},null,null,{"$f":"IFERROR(Calculations!G111,\"\")","v":""},{"$f":"IFERROR(Calculations!H111,\"\")","v":""},null,{"$f":"IFERROR(Calculations!I111,\"\")","v":""},null,null,{"$f":"IFERROR(Calculations!J111,\"\")","v":""},{"$f":"IFERROR(Calculations!K111,\"\")","v":""}]
[null,{"$f":"IFERROR(Calculations!B112,\"\")","v":""},{"$f":"IFERROR(Calculations!C112,\"\")","v":""},{"$f":"IFERROR(Calculations!F112,\"\")","v":""},null,null,{"$f":"IFERROR(Calculations!G112,\"\")","v":""},{"$f":"IFERROR(Calculations!H112,\"\")","v":""},null,{"$f":"IFERROR(Calculations!I112,\"\")","v":""},null,null,{"$f":"IFERROR(Calculations!J112,\"\")","v":""},{"$f":"IFERROR(Calculations!K112,\"\")","v":""}]
[null,{"$f":"IFERROR(Calculations!B113,\"\")","v":""},{"$f":"IFERROR(Calculations!C113,\"\")","v":""},{"$f":"IFERROR(Calculations!F113,\"\")","v":""},null,null,{"$f":"IFERROR(Calculations!G113,\"\")","v":""},{"$f":"IFERROR(Calculations!H113,\"\")","v":""},null,{"$f":"IFERROR(Calculations!I113,\"\")","v":""},null,null,{"$f":"IFERROR(Calculations!J113,\"\")","v":""},{"$f":"IFERROR(Calculations!K113,\"\")","v":""}]
[null,{"$f":"IFERROR(Calculations!B114,\"\")","v":""},{"$f":"IFERROR(Calculations!C114,\"\")","v":""},{"$f":"IFERROR(Calculations!F114,\"\")","v":""},null,null,{"$f":"IFERROR(Calculations!G114,\"\")","v":""},{"$f":"IFERROR(Calculations!H114,\"\")","v":""},null,{"$f":"IFERROR(Calculations!I114,\"\")","v":""},null,null,{"$f":"IFERROR(Calculations!J114,\"\")","v":""},{"$f":"IFERROR(Calculations!K114,\"\")","v":""}]
[null,{"$f":"IFERROR(Calculations!B115,\"\")","v":""},{"$f":"IFERROR(Calculations!C115,\"\")","v":""},{"$f":"IFERROR(Calculations!F115,\"\")","v":""},null,null,{"$f":"IFERROR(Calculations!G115,\"\")","v":""},{"$f":"IFERROR(Calculations!H115,\"\")","v":""},null,{"$f":"IFERROR(Calculations!I115,\"\")","v":""},null,null,{"$f":"IFERROR(Calculations!J115,\"\")","v":""},{"$f":"IFERROR(Calculations!K115,\"\")","v":""}]
[null,{"$f":"IFERROR(Calculations!B116,\"\")","v":""},{"$f":"IFERROR(Calculations!C116,\"\")","v":""},{"$f":"IFERROR(Calculations!F116,\"\")","v":""},null,null,{"$f":"IFERROR(Calculations!G116,\"\")","v":""},{"$f":"IFERROR(Calculations!H116,\"\")","v":""},null,{"$f":"IFERROR(Calculations!I116,\"\")","v":""},null,null,{"$f":"IFERROR(Calculations!J116,\"\")","v":""},{"$f":"IFERROR(Calculations!K116,\"\")","v":""}]
[null,{"$f":"IFERROR(Calculations!B117,\"\")","v":""},{"$f":"IFERROR(Calculations!C117,\"\")","v":""},{"$f":"IFERROR(Calculations!F117,\"\")","v":""},null,null,{"$f":"IFERROR(Calculations!G117,\"\")","v":""},{"$f":"IFERROR(Calculations!H117,\"\")","v":""},null,{"$f":"IFERROR(Calculations!I117,\"\")","v":""},null,null,{"$f":"IFERROR(Calculations!J117,\"\")","v":""},{"$f":"IFERROR(Calculations!K117,\"\")","v":""}]
[null,{"$f":"IFERROR(Calculations!B118,\"\")","v":""},{"$f":"IFERROR(Calculations!C118,\"\")","v":""},{"$f":"IFERROR(Calculations!F118,\"\")","v":""},null,null,{"$f":"IFERROR(Calculations!G118,\"\")","v":""},{"$f":"IFERROR(Calculations!H118,\"\")","v":""},null,{"$f":"IFERROR(Calculations!I118,\"\")","v":""},null,null,{"$f":"IFERROR(Calculations!J118,\"\")","v":""},{"$f":"IFERROR(Calculations!K118,\"\")","v":""}]
[null,{"$f":"IFERROR(Calculations!B119,\"\")","v":""},{"$f":"IFERROR(Calculations!C119,\"\")","v":""},{"$f":"IFERROR(Calculations!F119,\"\")","v":""},null,null,{"$f":"IFERROR(Calculations!G119,\"\")","v":""},{"$f":"IFERROR(Calculations!H119,\"\")","v":""},null,{"$f":"IFERROR(Calculations!I119,\"\")","v":""},null,null,{"$f":"IFERROR(Calculations!J119,\"\")","v":""},{"$f":"IFERROR(Calculations!K119,\"\")","v":""}]
[null,{"$f":"IFERROR(Calculations!B120,\"\")","v":""},{"$f":"IFERROR(Calculations!C120,\"\")","v":""},{"$f":"IFERROR(Calculations!F120,\"\")","v":""},null,null,{"$f":"IFERROR(Calculations!G120,\"\")","v":""},{"$f":"IFERROR(Calculations!H120,\"\")","v":""},null,{"$f":"IFERROR(Calculations!I120,\"\")","v":""},null,null,{"$f":"IFERROR(Calculations!J120,\"\")","v":""},{"$f":"IFERROR(Calculations!K120,\"\")","v":""}]
[null,{"$f":"IFERROR(Calculations!B121,\"\")","v":""},{"$f":"IFERROR(Calculations!C121,\"\")","v":""},{"$f":"IFERROR(Calculations!F121,\"\")","v":""},null,null,{"$f":"IFERROR(Calculations!G121,\"\")","v":""},{"$f":"IFERROR(Calculations!H121,\"\")","v":""},null,{"$f":"IFERROR(Calculations!I121,\"\")","v":""},null,null,{"$f":"IFERROR(Calculations!J121,\"\")","v":""},{"$f":"IFERROR(Calculations!K121,\"\")","v":""}]
[null,{"$f":"IFERROR(Calculations!B122,\"\")","v":""},{"$f":"IFERROR(Calculations!C122,\"\")","v":""},{"$f":"IFERROR(Calculations!F122,\"\")","v":""},null,null,{"$f":"IFERROR(Calculations!G122,\"\")","v":""},{"$f":"IFERROR(Calculations!H122,\"\")","v":""},null,{"$f":"IFERROR(Calculations!I122,\"\")","v":""},null,null,{"$f":"IFERROR(Calculations!J122,\"\")","v":""},{"$f":"IFERROR(Calculations!K122,\"\")","v":""}]
[null,{"$f":"IFERROR(Calculations!B123,\"\")","v":""},{"$f":"IFERROR(Calculations!C123,\"\")","v":""},{"$f":"IFERROR(Calculations!F123,\"\")","v":""},null,null,{"$f":"IFERROR(Calculations!G123,\"\")","v":""},{"$f":"IFERROR(Calculations!H123,\"\")","v":""},null,{"$f":"IFERROR(Calculations!I123,\"\")","v":""},null,null,{"$f":"IFERROR(Calculations!J123,\"\")","v":""},{"$f":"IFERROR(Calculations!K123,\"\")","v":""}]
[null,{"$f":"IFERROR(Calculations!B124,\"\")","v":""},{"$f":"IFERROR(Calculations!C124,\"\")","v":""},{"$f":"IFERROR(Calculations!F124,\"\")","v":""},null,null,{"$f":"IFERROR(Calculations!G124,\"\")","v":""},{"$f":"IFERROR(Calculations!H124,\"\")","v":""},null,{"$f":"IFERROR(Calculations!I124,\"\")","v":""},null,null,{"$f":"IFERROR(Calculations!J124,\"\")","v":""},{"$f":"IFERROR(Calculations!K124,\"\")","v":""}]
[null,{"$f":"IFERROR(Calculations!B125,\"\")","v":""},{"$f":"IFERROR(Calculations!C125,\"\")","v":""},{"$f":"IFERROR(Calculations!F125,\"\")","v":""},null,null,{"$f":"IFERROR(Calculations!G125,\"\")","v":""},{"$f":"IFERROR(Calculations!H125,\"\")","v":""},null,{"$f":"IFERROR(Calculations!I125,\"\")","v":""},null,null,{"$f":"IFERROR(Calculations!J125,\"\")","v":""},{"$f":"IFERROR(Calculations!K125,\"\")","v":""}]
[null,{"$f":"IFERROR(Calculations!B126,\"\")","v":""},{"$f":"IFERROR(Calculations!C126,\"\")","v":""},{"$f":"IFERROR(Calculations!F126,\"\")","v":""},null,null,{"$f":"IFERROR(Calculations!G126,\"\")","v":""},{"$f":"IFERROR(Calculations!H126,\"\")","v":""},null,{"$f":"IFERROR(Calculations!I126,\"\")","v":""},null,null,{"$f":"IFERROR(Calculations!J126,\"\")","v":""},{"$f":"IFERROR(Calculations!K126,\"\")","v":""}]
[null,{"$f":"IFERROR(Calculations!B127,\"\")","v":""},{"$f":"IFERROR(Calculations!C127,\"\")","v":""},{"$f":"IFERROR(Calculations!F127,\"\")","v":""},null,null,{"$f":"IFERROR(Calculations!G127,\"\")","v":""},{"$f":"IFERROR(Calculations!H127,\"\")","v":""},null,{"$f":"IFERROR(Calculations!I127,\"\")","v":""},null,null,{"$f":"IFERROR(Calculations!J127,\"\")","v":""},{"$f":"IFERROR(Calculations!K127,\"\")","v":""}]
[null,{"$f":"IFERROR(Calculations!B128,\"\")","v":""},{"$f":"IFERROR(Calculations!C128,\"\")","v":""},{"$f":"IFERROR(Calculations!F128,\"\")","v":""},null,null,{"$f":"IFERROR(Calculations!G128,\"\")","v":""},{"$f":"IFERROR(Calculations!H128,\"\")","v":""},null,{"$f":"IFERROR(Calculations!I128,\"\")","v":""},null,null,{"$f":"IFERROR(Calculations!J128,\"\")","v":""},{"$f":"IFERROR(Calculations!K128,\"\")","v":""}]
[null,{"$f":"IFERROR(Calculations!B129,\"\")","v":""},{"$f":"IFERROR(Calculations!C129,\"\")","v":""},{"$f":"IFERROR(Calculations!F129,\"\")","v":""},null,null,{"$f":"IFERROR(Calculations!G129,\"\")","v":""},{"$f":"IFERROR(Calculations!H129,\"\")","v":""},null,{"$f":"IFERROR(Calculations!I129,\"\")","v":""},null,null,{"$f":"IFERROR(Calculations!J129,\"\")","v":""},{"$f":"IFERROR(Calculations!K129,\"\")","v":""}]
[null,{"$f":"IFERROR(Calculations!B130,\"\")","v":""},{"$f":"IFERROR(Calculations!C130,\"\")","v":""},{"$f":"IFERROR(Calculations!F130,\"\")","v":""},null,null,{"$f":"IFERROR(Calculations!G130,\"\")","v":""},{"$f":"IFERROR(Calculations!H130,\"\")","v":""},null,{"$f":"IFERROR(Calculations!I130,\"\")","v":""},null,null,{"$f":"IFERROR(Calculations!J130,\"\")","v":""},{"$f":"IFERROR(Calculations!K130,\"\")","v":""}]
[null,{"$f":"IFERROR(Calculations!B131,\"\")","v":""},{"$f":"IFERROR(Calculations!C131,\"\")","v":""},{"$f":"IFERROR(Calculations!F131,\"\")","v":""},null,null,{"$f":"IFERROR(Calculations!G131,\"\")","v":""},{"$f":"IFERROR(Calculations!H131,\"\")","v":""},null,{"$f":"IFERROR(Calculations!I131,\"\")","v":""},null,null,{"$f":"IFERROR(Calculations!J131,\"\")","v":""},{"$f":"IFERROR(Calculations!K131,\"\")","v":""}]
[null,{"$f":"IFERROR(Calculations!B132,\"\")","v":""},{"$f":"IFERROR(Calculations!C132,\"\")","v":""},{"$f":"IFERROR(Calculations!F132,\"\")","v":""},null,null,{"$f":"IFERROR(Calculations!G132,\"\")","v":""},{"$f":"IFERROR(Calculations!H132,\"\")","v":""},null,{"$f":"IFERROR(Calculations!I132,\"\")","v":""},null,null,{"$f":"IFERROR(Calculations!J132,\"\")","v":""},{"$f":"IFERROR(Calculations!K132,\"\")","v":""}]
[null,{"$f":"IFERROR(Calculations!B133,\"\")","v":""},{"$f":"IFERROR(Calculations!C133,\"\")","v":""},{"$f":"IFERROR(Calculations!F133,\"\")","v":""},null,null,{"$f":"IFERROR(Calculations!G133,\"\")","v":""},{"$f":"IFERROR(Calculations!H133,\"\")","v":""},null,{"$f":"IFERROR(Calculations!I133,\"\")","v":""},null,null,{"$f":"IFERROR(Calculations!J133,\"\")","v":""},{"$f":"IFERROR(Calculations!K133,\"\")","v":""}]
[null,{"$f":"IFERROR(Calculations!B134,\"\")","v":""},{"$f":"IFERROR(Calculations!C134,\"\")","v":""},{"$f":"IFERROR(Calculations!F134,\"\")","v":""},null,null,{"$f":"IFERROR(Calculations!G134,\"\")","v":""},{"$f":"IFERROR(Calculations!H134,\"\")","v":""},null,{"$f":"IFERROR(Calculations!I134,\"\")","v":""},null,null,{"$f":"IFERROR(Calculations!J134,\"\")","v":""},{"$f":"IFERROR(Calculations!K134,\"\")","v":""}]
[null,{"$f":"IFERROR(Calculations!B135,\"\")","v":""},{"$f":"IFERROR(Calculations!C135,\"\")","v":""},{"$f":"IFERROR(Calculations!F135,\"\")","v":""},null,null,{"$f":"IFERROR(Calculations!G135,\"\")","v":""},{"$f":"IFERROR(Calculations!H135,\"\")","v":""},null,{"$f":"IFERROR(Calculations!I135,\"\")","v":""},null,null,{"$f":"IFERROR(Calculations!J135,\"\")","v":""},{"$f":"IFERROR(Calculations!K135,\"\")","v":""}]

{"sheet":"Calculations","index":1,"n_rows":135,"n_cols":34,"rows_kept":135,"hidden":true}
[null,"Calculations"]
[null,"This sheet should remain hidden. Any modifications may result in errors in the Retirement Planner."]
[]
[]
[]
[]
[]
[{"$nulls":7},{"$f":"INDEX(B36:B135,MATCH(MIN(IF(ISNUMBER(SavingsBalance_RetiredPeriod),IF((SavingsBalance_RetiredPeriod>0),SavingsBalance_RetiredPeriod))),SavingsBalance_RetiredPeriod,0))","v":84},"Failure Template:",null,"Oops. This plan will only provide income to age [AGE]. You'll need to make some modifications."]
[{"$nulls":6},{"$f":"TEXT(INDEX(SavingsBalance_RetiredPeriod,PlanYears),\"$#,###\")","v":"$25,813"},{"$f":"YourCurrentAge+PlanYears-1","v":84},"Success Template:",null,"Congratulations! Your plan seems to work. At age [AGE], you will still have a savings balance of [BALANCE]."]
[]
[{"$nulls":7},{"$f":"INDEX($H$8:$H$9,(INDEX(SavingsBalance_RetiredPeriod,PlanYears)>0)+1)","v":84},"Failure Display:",null,{"$f":"REPT(SUBSTITUTE(SUBSTITUTE(K8,\"[AGE]\",$H$11),\"[BALANCE]\",$G$9),INDEX(SavingsBalance_RetiredPeriod,PlanYears)<0)","v":""}]
[{"$nulls":7},{"$f":"INDEX($H$8:$H$9,(INDEX(SavingsBalance_RetiredPeriod,PlanYears)>0)+1)","v":84},"Success Display:",null,{"$f":"REPT(SUBSTITUTE(SUBSTITUTE(K9,\"[AGE]\",$H$11),\"[BALANCE]\",$G$9),INDEX(SavingsBalance_RetiredPeriod,PlanYears)>=0)","v":"Congratulations! Your plan seems to work. At age 84, you will still have a savings balance of $25,813."}]
[]
[{"$nulls":5},"Success:",{"$f":"INDEX(SavingsBalance_RetiredPeriod,PlanYears)>=0","v":true},null,"Success",null,"Failure"]
[{"$nulls":7},1,{"$f":"REPT(\"CONGRATULATIONS!\",Success)","v":"CONGRATULATIONS!"},null,{"$f":"REPT(\"OOPS!\",Success=FALSE)","v":""}]
[{"$nulls":7},2,{"$f":"REPT(\"At age\",Success)","v":"At age"},null,{"$f":"REPT(\"This plan will only provide income to age \",Success=FALSE)","v":""}]
[{"$nulls":7},3,{"$f":"REPT(YourCurrentAge+PlanYears-1 & \",\",Success)","v":"84,"},null,{"$f":"REPT(H8 & \".\",Success=FALSE)","v":""}]
[{"$nulls":7},4,{"$f":"REPT(\"you will have a savings balance of\",Success)","v":"you will have a savings balance of"},null,{"$f":"REPT(\"You'll need to makes some modifications.\",Success=FALSE)","v":""}]
[{"$nulls":7},5,{"$f":"REPT(TEXT(INDEX(SavingsBalance_RetiredPeriod,PlanYears),\"$#,###.\"),Success)","v":"$25,813."}]
{"$rows_empty":15}
[null,"Age","Salary",null,null,"Balance","Interest","Yearly Savings","Desired Retirement Income","Pension Income","End Balance",null,null,"Balance","Interest","Yearly Savings","Desired Retirement Income","Pension Income","End Balance",null,null,"Balance","Interest","Yearly Savings","Desired Retirement Income","Pension Income","End Balance",null,null,"Saving","Retired",null,null,"Uncertainty"]
[null,{"$f":"Age","v":40},{"$f":"CurrentAnnualIncome","v":{"v":50000,"d":"50,000"}},null,null,{"$f":"CurrentRetirementSavingsBalance","v":{"v":60000,"d":"60,000"}},{"$f":"Interest","v":{"v":3750,"d":"3,750"}},{"$f":"CurrentAnnualSavingsAmount","v":{"v":15000,"d":"15,000"}},{"$f":"DesiredRetirementIncome","v":0},{"$f":"PensionIncome","v":0},{"$f":"EndBalance","v":{"v":78750,"d":"78,750"}},null,null,{"$f":"CurrentRetirementSavingsBalance","v":{"v":60000,"d":"60,000"}},{"$f":"Interest_Under","v":{"v":3150,"d":"3,150"}},{"$f":"CurrentAnnualSavingsAmount_Under","v":{"v":15000,"d":"15,000"}},{"$f":"DesiredRetirementIncome","v":0},{"$f":"PensionIncome_Under","v":0},{"$f":"EndBalance","v":{"v":78150,"d":"78,150"}},null,null,{"$f":"CurrentRetirementSavingsBalance","v":{"v":60000,"d":"60,000"}},{"$f":"Interest_Over","v":{"v":4350,"d":"4,350"}},{"$f":"CurrentAnnualSavingsAmount_Over","v":{"v":15000,"d":"15,000"}},{"$f":"DesiredRetirementIncome","v":0},{"$f":"PensionIncome_Over","v":0},{"$f":"EndBalance","v":{"v":79350,"d":"79,350"}},null,null,{"$f":"IF(Calculations!B36<DesiredRetirementAge,K36,NA())","v":{"v":78750,"d":"78,750"}},{"$f":"IF(Calculations!B36>=(DesiredRetirementAge-1),K36,NA())","v":{"$error":"#N/A"}},null,null,{"$f":"AA36-S36","v":{"v":1200,"d":"1,200"}}]
[null,{"$f":"Age","v":41},{"$f":"Salary","v":{"v":51500,"d":"51,500"}},null,null,{"$f":"Balance","v":{"v":78750,"d":"78,750"}},{"$f":"Interest","v":{"v":4921.875,"d":"4,922"}},{"$f":"YearlySavings","v":{"v":15000,"d":"15,000"}},{"$f":"DesiredRetirementIncome","v":0},{"$f":"PensionIncome","v":0},{"$f":"EndBalance","v":{"v":98671.875,"d":"98,672"}},null,null,{"$f":"Balance_Under","v":{"v":78150,"d":"78,150"}},{"$f":"Interest_Under","v":{"v":4102.875,"d":"4,103"}},{"$f":"YearlySavings_Under","v":{"v":15000,"d":"15,000"}},{"$f":"DesiredRetirementIncome","v":0},{"$f":"PensionIncome_Under","v":0},{"$f":"EndBalance","v":{"v":97252.875,"d":"97,253"}},null,null,{"$f":"Balance_Over","v":{"v":79350,"d":"79,350"}},{"$f":"Interest_Over","v":{"v":5752.875,"d":"5,753"}},{"$f":"YearlySavings_Over","v":{"v":15000,"d":"15,000"}},{"$f":"DesiredRetirementIncome","v":0},{"$f":"PensionIncome_Over","v":0},{"$f":"EndBalance","v":{"v":100102.875,"d":"100,103"}},null,null,{"$f":"IF(Calculations!B37<DesiredRetirementAge,K37,NA())","v":{"v":98671.875,"d":"98,672"}},{"$f":"IF(Calculations!B37>=(DesiredRetirementAge-1),K37,NA())","v":{"$error":"#N/A"}},null,null,{"$f":"AA37-S37","v":{"v":2850,"d":"2,850"}}]
[null,{"$f":"Age","v":42},{"$f":"Salary","v":{"v":53045,"d":"53,045"}},null,null,{"$f":"Balance","v":{"v":98671.875,"d":"98,672"}},{"$f":"Interest","v":{"v":6166.9921875,"d":"6,167"}},{"$f":"YearlySavings","v":{"v":15000,"d":"15,000"}},{"$f":"DesiredRetirementIncome","v":0},{"$f":"PensionIncome","v":0},{"$f":"EndBalance","v":{"v":119838.8671875,"d":"119,839"}},null,null,{"$f":"Balance_Under","v":{"v":97252.875,"d":"97,253"}},{"$f":"Interest_Under","v":{"v":5105.7759375,"d":"5,106"}},{"$f":"YearlySavings_Under","v":{"v":15000,"d":"15,000"}},{"$f":"DesiredRetirementIncome","v":0},{"$f":"PensionIncome_Under","v":0},{"$f":"EndBalance","v":{"v":117358.6509375,"d":"117,359"}},null,null,{"$f":"Balance_Over","v":{"v":100102.875,"d":"100,103"}},{"$f":"Interest_Over","v":{"v":7257.4584374999995,"d":"7,257"}},{"$f":"YearlySavings_Over","v":{"v":15000,"d":"15,000"}},{"$f":"DesiredRetirementIncome","v":0},{"$f":"PensionIncome_Over","v":0},{"$f":"EndBalance","v":{"v":122360.3334375,"d":"122,360"}},null,null,{"$f":"IF(Calculations!B38<DesiredRetirementAge,K38,NA())","v":{"v":119838.8671875,"d":"119,839"}},{"$f":"IF(Calculations!B38>=(DesiredRetirementAge-1),K38,NA())","v":{"$error":"#N/A"}},null,null,{"v":5001.682499999995,"d":"5,002"}]
[null,{"$f":"Age","v":43},{"$f":"Salary","v":{"v":54636.35,"d":"54,636"}},null,null,{"$f":"Balance","v":{"v":119838.8671875,"d":"119,839"}},{"$f":"Interest","v":{"v":7489.92919921875,"d":"7,490"}},{"$f":"YearlySavings","v":{"v":15000,"d":"15,000"}},{"$f":"DesiredRetirementIncome","v":0},{"$f":"PensionIncome","v":0},{"$f":"EndBalance","v":{"v":142328.79638671875,"d":"142,329"}},null,null,{"$f":"Balance_Under","v":{"v":117358.6509375,"d":"117,359"}},{"$f":"Interest_Under","v":{"v":6161.32917421875,"d":"6,161"}},{"$f":"YearlySavings_Under","v":{"v":15000,"d":"15,000"}},{"$f":"DesiredRetirementIncome","v":0},{"$f":"PensionIncome_Under","v":0},{"$f":"EndBalance","v":{"v":138519.98011171876,"d":"138,520"}},null,null,{"$f":"Balance_Over","v":{"v":122360.3334375,"d":"122,360"}},{"$f":"Interest_Over","v":{"v":8871.124174218749,"d":"8,871"}},{"$f":"YearlySavings_Over","v":{"v":15000,"d":"15,000"}},{"$f":"DesiredRetirementIncome","v":0},{"$f":"PensionIncome_Over","v":0},{"$f":"EndBalance","v":{"v":146231.45761171874,"d":"146,231"}},null,null,{"$f":"IF(Calculations!B39<DesiredRetirementAge,K39,NA())","v":{"v":142328.79638671875,"d":"142,329"}},{"$f":"IF(Calculations!B39>=(DesiredRetirementAge-1),K39,NA())","v":{"$error":"#N/A"}},null,null,{"v":7711.477499999979,"d":"7,711"}]
[null,{"$f":"Age","v":44},{"$f":"Salary","v":{"v":56275.4405,"d":"56,275"}},null,null,{"$f":"Balance","v":{"v":142328.79638671875,"d":"142,329"}},{"$f":"Interest","v":{"v":8895.549774169922,"d":"8,896"}},{"$f":"YearlySavings","v":{"v":15000,"d":"15,000"}},{"$f":"DesiredRetirementIncome","v":0},{"$f":"PensionIncome","v":0},{"$f":"EndBalance","v":{"v":166224.34616088867,"d":"166,224"}},null,null,{"$f":"Balance_Under","v":{"v":138519.98011171876,"d":"138,520"}},{"$f":"Interest_Under","v":{"v":7272.298955865234,"d":"7,272"}},{"$f":"YearlySavings_Under","v":{"v":15000,"d":"15,000"}},{"$f":"DesiredRetirementIncome","v":0},{"$f":"PensionIncome_Under","v":0},{"$f":"EndBalance","v":{"v":160792.279067584,"d":"160,792"}},null,null,{"$f":"Balance_Over","v":{"v":146231.45761171874,"d":"146,231"}},{"$f":"Interest_Over","v":{"v":10601.780676849608,"d":"10,602"}},{"$f":"YearlySavings_Over","v":{"v":15000,"d":"15,000"}},{"$f":"DesiredRetirementIncome","v":0},{"$f":"PensionIncome_Over","v":0},{"$f":"EndBalance","v":{"v":171833.23828856833,"d":"171,833"}},null,null,{"$f":"IF(Calculations!B40<DesiredRetirementAge,K40,NA())","v":{"v":166224.34616088867,"d":"166,224"}},{"$f":"IF(Calculations!B40>=(DesiredRetirementAge-1),K40,NA())","v":{"$error":"#N/A"}},null,null,{"v":11040.95922098434,"d":"11,041"}]
[null,{"$f":"Age","v":45},{"$f":"Salary","v":{"v":57963.703714999996,"d":"57,964"}},null,null,{"$f":"Balance","v":{"v":166224.34616088867,"d":"166,224"}},{"$f":"Interest","v":{"v":10389.021635055542,"d":"10,389"}},{"$f":"YearlySavings","v":{"v":15000,"d":"15,000"}},{"$f":"DesiredRetirementIncome","v":0},{"$f":"PensionIncome","v":0},{"$f":"EndBalance","v":{"v":191613.3677959442,"d":"191,613"}},null,null,{"$f":"Balance_Under","v":{"v":160792.279067584,"d":"160,792"}},{"$f":"Interest_Under","v":{"v":8441.594651048159,"d":"8,442"}},{"$f":"YearlySavings_Under","v":{"v":15000,"d":"15,000"}},{"$f":"DesiredRetirementIncome","v":0},{"$f":"PensionIncome_Under","v":0},{"$f":"EndBalance","v":{"v":184233.87371863215,"d":"184,234"}},null,null,{"$f":"Balance_Over","v":{"v":171833.23828856833,"d":"171,833"}},{"$f":"Interest_Over","v":{"v":12457.909775921204,"d":"12,458"}},{"$f":"YearlySavings_Over","v":{"v":15000,"d":"15,000"}},{"$f":"DesiredRetirementIncome","v":0},{"$f":"PensionIncome_Over","v":0},{"$f":"EndBalance","v":{"v":199291.14806448953,"d":"199,291"}},null,null,{"$f":"IF(Calculations!B41<DesiredRetirementAge,K41,NA())","v":{"v":191613.3677959442,"d":"191,613"}},{"$f":"IF(Calculations!B41>=(DesiredRetirementAge-1),K41,NA())","v":{"$error":"#N/A"}},null,null,{"v":15057.274345857382,"d":"15,057"}]
[null,{"$f":"Age","v":46},{"$f":"Salary","v":{"v":59702.61482644999,"d":"59,703"}},null,null,{"$f":"Balance","v":{"v":191613.3677959442,"d":"191,613"}},{"$f":"Interest","v":{"v":11975.835487246513,"d":"11,976"}},{"$f":"YearlySavings","v":{"v":15000,"d":"15,000"}},{"$f":"DesiredRetirementIncome","v":0},{"$f":"PensionIncome","v":0},{"$f":"EndBalance","v":{"v":218589.20328319073,"d":"218,589"}},null,null,{"$f":"Balance_Under","v":{"v":184233.87371863215,"d":"184,234"}},{"$f":"Interest_Under","v":{"v":9672.278370228187,"d":"9,672"}},{"$f":"YearlySavings_Under","v":{"v":15000,"d":"15,000"}},{"$f":"DesiredRetirementIncome","v":0},{"$f":"PensionIncome_Under","v":0},{"$f":"EndBalance","v":{"v":208906.15208886034,"d":"208,906"}},null,null,{"$f":"Balance_Over","v":{"v":199291.14806448953,"d":"199,291"}},{"$f":"Interest_Over","v":{"v":14448.60823467549,"d":"14,449"}},{"$f":"YearlySavings_Over","v":{"v":15000,"d":"15,000"}},{"$f":"DesiredRetirementIncome","v":0},{"$f":"PensionIncome_Over","v":0},{"$f":"EndBalance","v":{"v":228739.75629916502,"d":"228,740"}},null,null,{"$f":"IF(Calculations!B42<DesiredRetirementAge,K42,NA())","v":{"v":218589.20328319073,"d":"218,589"}},{"$f":"IF(Calculations!B42>=(DesiredRetirementAge-1),K42,NA())","v":{"$error":"#N/A"}},null,null,{"v":19833.60421030468,"d":"19,834"}]
[null,{"$f":"Age","v":47},{"$f":"Salary","v":{"v":61493.693271243494,"d":"61,494"}},null,null,{"$f":"Balance","v":{"v":218589.20328319073,"d":"218,589"}},{"$f":"Interest","v":{"v":13661.82520519942,"d":"13,662"}},{"$f":"YearlySavings","v":{"v":15000,"d":"15,000"}},{"$f":"DesiredRetirementIncome","v":0},{"$f":"PensionIncome","v":0},{"$f":"EndBalance","v":{"v":247251.02848839015,"d":"247,251"}},null,null,{"$f":"Balance_Under","v":{"v":208906.15208886034,"d":"208,906"}},{"$f":"Interest_Under","v":{"v":10967.572984665167,"d":"10,968"}},{"$f":"YearlySavings_Under","v":{"v":15000,"d":"15,000"}},{"$f":"DesiredRetirementIncome","v":0},{"$f":"PensionIncome_Under","v":0},{"$f":"EndBalance","v":{"v":234873.7250735255,"d":"234,874"}},null,null,{"$f":"Balance_Over","v":{"v":228739.75629916502,"d":"228,740"}},{"$f":"Interest_Over","v":{"v":16583.632331689463,"d":"16,584"}},{"$f":"YearlySavings_Over","v":{"v":15000,"d":"15,000"}},{"$f":"DesiredRetirementIncome","v":0},{"$f":"PensionIncome_Over","v":0},{"$f":"EndBalance","v":{"v":260323.3886308545,"d":"260,323"}},null,null,{"$f":"IF(Calculations!B43<DesiredRetirementAge,K43,NA())","v":{"v":247251.02848839015,"d":"247,251"}},{"$f":"IF(Calculations!B43>=(DesiredRetirementAge-1),K43,NA())","v":{"$error":"#N/A"}},null,null,{"v":25449.663557328982,"d":"25,450"}]
[null,{"$f":"Age","v":48},{"$f":"Salary","v":{"v":63338.5040693808,"d":"63,339"}},null,null,{"$f":"Balance","v":{"v":247251.02848839015,"d":"247,251"}},{"$f":"Interest","v":{"v":15453.189280524384,"d":"15,453"}},{"$f":"YearlySavings","v":{"v":15000,"d":"15,000"}},{"$f":"DesiredRetirementIncome","v":0},{"$f":"PensionIncome","v":0},{"$f":"EndBalance","v":{"v":277704.21776891453,"d":"277,704"}},null,null,{"$f":"Balance_Under","v":{"v":234873.7250735255,"d":"234,874"}},{"$f":"Interest_Under","v":{"v":12330.870566360089,"d":"12,331"}},{"$f":"YearlySavings_Under","v":{"v":15000,"d":"15,000"}},{"$f":"DesiredRetirementIncome","v":0},{"$f":"PensionIncome_Under","v":0},{"$f":"EndBalance","v":{"v":262204.59563988564,"d":"262,205"}},null,null,{"$f":"Balance_Over","v":{"v":260323.3886308545,"d":"260,323"}},{"$f":"Interest_Over","v":{"v":18873.445675736948,"d":"18,873"}},{"$f":"YearlySavings_Over","v":{"v":15000,"d":"15,000"}},{"$f":"DesiredRetirementIncome","v":0},{"$f":"PensionIncome_Over","v":0},{"$f":"EndBalance","v":{"v":294196.8343065914,"d":"294,197"}},null,null,{"$f":"IF(Calculations!B44<DesiredRetirementAge,K44,NA())","v":{"v":277704.21776891453,"d":"277,704"}},{"$f":"IF(Calculations!B44>=(DesiredRetirementAge-1),K44,NA())","v":{"$error":"#N/A"}},null,null,{"v":31992.238666705787,"d":"31,992"}]
[null,{"$f":"Age","v":49},{"$f":"Salary","v":{"v":65238.65919146222,"d":"65,239"}},null,null,{"$f":"Balance","v":{"v":277704.21776891453,"d":"277,704"}},{"$f":"Interest","v":{"v":17356.51361055716,"d":"17,357"}},{"$f":"YearlySavings","v":{"v":15000,"d":"15,000"}},{"$f":"DesiredRetirementIncome","v":0},{"$f":"PensionIncome","v":0},{"$f":"EndBalance","v":{"v":310060.7313794717,"d":"310,061"}},null,null,{"$f":"Balance_Under","v":{"v":262204.59563988564,"d":"262,205"}},{"$f":"Interest_Under","v":{"v":13765.741271093995,"d":"13,766"}},{"$f":"YearlySavings_Under","v":{"v":15000,"d":"15,000"}},{"$f":"DesiredRetirementIncome","v":0},{"$f":"PensionIncome_Under","v":0},{"$f":"EndBalance","v":{"v":290970.33691097965,"d":"290,970"}},null,null,{"$f":"Balance_Over","v":{"v":294196.8343065914,"d":"294,197"}},{"$f":"Interest_Over","v":{"v":21329.270487227877,"d":"21,329"}},{"$f":"YearlySavings_Over","v":{"v":15000,"d":"15,000"}},{"$f":"DesiredRetirementIncome","v":0},{"$f":"PensionIncome_Over","v":0},{"$f":"EndBalance","v":{"v":330526.1047938193,"d":"330,526"}},null,null,{"$f":"IF(Calculations!B45<DesiredRetirementAge,K45,NA())","v":{"v":310060.7313794717,"d":"310,061"}},{"$f":"IF(Calculations!B45>=(DesiredRetirementAge-1),K45,NA())","v":{"$error":"#N/A"}},null,null,{"v":39555.76788283966,"d":"39,556"}]
[null,{"$f":"Age","v":50},{"$f":"Salary","v":{"v":67195.81896720608,"d":"67,196"}},null,null,{"$f":"Balance","v":{"v":310060.7313794717,"d":"310,061"}},{"$f":"Interest","v":{"v":19378.795711216982,"d":"19,379"}},{"$f":"YearlySavings","v":{"v":15000,"d":"15,000"}},{"$f":"DesiredRetirementIncome","v":0},{"$f":"PensionIncome","v":0},{"$f":"EndBalance","v":{"v":344439.5270906887,"d":"344,440"}},null,null,{"$f":"Balance_Under","v":{"v":290970.33691097965,"d":"290,970"}},{"$f":"Interest_Under","v":{"v":15275.942687826431,"d":"15,276"}},{"$f":"YearlySavings_Under","v":{"v":15000,"d":"15,000"}},{"$f":"DesiredRetirementIncome","v":0},{"$f":"PensionIncome_Under","v":0},{"$f":"EndBalance","v":{"v":321246.27959880605,"d":"321,246"}},null,null,{"$f":"Balance_Over","v":{"v":330526.1047938193,"d":"330,526"}},{"$f":"Interest_Over","v":{"v":23963.142597551898,"d":"23,963"}},{"$f":"YearlySavings_Over","v":{"v":15000,"d":"15,000"}},{"$f":"DesiredRetirementIncome","v":0},{"$f":"PensionIncome_Over","v":0},{"$f":"EndBalance","v":{"v":369489.24739137123,"d":"369,489"}},null,null,{"$f":"IF(Calculations!B46<DesiredRetirementAge,K46,NA())","v":{"v":344439.5270906887,"d":"344,440"}},{"$f":"IF(Calculations!B46>=(DesiredRetirementAge-1),K46,NA())","v":{"$error":"#N/A"}},null,null,{"v":48242.96779256518,"d":"48,243"}]
[null,{"$f":"Age","v":51},{"$f":"Salary","v":{"v":69211.69353622227,"d":"69,212"}},null,null,{"$f":"Balance","v":{"v":344439.5270906887,"d":"344,440"}},{"$f":"Interest","v":{"v":21527.470443168044,"d":"21,527"}},{"$f":"YearlySavings","v":{"v":15000,"d":"15,000"}},{"$f":"DesiredRetirementIncome","v":0},{"$f":"PensionIncome","v":0},{"$f":"EndBalance","v":{"v":380966.9975338568,"d":"380,967"}},null,null,{"$f":"Balance_Under","v":{"v":321246.27959880605,"d":"321,246"}},{"$f":"Interest_Under","v":{"v":16865.42967893732,"d":"16,865"}},{"$f":"YearlySavings_Under","v":{"v":15000,"d":"15,000"}},{"$f":"DesiredRetirementIncome","v":0},{"$f":"PensionIncome_Under","v":0},{"$f":"EndBalance","v":{"v":353111.70927774336,"d":"353,112"}},null,null,{"$f":"Balance_Over","v":{"v":369489.24739137123,"d":"369,489"}},{"$f":"Interest_Over","v":{"v":26787.970435874413,"d":"26,788"}},{"$f":"YearlySavings_Over","v":{"v":15000,"d":"15,000"}},{"$f":"DesiredRetirementIncome","v":0},{"$f":"PensionIncome_Over","v":0},{"$f":"EndBalance","v":{"v":411277.21782724565,"d":"411,277"}},null,null,{"$f":"IF(Calculations!B47<DesiredRetirementAge,K47,NA())","v":{"v":380966.9975338568,"d":"380,967"}},{"$f":"IF(Calculations!B47>=(DesiredRetirementAge-1),K47,NA())","v":{"$error":"#N/A"}},null,null,{"v":58165.508549502294,"d":"58,166"}]
[null,{"$f":"Age","v":52},{"$f":"Salary","v":{"v":71288.04434230895,"d":"71,288"}},null,null,{"$f":"Balance","v":{"v":380966.9975338568,"d":"380,967"}},{"$f":"Interest","v":{"v":23810.43734586605,"d":"23,810"}},{"$f":"YearlySavings","v":{"v":15000,"d":"15,000"}},{"$f":"DesiredRetirementIncome","v":0},{"$f":"PensionIncome","v":0},{"$f":"EndBalance","v":{"v":419777.43487972283,"d":"419,777"}},null,null,{"$f":"Balance_Under","v":{"v":353111.70927774336,"d":"353,112"}},{"$f":"Interest_Under","v":{"v":18538.364737081527,"d":"18,538"}},{"$f":"YearlySavings_Under","v":{"v":15000,"d":"15,000"}},{"$f":"DesiredRetirementIncome","v":0},{"$f":"PensionIncome_Under","v":0},{"$f":"EndBalance","v":{"v":386650.0740148249,"d":"386,650"}},null,null,{"$f":"Balance_Over","v":{"v":411277.21782724565,"d":"411,277"}},{"$f":"Interest_Over","v":{"v":29817.598292475308,"d":"29,818"}},{"$f":"YearlySavings_Over","v":{"v":15000,"d":"15,000"}},{"$f":"DesiredRetirementIncome","v":0},{"$f":"PensionIncome_Over","v":0},{"$f":"EndBalance","v":{"v":456094.816119721,"d":"456,095"}},null,null,{"$f":"IF(Calculations!B48<DesiredRetirementAge,K48,NA())","v":{"v":419777.43487972283,"d":"419,777"}},{"$f":"IF(Calculations!B48>=(DesiredRetirementAge-1),K48,NA())","v":{"$error":"#N/A"}},null,null,{"v":69444.74210489611,"d":"69,445"}]
[null,{"$f":"Age","v":53},{"$f":"Salary","v":{"v":73426.68567257821,"d":"73,427"}},null,null,{"$f":"Balance","v":{"v":419777.43487972283,"d":"419,777"}},{"$f":"Interest","v":{"v":26236.089679982677,"d":"26,236"}},{"$f":"YearlySavings","v":{"v":15000,"d":"15,000"}},{"$f":"DesiredRetirementIncome","v":0},{"$f":"PensionIncome","v":0},{"$f":"EndBalance","v":{"v":461013.5245597055,"d":"461,014"}},null,null,{"$f":"Balance_Under","v":{"v":386650.0740148249,"d":"386,650"}},{"$f":"Interest_Under","v":{"v":20299.128885778304,"d":"20,299"}},{"$f":"YearlySavings_Under","v":{"v":15000,"d":"15,000"}},{"$f":"DesiredRetirementIncome","v":0},{"$f":"PensionIncome_Under","v":0},{"$f":"EndBalance","v":{"v":421949.2029006032,"d":"421,949"}},null,null,{"$f":"Balance_Over","v":{"v":456094.816119721,"d":"456,095"}},{"$f":"Interest_Over","v":{"v":33066.874168679766,"d":"33,067"}},{"$f":"YearlySavings_Over","v":{"v":15000,"d":"15,000"}},{"$f":"DesiredRetirementIncome","v":0},{"$f":"PensionIncome_Over","v":0},{"$f":"EndBalance","v":{"v":504161.69028840074,"d":"504,162"}},null,null,{"$f":"IF(Calculations!B49<DesiredRetirementAge,K49,NA())","v":{"v":461013.5245597055,"d":"461,014"}},{"$f":"IF(Calculations!B49>=(DesiredRetirementAge-1),K49,NA())","v":{"$error":"#N/A"}},null,null,{"v":82212.48738779756,"d":"82,212"}]
[null,{"$f":"Age","v":54},{"$f":"Salary","v":{"v":75629.48624275556,"d":"75,629"}},null,null,{"$f":"Balance","v":{"v":461013.5245597055,"d":"461,014"}},{"$f":"Interest","v":{"v":28813.345284981595,"d":"28,813"}},{"$f":"YearlySavings","v":{"v":15000,"d":"15,000"}},{"$f":"DesiredRetirementIncome","v":0},{"$f":"PensionIncome","v":0},{"$f":"EndBalance","v":{"v":504826.8698446871,"d":"504,827"}},null,null,{"$f":"Balance_Under","v":{"v":421949.2029006032,"d":"421,949"}},{"$f":"Interest_Under","v":{"v":22152.333152281666,"d":"22,152"}},{"$f":"YearlySavings_Under","v":{"v":15000,"d":"15,000"}},{"$f":"DesiredRetirementIncome","v":0},{"$f":"PensionIncome_Under","v":0},{"$f":"EndBalance","v":{"v":459101.5360528848,"d":"459,102"}},null,null,{"$f":"Balance_Over","v":{"v":504161.69028840074,"d":"504,162"}},{"$f":"Interest_Over","v":{"v":36551.72254590905,"d":"36,552"}},{"$f":"YearlySavings_Over","v":{"v":15000,"d":"15,000"}},{"$f":"DesiredRetirementIncome","v":0},{"$f":"PensionIncome_Over","v":0},{"$f":"EndBalance","v":{"v":555713.4128343097,"d":"555,713"}},null,null,{"$f":"IF(Calculations!B50<DesiredRetirementAge,K50,NA())","v":{"v":504826.8698446871,"d":"504,827"}},{"$f":"IF(Calculations!B50>=(DesiredRetirementAge-1),K50,NA())","v":{"$error":"#N/A"}},null,null,{"v":96611.87678142491,"d":"96,612"}]
[null,{"$f":"Age","v":55},{"$f":"Salary","v":{"v":77898.37083003823,"d":"77,898"}},null,null,{"$f":"Balance","v":{"v":504826.8698446871,"d":"504,827"}},{"$f":"Interest","v":{"v":31551.679365292945,"d":"31,552"}},{"$f":"YearlySavings","v":{"v":15000,"d":"15,000"}},{"$f":"DesiredRetirementIncome","v":0},{"$f":"PensionIncome","v":0},{"$f":"EndBalance","v":{"v":551378.5492099801,"d":"551,379"}},null,null,{"$f":"Balance_Under","v":{"v":459101.5360528848,"d":"459,102"}},{"$f":"Interest_Under","v":{"v":24102.83064277645,"d":"24,103"}},{"$f":"YearlySavings_Under","v":{"v":15000,"d":"15,000"}},{"$f":"DesiredRetirementIncome","v":0},{"$f":"PensionIncome_Under","v":0},{"$f":"EndBalance","v":{"v":498204.3666956613,"d":"498,204"}},null,null,{"$f":"Balance_Over","v":{"v":555713.4128343097,"d":"555,713"}},{"$f":"Interest_Over","v":{"v":40289.222430487454,"d":"40,289"}},{"$f":"YearlySavings_Over","v":{"v":15000,"d":"15,000"}},{"$f":"DesiredRetirementIncome","v":0},{"$f":"PensionIncome_Over","v":0},{"$f":"EndBalance","v":{"v":611002.6352647971,"d":"611,003"}},null,null,{"$f":"IF(Calculations!B51<DesiredRetirementAge,K51,NA())","v":{"v":551378.5492099801,"d":"551,379"}},{"$f":"IF(Calculations!B51>=(DesiredRetirementAge-1),K51,NA())","v":{"$error":"#N/A"}},null,null,{"v":112798.26856913586,"d":"112,798"}]
[null,{"$f":"Age","v":56},{"$f":"Salary","v":{"v":80235.32195493937,"d":"80,235"}},null,null,{"$f":"Balance","v":{"v":551378.5492099801,"d":"551,379"}},{"$f":"Interest","v":{"v":34461.159325623754,"d":"34,461"}},{"$f":"YearlySavings","v":{"v":15000,"d":"15,000"}},{"$f":"DesiredRetirementIncome","v":0},{"$f":"PensionIncome","v":0},{"$f":"EndBalance","v":{"v":600839.7085356038,"d":"600,840"}},null,null,{"$f":"Balance_Under","v":{"v":498204.3666956613,"d":"498,204"}},{"$f":"Interest_Under","v":{"v":26155.729251522214,"d":"26,156"}},{"$f":"YearlySavings_Under","v":{"v":15000,"d":"15,000"}},{"$f":"DesiredRetirementIncome","v":0},{"$f":"PensionIncome_Under","v":0},{"$f":"EndBalance","v":{"v":539360.0959471834,"d":"539,360"}},null,null,{"$f":"Balance_Over","v":{"v":611002.6352647971,"d":"611,003"}},{"$f":"Interest_Over","v":{"v":44297.69105669779,"d":"44,298"}},{"$f":"YearlySavings_Over","v":{"v":15000,"d":"15,000"}},{"$f":"DesiredRetirementIncome","v":0},{"$f":"PensionIncome_Over","v":0},{"$f":"EndBalance","v":{"v":670300.3263214949,"d":"670,300"}},null,null,{"$f":"IF(Calculations!B52<DesiredRetirementAge,K52,NA())","v":{"v":600839.7085356038,"d":"600,840"}},{"$f":"IF(Calculations!B52>=(DesiredRetirementAge-1),K52,NA())","v":{"$error":"#N/A"}},null,null,{"v":130940.23037431145,"d":"130,940"}]
[null,{"$f":"Age","v":57},{"$f":"Salary","v":{"v":82642.38161358755,"d":"82,642"}},null,null,{"$f":"Balance","v":{"v":600839.7085356038,"d":"600,840"}},{"$f":"Interest","v":{"v":37552.48178347524,"d":"37,552"}},{"$f":"YearlySavings","v":{"v":15000,"d":"15,000"}},{"$f":"DesiredRetirementIncome","v":0},{"$f":"PensionIncome","v":0},{"$f":"EndBalance","v":{"v":653392.1903190791,"d":"653,392"}},null,null,{"$f":"Balance_Under","v":{"v":539360.0959471834,"d":"539,360"}},{"$f":"Interest_Under","v":{"v":28316.40503722713,"d":"28,316"}},{"$f":"YearlySavings_Under","v":{"v":15000,"d":"15,000"}},{"$f":"DesiredRetirementIncome","v":0},{"$f":"PensionIncome_Under","v":0},{"$f":"EndBalance","v":{"v":582676.5009844105,"d":"582,677"}},null,null,{"$f":"Balance_Over","v":{"v":670300.3263214949,"d":"670,300"}},{"$f":"Interest_Over","v":{"v":48596.773658308375,"d":"48,597"}},{"$f":"YearlySavings_Over","v":{"v":15000,"d":"15,000"}},{"$f":"DesiredRetirementIncome","v":0},{"$f":"PensionIncome_Over","v":0},{"$f":"EndBalance","v":{"v":733897.0999798032,"d":"733,897"}},null,null,{"$f":"IF(Calculations!B53<DesiredRetirementAge,K53,NA())","v":{"v":653392.1903190791,"d":"653,392"}},{"$f":"IF(Calculations!B53>=(DesiredRetirementAge-1),K53,NA())","v":{"$error":"#N/A"}},null,null,{"v":151220.59899539268,"d":"151,221"}]
[null,{"$f":"Age","v":58},{"$f":"Salary","v":{"v":85121.65306199518,"d":"85,122"}},null,null,{"$f":"Balance","v":{"v":653392.1903190791,"d":"653,392"}},{"$f":"Interest","v":{"v":40837.01189494244,"d":"40,837"}},{"$f":"YearlySavings","v":{"v":15000,"d":"15,000"}},{"$f":"DesiredRetirementIncome","v":0},{"$f":"PensionIncome","v":0},{"$f":"EndBalance","v":{"v":709229.2022140216,"d":"709,229"}},null,null,{"$f":"Balance_Under","v":{"v":582676.5009844105,"d":"582,677"}},{"$f":"Interest_Under","v":{"v":30590.51630168155,"d":"30,591"}},{"$f":"YearlySavings_Under","v":{"v":15000,"d":"15,000"}},{"$f":"DesiredRetirementIncome","v":0},{"$f":"PensionIncome_Under","v":0},{"$f":"EndBalance","v":{"v":628267.017286092,"d":"628,267"}},null,null,{"$f":"Balance_Over","v":{"v":733897.0999798032,"d":"733,897"}},{"$f":"Interest_Over","v":{"v":53207.53974853573,"d":"53,208"}},{"$f":"YearlySavings_Over","v":{"v":15000,"d":"15,000"}},{"$f":"DesiredRetirementIncome","v":0},{"$f":"PensionIncome_Over","v":0},{"$f":"EndBalance","v":{"v":802104.6397283389,"d":"802,105"}},null,null,{"$f":"IF(Calculations!B54<DesiredRetirementAge,K54,NA())","v":{"v":709229.2022140216,"d":"709,229"}},{"$f":"IF(Calculations!B54>=(DesiredRetirementAge-1),K54,NA())","v":{"$error":"#N/A"}},null,null,{"v":173837.62244224688,"d":"173,838"}]
[null,{"$f":"Age","v":59},{"$f":"Salary","v":{"v":87675.30265385503,"d":"87,675"}},null,null,{"$f":"Balance","v":{"v":709229.2022140216,"d":"709,229"}},{"$f":"Interest","v":{"v":44326.82513837635,"d":"44,327"}},{"$f":"YearlySavings","v":{"v":15000,"d":"15,000"}},{"$f":"DesiredRetirementIncome","v":0},{"$f":"PensionIncome","v":0},{"$f":"EndBalance","v":{"v":768556.0273523979,"d":"768,556"}},null,null,{"$f":"Balance_Under","v":{"v":628267.017286092,"d":"628,267"}},{"$f":"Interest_Under","v":{"v":32984.018407519834,"d":"32,984"}},{"$f":"YearlySavings_Under","v":{"v":15000,"d":"15,000"}},{"$f":"DesiredRetirementIncome","v":0},{"$f":"PensionIncome_Under","v":0},{"$f":"EndBalance","v":{"v":676251.0356936118,"d":"676,251"}},null,null,{"$f":"Balance_Over","v":{"v":802104.6397283389,"d":"802,105"}},{"$f":"Interest_Over","v":{"v":58152.586380304565,"d":"58,153"}},{"$f":"YearlySavings_Over","v":{"v":15000,"d":"15,000"}},{"$f":"DesiredRetirementIncome","v":0},{"$f":"PensionIncome_Over","v":0},{"$f":"EndBalance","v":{"v":875257.2261086435,"d":"875,257"}},null,null,{"$f":"IF(Calculations!B55<DesiredRetirementAge,K55,NA())","v":{"v":768556.0273523979,"d":"768,556"}},{"$f":"IF(Calculations!B55>=(DesiredRetirementAge-1),K55,NA())","v":{"$error":"#N/A"}},null,null,{"v":199006.19041503163,"d":"199,006"}]
[null,{"$f":"Age","v":60},{"$f":"Salary","v":{"v":90305.56173347068,"d":"90,306"}},null,null,{"$f":"Balance","v":{"v":768556.0273523979,"d":"768,556"}},{"$f":"Interest","v":{"v":48034.75170952487,"d":"48,035"}},{"$f":"YearlySavings","v":{"v":15000,"d":"15,000"}},{"$f":"DesiredRetirementIncome","v":0},{"$f":"PensionIncome","v":0},{"$f":"EndBalance","v":{"v":831590.7790619228,"d":"831,591"}},null,null,{"$f":"Balance_Under","v":{"v":676251.0356936118,"d":"676,251"}},{"$f":"Interest_Under","v":{"v":35503.17937391462,"d":"35,503"}},{"$f":"YearlySavings_Under","v":{"v":15000,"d":"15,000"}},{"$f":"DesiredRetirementIncome","v":0},{"$f":"PensionIncome_Under","v":0},{"$f":"EndBalance","v":{"v":726754.2150675264,"d":"726,754"}},null,null,{"$f":"Balance_Over","v":{"v":875257.2261086435,"d":"875,257"}},{"$f":"Interest_Over","v":{"v":63456.14889287665,"d":"63,456"}},{"$f":"YearlySavings_Over","v":{"v":15000,"d":"15,000"}},{"$f":"DesiredRetirementIncome","v":0},{"$f":"PensionIncome_Over","v":0},{"$f":"EndBalance","v":{"v":953713.3750015202,"d":"953,713"}},null,null,{"$f":"IF(Calculations!B56<DesiredRetirementAge,K56,NA())","v":{"v":831590.7790619228,"d":"831,591"}},{"$f":"IF(Calculations!B56>=(DesiredRetirementAge-1),K56,NA())","v":{"$error":"#N/A"}},null,null,{"v":226959.1599339937,"d":"226,959"}]
[null,{"$f":"Age","v":61},{"$f":"Salary","v":{"v":93014.7285854748,"d":"93,015"}},null,null,{"$f":"Balance","v":{"v":831590.7790619228,"d":"831,591"}},{"$f":"Interest","v":{"v":51974.423691370175,"d":"51,974"}},{"$f":"YearlySavings","v":{"v":15000,"d":"15,000"}},{"$f":"DesiredRetirementIncome","v":0},{"$f":"PensionIncome","v":0},{"$f":"EndBalance","v":{"v":898565.202753293,"d":"898,565"}},null,null,{"$f":"Balance_Under","v":{"v":726754.2150675264,"d":"726,754"}},{"$f":"Interest_Under","v":{"v":38154.596291045134,"d":"38,155"}},{"$f":"YearlySavings_Under","v":{"v":15000,"d":"15,000"}},{"$f":"DesiredRetirementIncome","v":0},{"$f":"PensionIncome_Under","v":0},{"$f":"EndBalance","v":{"v":779908.8113585715,"d":"779,909"}},null,null,{"$f":"Balance_Over","v":{"v":953713.3750015202,"d":"953,713"}},{"$f":"Interest_Over","v":{"v":69144.21968761021,"d":"69,144"}},{"$f":"YearlySavings_Over","v":{"v":15000,"d":"15,000"}},{"$f":"DesiredRetirementIncome","v":0},{"$f":"PensionIncome_Over","v":0},{"$f":"EndBalance","v":{"v":1037857.5946891303,"d":"1,037,858"}},null,null,{"$f":"IF(Calculations!B57<DesiredRetirementAge,K57,NA())","v":{"v":898565.202753293,"d":"898,565"}},{"$f":"IF(Calculations!B57>=(DesiredRetirementAge-1),K57,NA())","v":{"$error":"#N/A"}},null,null,{"v":257948.7833305588,"d":"257,949"}]
[null,{"$f":"Age","v":62},{"$f":"Salary","v":{"v":95805.17044303905,"d":"95,805"}},null,null,{"$f":"Balance","v":{"v":898565.202753293,"d":"898,565"}},{"$f":"Interest","v":{"v":56160.32517208081,"d":"56,160"}},{"$f":"YearlySavings","v":{"v":15000,"d":"15,000"}},{"$f":"DesiredRetirementIncome","v":0},{"$f":"PensionIncome","v":0},{"$f":"EndBalance","v":{"v":969725.5279253738,"d":"969,726"}},null,null,{"$f":"Balance_Under","v":{"v":779908.8113585715,"d":"779,909"}},{"$f":"Interest_Under","v":{"v":40945.212596325,"d":"40,945"}},{"$f":"YearlySavings_Under","v":{"v":15000,"d":"15,000"}},{"$f":"DesiredRetirementIncome","v":0},{"$f":"PensionIncome_Under","v":0},{"$f":"EndBalance","v":{"v":835854.0239548965,"d":"835,854"}},null,null,{"$f":"Balance_Over","v":{"v":1037857.5946891303,"d":"1,037,858"}},{"$f":"Interest_Over","v":{"v":75244.67561496195,"d":"75,245"}},{"$f":"YearlySavings_Over","v":{"v":15000,"d":"15,000"}},{"$f":"DesiredRetirementIncome","v":0},{"$f":"PensionIncome_Over","v":0},{"$f":"EndBalance","v":{"v":1128102.2703040922,"d":"1,128,102"}},null,null,{"$f":"IF(Calculations!B58<DesiredRetirementAge,K58,NA())","v":{"v":969725.5279253738,"d":"969,726"}},{"$f":"IF(Calculations!B58>=(DesiredRetirementAge-1),K58,NA())","v":{"$error":"#N/A"}},null,null,{"v":292248.2463491957,"d":"292,248"}]
[null,{"$f":"Age","v":63},{"$f":"Salary","v":{"v":98679.32555633022,"d":"98,679"}},null,null,{"$f":"Balance","v":{"v":969725.5279253738,"d":"969,726"}},{"$f":"Interest","v":{"v":60607.84549533586,"d":"60,608"}},{"$f":"YearlySavings","v":{"v":15000,"d":"15,000"}},{"$f":"DesiredRetirementIncome","v":0},{"$f":"PensionIncome","v":0},{"$f":"EndBalance","v":{"v":1045333.3734207096,"d":"1,045,333"}},null,null,{"$f":"Balance_Under","v":{"v":835854.0239548965,"d":"835,854"}},{"$f":"Interest_Under","v":{"v":43882.336257632065,"d":"43,882"}},{"$f":"YearlySavings_Under","v":{"v":15000,"d":"15,000"}},{"$f":"DesiredRetirementIncome","v":0},{"$f":"PensionIncome_Under","v":0},{"$f":"EndBalance","v":{"v":894736.3602125286,"d":"894,736"}},null,null,{"$f":"Balance_Over","v":{"v":1128102.2703040922,"d":"1,128,102"}},{"$f":"Interest_Over","v":{"v":81787.41459704668,"d":"81,787"}},{"$f":"YearlySavings_Over","v":{"v":15000,"d":"15,000"}},{"$f":"DesiredRetirementIncome","v":0},{"$f":"PensionIncome_Over","v":0},{"$f":"EndBalance","v":{"v":1224889.6849011388,"d":"1,224,890"}},null,null,{"$f":"IF(Calculations!B59<DesiredRetirementAge,K59,NA())","v":{"v":1045333.3734207096,"d":"1,045,333"}},{"$f":"IF(Calculations!B59>=(DesiredRetirementAge-1),K59,NA())","v":{"$error":"#N/A"}},null,null,{"v":330153.32468861016,"d":"330,153"}]
[null,{"$f":"Age","v":64},{"$f":"Salary","v":{"v":101639.70532302013,"d":"101,640"}},null,null,{"$f":"Balance","v":{"v":1045333.3734207096,"d":"1,045,333"}},{"$f":"Interest","v":{"v":65333.33583879435,"d":"65,333"}},{"$f":"YearlySavings","v":{"v":15000,"d":"15,000"}},{"$f":"DesiredRetirementIncome","v":0},{"$f":"PensionIncome","v":0},{"$f":"EndBalance","v":{"v":1125666.709259504,"d":"1,125,667"}},null,null,{"$f":"Balance_Under","v":{"v":894736.3602125286,"d":"894,736"}},{"$f":"Interest_Under","v":{"v":46973.65891115775,"d":"46,974"}},{"$f":"YearlySavings_Under","v":{"v":15000,"d":"15,000"}},{"$f":"DesiredRetirementIncome","v":0},{"$f":"PensionIncome_Under","v":0},{"$f":"EndBalance","v":{"v":956710.0191236864,"d":"956,710"}},null,null,{"$f":"Balance_Over","v":{"v":1224889.6849011388,"d":"1,224,890"}},{"$f":"Interest_Over","v":{"v":88804.50215533255,"d":"88,805"}},{"$f":"YearlySavings_Over","v":{"v":15000,"d":"15,000"}},{"$f":"DesiredRetirementIncome","v":0},{"$f":"PensionIncome_Over","v":0},{"$f":"EndBalance","v":{"v":1328694.1870564714,"d":"1,328,694"}},null,null,{"$f":"IF(Calculations!B60<DesiredRetirementAge,K60,NA())","v":{"v":1125666.709259504,"d":"1,125,667"}},{"$f":"IF(Calculations!B60>=(DesiredRetirementAge-1),K60,NA())","v":{"v":1125666.709259504,"d":"1,125,667"}},null,null,{"v":371984.167932785,"d":"371,984"}]
[null,{"$f":"Age","v":65},{"$f":"Salary","v":0},null,null,{"$f":"Balance","v":{"v":1125666.709259504,"d":"1,125,667"}},{"$f":"Interest","v":{"v":70354.169328719,"d":"70,354"}},{"$f":"YearlySavings","v":0},{"$f":"DesiredRetirementIncome","v":{"v":78516.67236203302,"d":"78,517"}},{"$f":"PensionIncome","v":0},{"$f":"EndBalance","v":{"v":1117504.2062261899,"d":"1,117,504"}},null,null,{"$f":"Balance_Under","v":{"v":956710.0191236864,"d":"956,710"}},{"$f":"Interest_Under","v":{"v":50227.27600399353,"d":"50,227"}},{"$f":"YearlySavings_Under","v":0},{"$f":"DesiredRetirementIncome","v":{"v":78516.67236203302,"d":"78,517"}},{"$f":"PensionIncome_Under","v":0},{"$f":"EndBalance","v":{"v":928420.6227656469,"d":"928,421"}},null,null,{"$f":"Balance_Over","v":{"v":1328694.1870564714,"d":"1,328,694"}},{"$f":"Interest_Over","v":{"v":96330.32856159417,"d":"96,330"}},{"$f":"YearlySavings_Over","v":0},{"$f":"DesiredRetirementIncome","v":{"v":78516.67236203302,"d":"78,517"}},{"$f":"PensionIncome_Over","v":0},{"$f":"EndBalance","v":{"v":1346507.8432560326,"d":"1,346,508"}},null,null,{"$f":"IF(Calculations!B61<DesiredRetirementAge,K61,NA())","v":{"$error":"#N/A"}},{"$f":"IF(Calculations!B61>=(DesiredRetirementAge-1),K61,NA())","v":{"v":1117504.2062261899,"d":"1,117,504"}},null,null,{"v":418087.22049038566,"d":"418,087"}]
[null,{"$f":"Age","v":66},{"$f":"Salary","v":0},null,null,{"$f":"Balance","v":{"v":1117504.2062261899,"d":"1,117,504"}},{"$f":"Interest","v":{"v":69844.01288913687,"d":"69,844"}},{"$f":"YearlySavings","v":0},{"$f":"DesiredRetirementIncome","v":{"v":80872.17253289402,"d":"80,872"}},{"$f":"PensionIncome","v":0},{"$f":"EndBalance","v":{"v":1106476.0465824327,"d":"1,106,476"}},null,null,{"$f":"Balance_Under","v":{"v":928420.6227656469,"d":"928,421"}},{"$f":"Interest_Under","v":{"v":48742.08269519646,"d":"48,742"}},{"$f":"YearlySavings_Under","v":0},{"$f":"DesiredRetirementIncome","v":{"v":80872.17253289402,"d":"80,872"}},{"$f":"PensionIncome_Under","v":0},{"$f":"EndBalance","v":{"v":896290.5329279493,"d":"896,291"}},null,null,{"$f":"Balance_Over","v":{"v":1346507.8432560326,"d":"1,346,508"}},{"$f":"Interest_Over","v":{"v":97621.81863606235,"d":"97,622"}},{"$f":"YearlySavings_Over","v":0},{"$f":"DesiredRetirementIncome","v":{"v":80872.17253289402,"d":"80,872"}},{"$f":"PensionIncome_Over","v":0},{"$f":"EndBalance","v":{"v":1363257.489359201,"d":"1,363,257"}},null,null,{"$f":"IF(Calculations!B62<DesiredRetirementAge,K62,NA())","v":{"$error":"#N/A"}},{"$f":"IF(Calculations!B62>=(DesiredRetirementAge-1),K62,NA())","v":{"v":1106476.0465824327,"d":"1,106,476"}},null,null,{"v":466966.9564312516,"d":"466,967"}]
[null,{"$f":"Age","v":67},{"$f":"Salary","v":0},null,null,{"$f":"Balance","v":{"v":1106476.0465824327,"d":"1,106,476"}},{"$f":"Interest","v":{"v":69154.75291140204,"d":"69,155"}},{"$f":"YearlySavings","v":0},{"$f":"DesiredRetirementIncome","v":{"v":83298.33770888083,"d":"83,298"}},{"$f":"PensionIncome","v":0},{"$f":"EndBalance","v":{"v":1092332.461784954,"d":"1,092,332"}},null,null,{"$f":"Balance_Under","v":{"v":896290.5329279493,"d":"896,291"}},{"$f":"Interest_Under","v":{"v":47055.25297871734,"d":"47,055"}},{"$f":"YearlySavings_Under","v":0},{"$f":"DesiredRetirementIncome","v":{"v":83298.33770888083,"d":"83,298"}},{"$f":"PensionIncome_Under","v":0},{"$f":"EndBalance","v":{"v":860047.4481977858,"d":"860,047"}},null,null,{"$f":"Balance_Over","v":{"v":1363257.489359201,"d":"1,363,257"}},{"$f":"Interest_Over","v":{"v":98836.16797854206,"d":"98,836"}},{"$f":"YearlySavings_Over","v":0},{"$f":"DesiredRetirementIncome","v":{"v":83298.33770888083,"d":"83,298"}},{"$f":"PensionIncome_Over","v":0},{"$f":"EndBalance","v":{"v":1378795.3196288622,"d":"1,378,795"}},null,null,{"$f":"IF(Calculations!B63<DesiredRetirementAge,K63,NA())","v":{"$error":"#N/A"}},{"$f":"IF(Calculations!B63>=(DesiredRetirementAge-1),K63,NA())","v":{"v":1092332.461784954,"d":"1,092,332"}},null,null,{"v":518747.87143107643,"d":"518,748"}]
[null,{"$f":"Age","v":68},{"$f":"Salary","v":0},null,null,{"$f":"Balance","v":{"v":1092332.461784954,"d":"1,092,332"}},{"$f":"Interest","v":{"v":68270.77886155962,"d":"68,271"}},{"$f":"YearlySavings","v":0},{"$f":"DesiredRetirementIncome","v":{"v":85797.28784014726,"d":"85,797"}},{"$f":"PensionIncome","v":0},{"$f":"EndBalance","v":{"v":1074805.9528063664,"d":"1,074,806"}},null,null,{"$f":"Balance_Under","v":{"v":860047.4481977858,"d":"860,047"}},{"$f":"Interest_Under","v":{"v":45152.49103038375,"d":"45,152"}},{"$f":"YearlySavings_Under","v":0},{"$f":"DesiredRetirementIncome","v":{"v":85797.28784014726,"d":"85,797"}},{"$f":"PensionIncome_Under","v":0},{"$f":"EndBalance","v":{"v":819402.6513880222,"d":"819,403"}},null,null,{"$f":"Balance_Over","v":{"v":1378795.3196288622,"d":"1,378,795"}},{"$f":"Interest_Over","v":{"v":99962.6606730925,"d":"99,963"}},{"$f":"YearlySavings_Over","v":0},{"$f":"DesiredRetirementIncome","v":{"v":85797.28784014726,"d":"85,797"}},{"$f":"PensionIncome_Over","v":0},{"$f":"EndBalance","v":{"v":1392960.6924618075,"d":"1,392,961"}},null,null,{"$f":"IF(Calculations!B64<DesiredRetirementAge,K64,NA())","v":{"$error":"#N/A"}},{"$f":"IF(Calculations!B64>=(DesiredRetirementAge-1),K64,NA())","v":{"v":1074805.9528063664,"d":"1,074,806"}},null,null,{"v":573558.0410737853,"d":"573,558"}]
[null,{"$f":"Age","v":69},{"$f":"Salary","v":0},null,null,{"$f":"Balance","v":{"v":1074805.9528063664,"d":"1,074,806"}},{"$f":"Interest","v":{"v":67175.3720503979,"d":"67,175"}},{"$f":"YearlySavings","v":0},{"$f":"DesiredRetirementIncome","v":{"v":88371.20647535166,"d":"88,371"}},{"$f":"PensionIncome","v":0},{"$f":"EndBalance","v":{"v":1053610.1183814125,"d":"1,053,610"}},null,null,{"$f":"Balance_Under","v":{"v":819402.6513880222,"d":"819,403"}},{"$f":"Interest_Under","v":{"v":43018.63919787117,"d":"43,019"}},{"$f":"YearlySavings_Under","v":0},{"$f":"DesiredRetirementIncome","v":{"v":88371.20647535166,"d":"88,371"}},{"$f":"PensionIncome_Under","v":0},{"$f":"EndBalance","v":{"v":774050.0841105417,"d":"774,050"}},null,null,{"$f":"Balance_Over","v":{"v":1392960.6924618075,"d":"1,392,961"}},{"$f":"Interest_Over","v":{"v":100989.65020348104,"d":"100,990"}},{"$f":"YearlySavings_Over","v":0},{"$f":"DesiredRetirementIncome","v":{"v":88371.20647535166,"d":"88,371"}},{"$f":"PensionIncome_Over","v":0},{"$f":"EndBalance","v":{"v":1405579.136189937,"d":"1,405,579"}},null,null,{"$f":"IF(Calculations!B65<DesiredRetirementAge,K65,NA())","v":{"$error":"#N/A"}},{"$f":"IF(Calculations!B65>=(DesiredRetirementAge-1),K65,NA())","v":{"v":1053610.1183814125,"d":"1,053,610"}},null,null,{"$f":"AA65-S65","v":{"v":631529.0520793952,"d":"631,529"}}]
[null,{"$f":"Age","v":70},{"$f":"Salary","v":0},null,null,{"$f":"Balance","v":{"v":1053610.1183814125,"d":"1,053,610"}},{"$f":"Interest","v":{"v":65850.63239883828,"d":"65,851"}},{"$f":"YearlySavings","v":0},{"$f":"DesiredRetirementIncome","v":{"v":91022.34266961222,"d":"91,022"}},{"$f":"PensionIncome","v":0},{"$f":"EndBalance","v":{"v":1028438.4081106384,"d":"1,028,438"}},null,null,{"$f":"Balance_Under","v":{"v":774050.0841105417,"d":"774,050"}},{"$f":"Interest_Under","v":{"v":40637.629415803436,"d":"40,638"}},{"$f":"YearlySavings_Under","v":0},{"$f":"DesiredRetirementIncome","v":{"v":91022.34266961222,"d":"91,022"}},{"$f":"PensionIncome_Under","v":0},{"$f":"EndBalance","v":{"v":723665.370856733,"d":"723,665"}},null,null,{"$f":"Balance_Over","v":{"v":1405579.136189937,"d":"1,405,579"}},{"$f":"Interest_Over","v":{"v":101904.48737377042,"d":"101,904"}},{"$f":"YearlySavings_Over","v":0},{"$f":"DesiredRetirementIncome","v":{"v":91022.34266961222,"d":"91,022"}},{"$f":"PensionIncome_Over","v":0},{"$f":"EndBalance","v":{"v":1416461.280894095,"d":"1,416,461"}},null,null,{"$f":"IF(Calculations!B66<DesiredRetirementAge,K66,NA())","v":{"$error":"#N/A"}},{"$f":"IF(Calculations!B66>=(DesiredRetirementAge-1),K66,NA())","v":{"v":1028438.4081106384,"d":"1,028,438"}},null,null,{"v":692795.9100373621,"d":"692,796"}]
[null,{"$f":"Age","v":71},{"$f":"Salary","v":0},null,null,{"$f":"Balance","v":{"v":1028438.4081106384,"d":"1,028,438"}},{"$f":"Interest","v":{"v":64277.4005069149,"d":"64,277"}},{"$f":"YearlySavings","v":0},{"$f":"DesiredRetirementIncome","v":{"v":93753.0129497006,"d":"93,753"}},{"$f":"PensionIncome","v":0},{"$f":"EndBalance","v":{"v":998962.7956678526,"d":"998,963"}},null,null,{"$f":"Balance_Under","v":{"v":723665.370856733,"d":"723,665"}},{"$f":"Interest_Under","v":{"v":37992.431969978476,"d":"37,992"}},{"$f":"YearlySavings_Under","v":0},{"$f":"DesiredRetirementIncome","v":{"v":93753.0129497006,"d":"93,753"}},{"$f":"PensionIncome_Under","v":0},{"$f":"EndBalance","v":{"v":667904.7898770109,"d":"667,905"}},null,null,{"$f":"Balance_Over","v":{"v":1416461.280894095,"d":"1,416,461"}},{"$f":"Interest_Over","v":{"v":102693.44286482189,"d":"102,693"}},{"$f":"YearlySavings_Over","v":0},{"$f":"DesiredRetirementIncome","v":{"v":93753.0129497006,"d":"93,753"}},{"$f":"PensionIncome_Over","v":0},{"$f":"EndBalance","v":{"v":1425401.7108092164,"d":"1,425,402"}},null,null,{"$f":"IF(Calculations!B67<DesiredRetirementAge,K67,NA())","v":{"$error":"#N/A"}},{"$f":"IF(Calculations!B67>=(DesiredRetirementAge-1),K67,NA())","v":{"v":998962.7956678526,"d":"998,963"}},null,null,{"v":757496.9209322055,"d":"757,497"}]
[null,{"$f":"Age","v":72},{"$f":"Salary","v":0},null,null,{"$f":"Balance","v":{"v":998962.7956678526,"d":"998,963"}},{"$f":"Interest","v":{"v":62435.17472924079,"d":"62,435"}},{"$f":"YearlySavings","v":0},{"$f":"DesiredRetirementIncome","v":{"v":96565.60333819159,"d":"96,566"}},{"$f":"PensionIncome","v":0},{"$f":"EndBalance","v":{"v":964832.3670589017,"d":"964,832"}},null,null,{"$f":"Balance_Under","v":{"v":667904.7898770109,"d":"667,905"}},{"$f":"Interest_Under","v":{"v":35065.00146854307,"d":"35,065"}},{"$f":"YearlySavings_Under","v":0},{"$f":"DesiredRetirementIncome","v":{"v":96565.60333819159,"d":"96,566"}},{"$f":"PensionIncome_Under","v":0},{"$f":"EndBalance","v":{"v":606404.1880073623,"d":"606,404"}},null,null,{"$f":"Balance_Over","v":{"v":1425401.7108092164,"d":"1,425,402"}},{"$f":"Interest_Over","v":{"v":103341.62403366818,"d":"103,342"}},{"$f":"YearlySavings_Over","v":0},{"$f":"DesiredRetirementIncome","v":{"v":96565.60333819159,"d":"96,566"}},{"$f":"PensionIncome_Over","v":0},{"$f":"EndBalance","v":{"v":1432177.731504693,"d":"1,432,178"}},null,null,{"$f":"IF(Calculations!B68<DesiredRetirementAge,K68,NA())","v":{"$error":"#N/A"}},{"$f":"IF(Calculations!B68>=(DesiredRetirementAge-1),K68,NA())","v":{"v":964832.3670589017,"d":"964,832"}},null,null,{"v":825773.5434973306,"d":"825,774"}]
[null,{"$f":"Age","v":73},{"$f":"Salary","v":0},null,null,{"$f":"Balance","v":{"v":964832.3670589017,"d":"964,832"}},{"$f":"Interest","v":{"v":60302.022941181356,"d":"60,302"}},{"$f":"YearlySavings","v":0},{"$f":"DesiredRetirementIncome","v":{"v":99462.57143833736,"d":"99,463"}},{"$f":"PensionIncome","v":0},{"$f":"EndBalance","v":{"v":925671.8185617457,"d":"925,672"}},null,null,{"$f":"Balance_Under","v":{"v":606404.1880073623,"d":"606,404"}},{"$f":"Interest_Under","v":{"v":31836.21987038652,"d":"31,836"}},{"$f":"YearlySavings_Under","v":0},{"$f":"DesiredRetirementIncome","v":{"v":99462.57143833736,"d":"99,463"}},{"$f":"PensionIncome_Under","v":0},{"$f":"EndBalance","v":{"v":538777.8364394115,"d":"538,778"}},null,null,{"$f":"Balance_Over","v":{"v":1432177.731504693,"d":"1,432,178"}},{"$f":"Interest_Over","v":{"v":103832.88553409024,"d":"103,833"}},{"$f":"YearlySavings_Over","v":0},{"$f":"DesiredRetirementIncome","v":{"v":99462.57143833736,"d":"99,463"}},{"$f":"PensionIncome_Over","v":0},{"$f":"EndBalance","v":{"v":1436548.0456004457,"d":"1,436,548"}},null,null,{"$f":"IF(Calculations!B69<DesiredRetirementAge,K69,NA())","v":{"$error":"#N/A"}},{"$f":"IF(Calculations!B69>=(DesiredRetirementAge-1),K69,NA())","v":{"v":925671.8185617457,"d":"925,672"}},null,null,{"v":897770.2091610342,"d":"897,770"}]
[null,{"$f":"Age","v":74},{"$f":"Salary","v":0},null,null,{"$f":"Balance","v":{"v":925671.8185617457,"d":"925,672"}},{"$f":"Interest","v":{"v":57854.488660109106,"d":"57,854"}},{"$f":"YearlySavings","v":0},{"$f":"DesiredRetirementIncome","v":{"v":102446.44858148745,"d":"102,446"}},{"$f":"PensionIncome","v":0},{"$f":"EndBalance","v":{"v":881079.8586403674,"d":"881,080"}},null,null,{"$f":"Balance_Under","v":{"v":538777.8364394115,"d":"538,778"}},{"$f":"Interest_Under","v":{"v":28285.836413069104,"d":"28,286"}},{"$f":"YearlySavings_Under","v":0},{"$f":"DesiredRetirementIncome","v":{"v":102446.44858148745,"d":"102,446"}},{"$f":"PensionIncome_Under","v":0},{"$f":"EndBalance","v":{"v":464617.2242709931,"d":"464,617"}},null,null,{"$f":"Balance_Over","v":{"v":1436548.0456004457,"d":"1,436,548"}},{"$f":"Interest_Over","v":{"v":104149.7333060323,"d":"104,150"}},{"$f":"YearlySavings_Over","v":0},{"$f":"DesiredRetirementIncome","v":{"v":102446.44858148745,"d":"102,446"}},{"$f":"PensionIncome_Over","v":0},{"$f":"EndBalance","v":{"v":1438251.3303249907,"d":"1,438,251"}},null,null,{"$f":"IF(Calculations!B70<DesiredRetirementAge,K70,NA())","v":{"$error":"#N/A"}},{"$f":"IF(Calculations!B70>=(DesiredRetirementAge-1),K70,NA())","v":{"v":881079.8586403674,"d":"881,080"}},null,null,{"v":973634.1060539975,"d":"973,634"}]
[null,{"$f":"Age","v":75},{"$f":"Salary","v":0},null,null,{"$f":"Balance","v":{"v":881079.8586403674,"d":"881,080"}},{"$f":"Interest","v":{"v":55067.49116502296,"d":"55,067"}},{"$f":"YearlySavings","v":0},{"$f":"DesiredRetirementIncome","v":{"v":105519.8420389321,"d":"105,520"}},{"$f":"PensionIncome","v":0},{"$f":"EndBalance","v":{"v":830627.5077664582,"d":"830,628"}},null,null,{"$f":"Balance_Under","v":{"v":464617.2242709931,"d":"464,617"}},{"$f":"Interest_Under","v":{"v":24392.404274227138,"d":"24,392"}},{"$f":"YearlySavings_Under","v":0},{"$f":"DesiredRetirementIncome","v":{"v":105519.8420389321,"d":"105,520"}},{"$f":"PensionIncome_Under","v":0},{"$f":"EndBalance","v":{"v":383489.78650628816,"d":"383,490"}},null,null,{"$f":"Balance_Over","v":{"v":1438251.3303249907,"d":"1,438,251"}},{"$f":"Interest_Over","v":{"v":104273.22144856182,"d":"104,273"}},{"$f":"YearlySavings_Over","v":0},{"$f":"DesiredRetirementIncome","v":{"v":105519.8420389321,"d":"105,520"}},{"$f":"PensionIncome_Over","v":0},{"$f":"EndBalance","v":{"v":1437004.7097346205,"d":"1,437,005"}},null,null,{"$f":"IF(Calculations!B71<DesiredRetirementAge,K71,NA())","v":{"$error":"#N/A"}},{"$f":"IF(Calculations!B71>=(DesiredRetirementAge-1),K71,NA())","v":{"v":830627.5077664582,"d":"830,628"}},null,null,{"v":1053514.9232283323,"d":"1,053,515"}]
[null,{"$f":"Age","v":76},{"$f":"Salary","v":0},null,null,{"$f":"Balance","v":{"v":830627.5077664582,"d":"830,628"}},{"$f":"Interest","v":{"v":51914.21923540364,"d":"51,914"}},{"$f":"YearlySavings","v":0},{"$f":"DesiredRetirementIncome","v":{"v":108685.43730010005,"d":"108,685"}},{"$f":"PensionIncome","v":0},{"$f":"EndBalance","v":{"v":773856.2897017619,"d":"773,856"}},null,null,{"$f":"Balance_Under","v":{"v":383489.78650628816,"d":"383,490"}},{"$f":"Interest_Under","v":{"v":20133.21379158013,"d":"20,133"}},{"$f":"YearlySavings_Under","v":0},{"$f":"DesiredRetirementIncome","v":{"v":108685.43730010005,"d":"108,685"}},{"$f":"PensionIncome_Under","v":0},{"$f":"EndBalance","v":{"v":294937.5629977682,"d":"294,938"}},null,null,{"$f":"Balance_Over","v":{"v":1437004.7097346205,"d":"1,437,005"}},{"$f":"Interest_Over","v":{"v":104182.84145575998,"d":"104,183"}},{"$f":"YearlySavings_Over","v":0},{"$f":"DesiredRetirementIncome","v":{"v":108685.43730010005,"d":"108,685"}},{"$f":"PensionIncome_Over","v":0},{"$f":"EndBalance","v":{"v":1432502.1138902805,"d":"1,432,502"}},null,null,{"$f":"IF(Calculations!B72<DesiredRetirementAge,K72,NA())","v":{"$error":"#N/A"}},{"$f":"IF(Calculations!B72>=(DesiredRetirementAge-1),K72,NA())","v":{"v":773856.2897017619,"d":"773,856"}},null,null,{"v":1137564.5508925123,"d":"1,137,565"}]
[null,{"$f":"Age","v":77},{"$f":"Salary","v":0},null,null,{"$f":"Balance","v":{"v":773856.2897017619,"d":"773,856"}},{"$f":"Interest","v":{"v":48366.01810636012,"d":"48,366"}},{"$f":"YearlySavings","v":0},{"$f":"DesiredRetirementIncome","v":{"v":111946.00041910303,"d":"111,946"}},{"$f":"PensionIncome","v":0},{"$f":"EndBalance","v":{"v":710276.3073890189,"d":"710,276"}},null,null,{"$f":"Balance_Under","v":{"v":294937.5629977682,"d":"294,938"}},{"$f":"Interest_Under","v":{"v":15484.22205738283,"d":"15,484"}},{"$f":"YearlySavings_Under","v":0},{"$f":"DesiredRetirementIncome","v":{"v":111946.00041910303,"d":"111,946"}},{"$f":"PensionIncome_Under","v":0},{"$f":"EndBalance","v":{"v":198475.78463604802,"d":"198,476"}},null,null,{"$f":"Balance_Over","v":{"v":1432502.1138902805,"d":"1,432,502"}},{"$f":"Interest_Over","v":{"v":103856.40325704533,"d":"103,856"}},{"$f":"YearlySavings_Over","v":0},{"$f":"DesiredRetirementIncome","v":{"v":111946.00041910303,"d":"111,946"}},{"$f":"PensionIncome_Over","v":0},{"$f":"EndBalance","v":{"v":1424412.5167282228,"d":"1,424,413"}},null,null,{"$f":"IF(Calculations!B73<DesiredRetirementAge,K73,NA())","v":{"$error":"#N/A"}},{"$f":"IF(Calculations!B73>=(DesiredRetirementAge-1),K73,NA())","v":{"v":710276.3073890189,"d":"710,276"}},null,null,{"v":1225936.7320921747,"d":"1,225,937"}]
[null,{"$f":"Age","v":78},{"$f":"Salary","v":0},null,null,{"$f":"Balance","v":{"v":710276.3073890189,"d":"710,276"}},{"$f":"Interest","v":{"v":44392.269211813684,"d":"44,392"}},{"$f":"YearlySavings","v":0},{"$f":"DesiredRetirementIncome","v":{"v":115304.38043167612,"d":"115,304"}},{"$f":"PensionIncome","v":0},{"$f":"EndBalance","v":{"v":639364.1961691565,"d":"639,364"}},null,null,{"$f":"Balance_Under","v":{"v":198475.78463604802,"d":"198,476"}},{"$f":"Interest_Under","v":{"v":10419.97869339252,"d":"10,420"}},{"$f":"YearlySavings_Under","v":0},{"$f":"DesiredRetirementIncome","v":{"v":115304.38043167612,"d":"115,304"}},{"$f":"PensionIncome_Under","v":0},{"$f":"EndBalance","v":{"v":93591.38289776443,"d":"93,591"}},null,null,{"$f":"Balance_Over","v":{"v":1424412.5167282228,"d":"1,424,413"}},{"$f":"Interest_Over","v":{"v":103269.90746279615,"d":"103,270"}},{"$f":"YearlySavings_Over","v":0},{"$f":"DesiredRetirementIncome","v":{"v":115304.38043167612,"d":"115,304"}},{"$f":"PensionIncome_Over","v":0},{"$f":"EndBalance","v":{"v":1412378.043759343,"d":"1,412,378"}},null,null,{"$f":"IF(Calculations!B74<DesiredRetirementAge,K74,NA())","v":{"$error":"#N/A"}},{"$f":"IF(Calculations!B74>=(DesiredRetirementAge-1),K74,NA())","v":{"v":639364.1961691565,"d":"639,364"}},null,null,{"v":1318786.6608615785,"d":"1,318,787"}]
[null,{"$f":"Age","v":79},{"$f":"Salary","v":0},null,null,{"$f":"Balance","v":{"v":639364.1961691565,"d":"639,364"}},{"$f":"Interest","v":{"v":39960.26226057228,"d":"39,960"}},{"$f":"YearlySavings","v":0},{"$f":"DesiredRetirementIncome","v":{"v":118763.51184462642,"d":"118,764"}},{"$f":"PensionIncome","v":0},{"$f":"EndBalance","v":{"v":560560.9465851024,"d":"560,561"}},null,null,{"$f":"Balance_Under","v":{"v":93591.38289776443,"d":"93,591"}},{"$f":"Interest_Under","v":{"v":4913.547602132632,"d":"4,914"}},{"$f":"YearlySavings_Under","v":0},{"$f":"DesiredRetirementIncome","v":{"v":118763.51184462642,"d":"118,764"}},{"$f":"PensionIncome_Under","v":0},{"$f":"EndBalance","v":{"v":-20258.581344729362,"d":"-20,259"}},null,null,{"$f":"Balance_Over","v":{"v":1412378.043759343,"d":"1,412,378"}},{"$f":"Interest_Over","v":{"v":102397.40817255236,"d":"102,397"}},{"$f":"YearlySavings_Over","v":0},{"$f":"DesiredRetirementIncome","v":{"v":118763.51184462642,"d":"118,764"}},{"$f":"PensionIncome_Over","v":0},{"$f":"EndBalance","v":{"v":1396011.9400872688,"d":"1,396,012"}},null,null,{"$f":"IF(Calculations!B75<DesiredRetirementAge,K75,NA())","v":{"$error":"#N/A"}},{"$f":"IF(Calculations!B75>=(DesiredRetirementAge-1),K75,NA())","v":{"v":560560.9465851024,"d":"560,561"}},null,null,{"v":1416270.5214319981,"d":"1,416,271"}]
[null,{"$f":"Age","v":80},{"$f":"Salary","v":0},null,null,{"$f":"Balance","v":{"v":560560.9465851024,"d":"560,561"}},{"$f":"Interest","v":{"v":35035.0591615689,"d":"35,035"}},{"$f":"YearlySavings","v":0},{"$f":"DesiredRetirementIncome","v":{"v":122326.4171999652,"d":"122,326"}},{"$f":"PensionIncome","v":0},{"$f":"EndBalance","v":{"v":473269.588546706,"d":"473,270"}},null,null,{"$f":"Balance_Under","v":{"v":-20258.581344729362,"d":"-20,259"}},{"$f":"Interest_Under","v":{"v":-1063.5755205982914,"d":"-1,064"}},{"$f":"YearlySavings_Under","v":0},{"$f":"DesiredRetirementIncome","v":{"v":122326.4171999652,"d":"122,326"}},{"$f":"PensionIncome_Under","v":0},{"$f":"EndBalance","v":{"v":-143648.57406529287,"d":"-143,649"}},null,null,{"$f":"Balance_Over","v":{"v":1396011.9400872688,"d":"1,396,012"}},{"$f":"Interest_Over","v":{"v":101210.86565632698,"d":"101,211"}},{"$f":"YearlySavings_Over","v":0},{"$f":"DesiredRetirementIncome","v":{"v":122326.4171999652,"d":"122,326"}},{"$f":"PensionIncome_Over","v":0},{"$f":"EndBalance","v":{"v":1374896.3885436307,"d":"1,374,896"}},null,null,{"$f":"IF(Calculations!B76<DesiredRetirementAge,K76,NA())","v":{"$error":"#N/A"}},{"$f":"IF(Calculations!B76>=(DesiredRetirementAge-1),K76,NA())","v":{"v":473269.588546706,"d":"473,270"}},null,null,{"v":1518544.9626089237,"d":"1,518,545"}]
[null,{"$f":"Age","v":81},{"$f":"Salary","v":0},null,null,{"$f":"Balance","v":{"v":473269.588546706,"d":"473,270"}},{"$f":"Interest","v":{"v":29579.349284169126,"d":"29,579"}},{"$f":"YearlySavings","v":0},{"$f":"DesiredRetirementIncome","v":{"v":125996.20971596417,"d":"125,996"}},{"$f":"PensionIncome","v":0},{"$f":"EndBalance","v":{"v":376852.728114911,"d":"376,853"}},null,null,{"$f":"Balance_Under","v":{"v":-143648.57406529287,"d":"-143,649"}},{"$f":"Interest_Under","v":{"v":-7541.550138427875,"d":"-7,542"}},{"$f":"YearlySavings_Under","v":0},{"$f":"DesiredRetirementIncome","v":{"v":125996.20971596417,"d":"125,996"}},{"$f":"PensionIncome_Under","v":0},{"$f":"EndBalance","v":{"v":-277186.3339196849,"d":"-277,186"}},null,null,{"$f":"Balance_Over","v":{"v":1374896.3885436307,"d":"1,374,896"}},{"$f":"Interest_Over","v":{"v":99679.98816941322,"d":"99,680"}},{"$f":"YearlySavings_Over","v":0},{"$f":"DesiredRetirementIncome","v":{"v":125996.20971596417,"d":"125,996"}},{"$f":"PensionIncome_Over","v":0},{"$f":"EndBalance","v":{"v":1348580.1669970797,"d":"1,348,580"}},null,null,{"$f":"IF(Calculations!B77<DesiredRetirementAge,K77,NA())","v":{"$error":"#N/A"}},{"$f":"IF(Calculations!B77>=(DesiredRetirementAge-1),K77,NA())","v":{"v":376852.728114911,"d":"376,853"}},null,null,{"v":1625766.5009167646,"d":"1,625,767"}]
[null,{"$f":"Age","v":82},{"$f":"Salary","v":0},null,null,{"$f":"Balance","v":{"v":376852.728114911,"d":"376,853"}},{"$f":"Interest","v":{"v":23553.295507181938,"d":"23,553"}},{"$f":"YearlySavings","v":0},{"$f":"DesiredRetirementIncome","v":{"v":129776.09600744309,"d":"129,776"}},{"$f":"PensionIncome","v":0},{"$f":"EndBalance","v":{"v":270629.9276146499,"d":"270,630"}},null,null,{"$f":"Balance_Under","v":{"v":-277186.3339196849,"d":"-277,186"}},{"$f":"Interest_Under","v":{"v":-14552.282530783457,"d":"-14,552"}},{"$f":"YearlySavings_Under","v":0},{"$f":"DesiredRetirementIncome","v":{"v":129776.09600744309,"d":"129,776"}},{"$f":"PensionIncome_Under","v":0},{"$f":"EndBalance","v":{"v":-421514.71245791146,"d":"-421,515"}},null,null,{"$f":"Balance_Over","v":{"v":1348580.1669970797,"d":"1,348,580"}},{"$f":"Interest_Over","v":{"v":97772.06210728828,"d":"97,772"}},{"$f":"YearlySavings_Over","v":0},{"$f":"DesiredRetirementIncome","v":{"v":129776.09600744309,"d":"129,776"}},{"$f":"PensionIncome_Over","v":0},{"$f":"EndBalance","v":{"v":1316576.133096925,"d":"1,316,576"}},null,null,{"$f":"IF(Calculations!B78<DesiredRetirementAge,K78,NA())","v":{"$error":"#N/A"}},{"$f":"IF(Calculations!B78>=(DesiredRetirementAge-1),K78,NA())","v":{"v":270629.9276146499,"d":"270,630"}},null,null,{"v":1738090.8455548366,"d":"1,738,091"}]
[null,{"$f":"Age","v":83},{"$f":"Salary","v":0},null,null,{"$f":"Balance","v":{"v":270629.9276146499,"d":"270,630"}},{"$f":"Interest","v":{"v":16914.370475915617,"d":"16,914"}},{"$f":"YearlySavings","v":0},{"$f":"DesiredRetirementIncome","v":{"v":133669.3788876664,"d":"133,669"}},{"$f":"PensionIncome","v":0},{"$f":"EndBalance","v":{"v":153874.9192028991,"d":"153,875"}},null,null,{"$f":"Balance_Under","v":{"v":-421514.71245791146,"d":"-421,515"}},{"$f":"Interest_Under","v":{"v":-22129.522404040352,"d":"-22,130"}},{"$f":"YearlySavings_Under","v":0},{"$f":"DesiredRetirementIncome","v":{"v":133669.3788876664,"d":"133,669"}},{"$f":"PensionIncome_Under","v":0},{"$f":"EndBalance","v":{"v":-577313.6137496182,"d":"-577,314"}},null,null,{"$f":"Balance_Over","v":{"v":1316576.133096925,"d":"1,316,576"}},{"$f":"Interest_Over","v":{"v":95451.76964952705,"d":"95,452"}},{"$f":"YearlySavings_Over","v":0},{"$f":"DesiredRetirementIncome","v":{"v":133669.3788876664,"d":"133,669"}},{"$f":"PensionIncome_Over","v":0},{"$f":"EndBalance","v":{"v":1278358.5238587856,"d":"1,278,359"}},null,null,{"$f":"IF(Calculations!B79<DesiredRetirementAge,K79,NA())","v":{"$error":"#N/A"}},{"$f":"IF(Calculations!B79>=(DesiredRetirementAge-1),K79,NA())","v":{"v":153874.9192028991,"d":"153,875"}},null,null,{"v":1855672.1376084038,"d":"1,855,672"}]
[null,{"$f":"Age","v":84},{"$f":"Salary","v":0},null,null,{"$f":"Balance","v":{"v":153874.9192028991,"d":"153,875"}},{"$f":"Interest","v":{"v":9617.182450181193,"d":"9,617"}},{"$f":"YearlySavings","v":0},{"$f":"DesiredRetirementIncome","v":{"v":137679.46025429637,"d":"137,679"}},{"$f":"PensionIncome","v":0},{"$f":"EndBalance","v":{"v":25812.64139878392,"d":"25,813"}},null,null,{"$f":"Balance_Under","v":{"v":-577313.6137496182,"d":"-577,314"}},{"$f":"Interest_Under","v":{"v":-30308.964721854954,"d":"-30,309"}},{"$f":"YearlySavings_Under","v":0},{"$f":"DesiredRetirementIncome","v":{"v":137679.46025429637,"d":"137,679"}},{"$f":"PensionIncome_Under","v":0},{"$f":"EndBalance","v":{"v":-745302.0387257696,"d":"-745,302"}},null,null,{"$f":"Balance_Over","v":{"v":1278358.5238587856,"d":"1,278,359"}},{"$f":"Interest_Over","v":{"v":92680.99297976196,"d":"92,681"}},{"$f":"YearlySavings_Over","v":0},{"$f":"DesiredRetirementIncome","v":{"v":137679.46025429637,"d":"137,679"}},{"$f":"PensionIncome_Over","v":0},{"$f":"EndBalance","v":{"v":1233360.056584251,"d":"1,233,360"}},null,null,{"$f":"IF(Calculations!B80<DesiredRetirementAge,K80,NA())","v":{"$error":"#N/A"}},{"$f":"IF(Calculations!B80>=(DesiredRetirementAge-1),K80,NA())","v":{"v":25812.64139878392,"d":"25,813"}},null,null,{"v":1978662.0953100207,"d":"1,978,662"}]
[null,{"$f":"Age","v":{"$error":"#N/A"}},{"$f":"Salary","v":{"$error":"#N/A"}},null,null,{"$f":"Balance","v":{"$error":"#N/A"}},{"$f":"Interest","v":{"$error":"#N/A"}},{"$f":"YearlySavings","v":{"$error":"#N/A"}},{"$f":"DesiredRetirementIncome","v":{"$error":"#N/A"}},{"$f":"PensionIncome","v":{"$error":"#N/A"}},{"$f":"EndBalance","v":{"$error":"#N/A"}},null,null,{"$f":"Balance_Under","v":{"$error":"#N/A"}},{"$f":"Interest_Under","v":{"$error":"#N/A"}},{"$f":"YearlySavings_Under","v":{"$error":"#N/A"}},{"$f":"DesiredRetirementIncome","v":{"$error":"#N/A"}},{"$f":"PensionIncome_Under","v":{"$error":"#N/A"}},{"$f":"EndBalance","v":{"$error":"#N/A"}},null,null,{"$f":"Balance_Over","v":{"$error":"#N/A"}},{"$f":"Interest_Over","v":{"$error":"#N/A"}},{"$f":"YearlySavings_Over","v":{"$error":"#N/A"}},{"$f":"DesiredRetirementIncome","v":{"$error":"#N/A"}},{"$f":"PensionIncome_Over","v":{"$error":"#N/A"}},{"$f":"EndBalance","v":{"$error":"#N/A"}},null,null,{"$f":"IF(Calculations!B81<DesiredRetirementAge,K81,NA())","v":{"$error":"#N/A"}},{"$f":"IF(Calculations!B81>=(DesiredRetirementAge-1),K81,NA())","v":{"$error":"#N/A"}},null,null,{"$error":"#N/A"}]
[null,{"$f":"Age","v":{"$error":"#N/A"}},{"$f":"Salary","v":{"$error":"#N/A"}},null,null,{"$f":"Balance","v":{"$error":"#N/A"}},{"$f":"Interest","v":{"$error":"#N/A"}},{"$f":"YearlySavings","v":{"$error":"#N/A"}},{"$f":"DesiredRetirementIncome","v":{"$error":"#N/A"}},{"$f":"PensionIncome","v":{"$error":"#N/A"}},{"$f":"EndBalance","v":{"$error":"#N/A"}},null,null,{"$f":"Balance_Under","v":{"$error":"#N/A"}},{"$f":"Interest_Under","v":{"$error":"#N/A"}},{"$f":"YearlySavings_Under","v":{"$error":"#N/A"}},{"$f":"DesiredRetirementIncome","v":{"$error":"#N/A"}},{"$f":"PensionIncome_Under","v":{"$error":"#N/A"}},{"$f":"EndBalance","v":{"$error":"#N/A"}},null,null,{"$f":"Balance_Over","v":{"$error":"#N/A"}},{"$f":"Interest_Over","v":{"$error":"#N/A"}},{"$f":"YearlySavings_Over","v":{"$error":"#N/A"}},{"$f":"DesiredRetirementIncome","v":{"$error":"#N/A"}},{"$f":"PensionIncome_Over","v":{"$error":"#N/A"}},{"$f":"EndBalance","v":{"$error":"#N/A"}},null,null,{"$f":"IF(Calculations!B82<DesiredRetirementAge,K82,NA())","v":{"$error":"#N/A"}},{"$f":"IF(Calculations!B82>=(DesiredRetirementAge-1),K82,NA())","v":{"$error":"#N/A"}},null,null,{"$error":"#N/A"}]
[null,{"$f":"Age","v":{"$error":"#N/A"}},{"$f":"Salary","v":{"$error":"#N/A"}},null,null,{"$f":"Balance","v":{"$error":"#N/A"}},{"$f":"Interest","v":{"$error":"#N/A"}},{"$f":"YearlySavings","v":{"$error":"#N/A"}},{"$f":"DesiredRetirementIncome","v":{"$error":"#N/A"}},{"$f":"PensionIncome","v":{"$error":"#N/A"}},{"$f":"EndBalance","v":{"$error":"#N/A"}},null,null,{"$f":"Balance_Under","v":{"$error":"#N/A"}},{"$f":"Interest_Under","v":{"$error":"#N/A"}},{"$f":"YearlySavings_Under","v":{"$error":"#N/A"}},{"$f":"DesiredRetirementIncome","v":{"$error":"#N/A"}},{"$f":"PensionIncome_Under","v":{"$error":"#N/A"}},{"$f":"EndBalance","v":{"$error":"#N/A"}},null,null,{"$f":"Balance_Over","v":{"$error":"#N/A"}},{"$f":"Interest_Over","v":{"$error":"#N/A"}},{"$f":"YearlySavings_Over","v":{"$error":"#N/A"}},{"$f":"DesiredRetirementIncome","v":{"$error":"#N/A"}},{"$f":"PensionIncome_Over","v":{"$error":"#N/A"}},{"$f":"EndBalance","v":{"$error":"#N/A"}},null,null,{"$f":"IF(Calculations!B83<DesiredRetirementAge,K83,NA())","v":{"$error":"#N/A"}},{"$f":"IF(Calculations!B83>=(DesiredRetirementAge-1),K83,NA())","v":{"$error":"#N/A"}},null,null,{"$error":"#N/A"}]
[null,{"$f":"Age","v":{"$error":"#N/A"}},{"$f":"Salary","v":{"$error":"#N/A"}},null,null,{"$f":"Balance","v":{"$error":"#N/A"}},{"$f":"Interest","v":{"$error":"#N/A"}},{"$f":"YearlySavings","v":{"$error":"#N/A"}},{"$f":"DesiredRetirementIncome","v":{"$error":"#N/A"}},{"$f":"PensionIncome","v":{"$error":"#N/A"}},{"$f":"EndBalance","v":{"$error":"#N/A"}},null,null,{"$f":"Balance_Under","v":{"$error":"#N/A"}},{"$f":"Interest_Under","v":{"$error":"#N/A"}},{"$f":"YearlySavings_Under","v":{"$error":"#N/A"}},{"$f":"DesiredRetirementIncome","v":{"$error":"#N/A"}},{"$f":"PensionIncome_Under","v":{"$error":"#N/A"}},{"$f":"EndBalance","v":{"$error":"#N/A"}},null,null,{"$f":"Balance_Over","v":{"$error":"#N/A"}},{"$f":"Interest_Over","v":{"$error":"#N/A"}},{"$f":"YearlySavings_Over","v":{"$error":"#N/A"}},{"$f":"DesiredRetirementIncome","v":{"$error":"#N/A"}},{"$f":"PensionIncome_Over","v":{"$error":"#N/A"}},{"$f":"EndBalance","v":{"$error":"#N/A"}},null,null,{"$f":"IF(Calculations!B84<DesiredRetirementAge,K84,NA())","v":{"$error":"#N/A"}},{"$f":"IF(Calculations!B84>=(DesiredRetirementAge-1),K84,NA())","v":{"$error":"#N/A"}},null,null,{"$error":"#N/A"}]
[null,{"$f":"Age","v":{"$error":"#N/A"}},{"$f":"Salary","v":{"$error":"#N/A"}},null,null,{"$f":"Balance","v":{"$error":"#N/A"}},{"$f":"Interest","v":{"$error":"#N/A"}},{"$f":"YearlySavings","v":{"$error":"#N/A"}},{"$f":"DesiredRetirementIncome","v":{"$error":"#N/A"}},{"$f":"PensionIncome","v":{"$error":"#N/A"}},{"$f":"EndBalance","v":{"$error":"#N/A"}},null,null,{"$f":"Balance_Under","v":{"$error":"#N/A"}},{"$f":"Interest_Under","v":{"$error":"#N/A"}},{"$f":"YearlySavings_Under","v":{"$error":"#N/A"}},{"$f":"DesiredRetirementIncome","v":{"$error":"#N/A"}},{"$f":"PensionIncome_Under","v":{"$error":"#N/A"}},{"$f":"EndBalance","v":{"$error":"#N/A"}},null,null,{"$f":"Balance_Over","v":{"$error":"#N/A"}},{"$f":"Interest_Over","v":{"$error":"#N/A"}},{"$f":"YearlySavings_Over","v":{"$error":"#N/A"}},{"$f":"DesiredRetirementIncome","v":{"$error":"#N/A"}},{"$f":"PensionIncome_Over","v":{"$error":"#N/A"}},{"$f":"EndBalance","v":{"$error":"#N/A"}},null,null,{"$f":"IF(Calculations!B85<DesiredRetirementAge,K85,NA())","v":{"$error":"#N/A"}},{"$f":"IF(Calculations!B85>=(DesiredRetirementAge-1),K85,NA())","v":{"$error":"#N/A"}},null,null,{"$error":"#N/A"}]
[null,{"$f":"Age","v":{"$error":"#N/A"}},{"$f":"Salary","v":{"$error":"#N/A"}},null,null,{"$f":"Balance","v":{"$error":"#N/A"}},{"$f":"Interest","v":{"$error":"#N/A"}},{"$f":"YearlySavings","v":{"$error":"#N/A"}},{"$f":"DesiredRetirementIncome","v":{"$error":"#N/A"}},{"$f":"PensionIncome","v":{"$error":"#N/A"}},{"$f":"EndBalance","v":{"$error":"#N/A"}},null,null,{"$f":"Balance_Under","v":{"$error":"#N/A"}},{"$f":"Interest_Under","v":{"$error":"#N/A"}},{"$f":"YearlySavings_Under","v":{"$error":"#N/A"}},{"$f":"DesiredRetirementIncome","v":{"$error":"#N/A"}},{"$f":"PensionIncome_Under","v":{"$error":"#N/A"}},{"$f":"EndBalance","v":{"$error":"#N/A"}},null,null,{"$f":"Balance_Over","v":{"$error":"#N/A"}},{"$f":"Interest_Over","v":{"$error":"#N/A"}},{"$f":"YearlySavings_Over","v":{"$error":"#N/A"}},{"$f":"DesiredRetirementIncome","v":{"$error":"#N/A"}},{"$f":"PensionIncome_Over","v":{"$error":"#N/A"}},{"$f":"EndBalance","v":{"$error":"#N/A"}},null,null,{"$f":"IF(Calculations!B86<DesiredRetirementAge,K86,NA())","v":{"$error":"#N/A"}},{"$f":"IF(Calculations!B86>=(DesiredRetirementAge-1),K86,NA())","v":{"$error":"#N/A"}},null,null,{"$error":"#N/A"}]
[null,{"$f":"Age","v":{"$error":"#N/A"}},{"$f":"Salary","v":{"$error":"#N/A"}},null,null,{"$f":"Balance","v":{"$error":"#N/A"}},{"$f":"Interest","v":{"$error":"#N/A"}},{"$f":"YearlySavings","v":{"$error":"#N/A"}},{"$f":"DesiredRetirementIncome","v":{"$error":"#N/A"}},{"$f":"PensionIncome","v":{"$error":"#N/A"}},{"$f":"EndBalance","v":{"$error":"#N/A"}},null,null,{"$f":"Balance_Under","v":{"$error":"#N/A"}},{"$f":"Interest_Under","v":{"$error":"#N/A"}},{"$f":"YearlySavings_Under","v":{"$error":"#N/A"}},{"$f":"DesiredRetirementIncome","v":{"$error":"#N/A"}},{"$f":"PensionIncome_Under","v":{"$error":"#N/A"}},{"$f":"EndBalance","v":{"$error":"#N/A"}},null,null,{"$f":"Balance_Over","v":{"$error":"#N/A"}},{"$f":"Interest_Over","v":{"$error":"#N/A"}},{"$f":"YearlySavings_Over","v":{"$error":"#N/A"}},{"$f":"DesiredRetirementIncome","v":{"$error":"#N/A"}},{"$f":"PensionIncome_Over","v":{"$error":"#N/A"}},{"$f":"EndBalance","v":{"$error":"#N/A"}},null,null,{"$f":"IF(Calculations!B87<DesiredRetirementAge,K87,NA())","v":{"$error":"#N/A"}},{"$f":"IF(Calculations!B87>=(DesiredRetirementAge-1),K87,NA())","v":{"$error":"#N/A"}},null,null,{"$error":"#N/A"}]
[null,{"$f":"Age","v":{"$error":"#N/A"}},{"$f":"Salary","v":{"$error":"#N/A"}},null,null,{"$f":"Balance","v":{"$error":"#N/A"}},{"$f":"Interest","v":{"$error":"#N/A"}},{"$f":"YearlySavings","v":{"$error":"#N/A"}},{"$f":"DesiredRetirementIncome","v":{"$error":"#N/A"}},{"$f":"PensionIncome","v":{"$error":"#N/A"}},{"$f":"EndBalance","v":{"$error":"#N/A"}},null,null,{"$f":"Balance_Under","v":{"$error":"#N/A"}},{"$f":"Interest_Under","v":{"$error":"#N/A"}},{"$f":"YearlySavings_Under","v":{"$error":"#N/A"}},{"$f":"DesiredRetirementIncome","v":{"$error":"#N/A"}},{"$f":"PensionIncome_Under","v":{"$error":"#N/A"}},{"$f":"EndBalance","v":{"$error":"#N/A"}},null,null,{"$f":"Balance_Over","v":{"$error":"#N/A"}},{"$f":"Interest_Over","v":{"$error":"#N/A"}},{"$f":"YearlySavings_Over","v":{"$error":"#N/A"}},{"$f":"DesiredRetirementIncome","v":{"$error":"#N/A"}},{"$f":"PensionIncome_Over","v":{"$error":"#N/A"}},{"$f":"EndBalance","v":{"$error":"#N/A"}},null,null,{"$f":"IF(Calculations!B88<DesiredRetirementAge,K88,NA())","v":{"$error":"#N/A"}},{"$f":"IF(Calculations!B88>=(DesiredRetirementAge-1),K88,NA())","v":{"$error":"#N/A"}},null,null,{"$error":"#N/A"}]
[null,{"$f":"Age","v":{"$error":"#N/A"}},{"$f":"Salary","v":{"$error":"#N/A"}},null,null,{"$f":"Balance","v":{"$error":"#N/A"}},{"$f":"Interest","v":{"$error":"#N/A"}},{"$f":"YearlySavings","v":{"$error":"#N/A"}},{"$f":"DesiredRetirementIncome","v":{"$error":"#N/A"}},{"$f":"PensionIncome","v":{"$error":"#N/A"}},{"$f":"EndBalance","v":{"$error":"#N/A"}},null,null,{"$f":"Balance_Under","v":{"$error":"#N/A"}},{"$f":"Interest_Under","v":{"$error":"#N/A"}},{"$f":"YearlySavings_Under","v":{"$error":"#N/A"}},{"$f":"DesiredRetirementIncome","v":{"$error":"#N/A"}},{"$f":"PensionIncome_Under","v":{"$error":"#N/A"}},{"$f":"EndBalance","v":{"$error":"#N/A"}},null,null,{"$f":"Balance_Over","v":{"$error":"#N/A"}},{"$f":"Interest_Over","v":{"$error":"#N/A"}},{"$f":"YearlySavings_Over","v":{"$error":"#N/A"}},{"$f":"DesiredRetirementIncome","v":{"$error":"#N/A"}},{"$f":"PensionIncome_Over","v":{"$error":"#N/A"}},{"$f":"EndBalance","v":{"$error":"#N/A"}},null,null,{"$f":"IF(Calculations!B89<DesiredRetirementAge,K89,NA())","v":{"$error":"#N/A"}},{"$f":"IF(Calculations!B89>=(DesiredRetirementAge-1),K89,NA())","v":{"$error":"#N/A"}},null,null,{"$error":"#N/A"}]
[null,{"$f":"Age","v":{"$error":"#N/A"}},{"$f":"Salary","v":{"$error":"#N/A"}},null,null,{"$f":"Balance","v":{"$error":"#N/A"}},{"$f":"Interest","v":{"$error":"#N/A"}},{"$f":"YearlySavings","v":{"$error":"#N/A"}},{"$f":"DesiredRetirementIncome","v":{"$error":"#N/A"}},{"$f":"PensionIncome","v":{"$error":"#N/A"}},{"$f":"EndBalance","v":{"$error":"#N/A"}},null,null,{"$f":"Balance_Under","v":{"$error":"#N/A"}},{"$f":"Interest_Under","v":{"$error":"#N/A"}},{"$f":"YearlySavings_Under","v":{"$error":"#N/A"}},{"$f":"DesiredRetirementIncome","v":{"$error":"#N/A"}},{"$f":"PensionIncome_Under","v":{"$error":"#N/A"}},{"$f":"EndBalance","v":{"$error":"#N/A"}},null,null,{"$f":"Balance_Over","v":{"$error":"#N/A"}},{"$f":"Interest_Over","v":{"$error":"#N/A"}},{"$f":"YearlySavings_Over","v":{"$error":"#N/A"}},{"$f":"DesiredRetirementIncome","v":{"$error":"#N/A"}},{"$f":"PensionIncome_Over","v":{"$error":"#N/A"}},{"$f":"EndBalance","v":{"$error":"#N/A"}},null,null,{"$f":"IF(Calculations!B90<DesiredRetirementAge,K90,NA())","v":{"$error":"#N/A"}},{"$f":"IF(Calculations!B90>=(DesiredRetirementAge-1),K90,NA())","v":{"$error":"#N/A"}},null,null,{"$error":"#N/A"}]
[null,{"$f":"Age","v":{"$error":"#N/A"}},{"$f":"Salary","v":{"$error":"#N/A"}},null,null,{"$f":"Balance","v":{"$error":"#N/A"}},{"$f":"Interest","v":{"$error":"#N/A"}},{"$f":"YearlySavings","v":{"$error":"#N/A"}},{"$f":"DesiredRetirementIncome","v":{"$error":"#N/A"}},{"$f":"PensionIncome","v":{"$error":"#N/A"}},{"$f":"EndBalance","v":{"$error":"#N/A"}},null,null,{"$f":"Balance_Under","v":{"$error":"#N/A"}},{"$f":"Interest_Under","v":{"$error":"#N/A"}},{"$f":"YearlySavings_Under","v":{"$error":"#N/A"}},{"$f":"DesiredRetirementIncome","v":{"$error":"#N/A"}},{"$f":"PensionIncome_Under","v":{"$error":"#N/A"}},{"$f":"EndBalance","v":{"$error":"#N/A"}},null,null,{"$f":"Balance_Over","v":{"$error":"#N/A"}},{"$f":"Interest_Over","v":{"$error":"#N/A"}},{"$f":"YearlySavings_Over","v":{"$error":"#N/A"}},{"$f":"DesiredRetirementIncome","v":{"$error":"#N/A"}},{"$f":"PensionIncome_Over","v":{"$error":"#N/A"}},{"$f":"EndBalance","v":{"$error":"#N/A"}},null,null,{"$f":"IF(Calculations!B91<DesiredRetirementAge,K91,NA())","v":{"$error":"#N/A"}},{"$f":"IF(Calculations!B91>=(DesiredRetirementAge-1),K91,NA())","v":{"$error":"#N/A"}},null,null,{"$error":"#N/A"}]
[null,{"$f":"Age","v":{"$error":"#N/A"}},{"$f":"Salary","v":{"$error":"#N/A"}},null,null,{"$f":"Balance","v":{"$error":"#N/A"}},{"$f":"Interest","v":{"$error":"#N/A"}},{"$f":"YearlySavings","v":{"$error":"#N/A"}},{"$f":"DesiredRetirementIncome","v":{"$error":"#N/A"}},{"$f":"PensionIncome","v":{"$error":"#N/A"}},{"$f":"EndBalance","v":{"$error":"#N/A"}},null,null,{"$f":"Balance_Under","v":{"$error":"#N/A"}},{"$f":"Interest_Under","v":{"$error":"#N/A"}},{"$f":"YearlySavings_Under","v":{"$error":"#N/A"}},{"$f":"DesiredRetirementIncome","v":{"$error":"#N/A"}},{"$f":"PensionIncome_Under","v":{"$error":"#N/A"}},{"$f":"EndBalance","v":{"$error":"#N/A"}},null,null,{"$f":"Balance_Over","v":{"$error":"#N/A"}},{"$f":"Interest_Over","v":{"$error":"#N/A"}},{"$f":"YearlySavings_Over","v":{"$error":"#N/A"}},{"$f":"DesiredRetirementIncome","v":{"$error":"#N/A"}},{"$f":"PensionIncome_Over","v":{"$error":"#N/A"}},{"$f":"EndBalance","v":{"$error":"#N/A"}},null,null,{"$f":"IF(Calculations!B92<DesiredRetirementAge,K92,NA())","v":{"$error":"#N/A"}},{"$f":"IF(Calculations!B92>=(DesiredRetirementAge-1),K92,NA())","v":{"$error":"#N/A"}},null,null,{"$error":"#N/A"}]
[null,{"$f":"Age","v":{"$error":"#N/A"}},{"$f":"Salary","v":{"$error":"#N/A"}},null,null,{"$f":"Balance","v":{"$error":"#N/A"}},{"$f":"Interest","v":{"$error":"#N/A"}},{"$f":"YearlySavings","v":{"$error":"#N/A"}},{"$f":"DesiredRetirementIncome","v":{"$error":"#N/A"}},{"$f":"PensionIncome","v":{"$error":"#N/A"}},{"$f":"EndBalance","v":{"$error":"#N/A"}},null,null,{"$f":"Balance_Under","v":{"$error":"#N/A"}},{"$f":"Interest_Under","v":{"$error":"#N/A"}},{"$f":"YearlySavings_Under","v":{"$error":"#N/A"}},{"$f":"DesiredRetirementIncome","v":{"$error":"#N/A"}},{"$f":"PensionIncome_Under","v":{"$error":"#N/A"}},{"$f":"EndBalance","v":{"$error":"#N/A"}},null,null,{"$f":"Balance_Over","v":{"$error":"#N/A"}},{"$f":"Interest_Over","v":{"$error":"#N/A"}},{"$f":"YearlySavings_Over","v":{"$error":"#N/A"}},{"$f":"DesiredRetirementIncome","v":{"$error":"#N/A"}},{"$f":"PensionIncome_Over","v":{"$error":"#N/A"}},{"$f":"EndBalance","v":{"$error":"#N/A"}},null,null,{"$f":"IF(Calculations!B93<DesiredRetirementAge,K93,NA())","v":{"$error":"#N/A"}},{"$f":"IF(Calculations!B93>=(DesiredRetirementAge-1),K93,NA())","v":{"$error":"#N/A"}},null,null,{"$error":"#N/A"}]
[null,{"$f":"Age","v":{"$error":"#N/A"}},{"$f":"Salary","v":{"$error":"#N/A"}},null,null,{"$f":"Balance","v":{"$error":"#N/A"}},{"$f":"Interest","v":{"$error":"#N/A"}},{"$f":"YearlySavings","v":{"$error":"#N/A"}},{"$f":"DesiredRetirementIncome","v":{"$error":"#N/A"}},{"$f":"PensionIncome","v":{"$error":"#N/A"}},{"$f":"EndBalance","v":{"$error":"#N/A"}},null,null,{"$f":"Balance_Under","v":{"$error":"#N/A"}},{"$f":"Interest_Under","v":{"$error":"#N/A"}},{"$f":"YearlySavings_Under","v":{"$error":"#N/A"}},{"$f":"DesiredRetirementIncome","v":{"$error":"#N/A"}},{"$f":"PensionIncome_Under","v":{"$error":"#N/A"}},{"$f":"EndBalance","v":{"$error":"#N/A"}},null,null,{"$f":"Balance_Over","v":{"$error":"#N/A"}},{"$f":"Interest_Over","v":{"$error":"#N/A"}},{"$f":"YearlySavings_Over","v":{"$error":"#N/A"}},{"$f":"DesiredRetirementIncome","v":{"$error":"#N/A"}},{"$f":"PensionIncome_Over","v":{"$error":"#N/A"}},{"$f":"EndBalance","v":{"$error":"#N/A"}},null,null,{"$f":"IF(Calculations!B94<DesiredRetirementAge,K94,NA())","v":{"$error":"#N/A"}},{"$f":"IF(Calculations!B94>=(DesiredRetirementAge-1),K94,NA())","v":{"$error":"#N/A"}},null,null,{"$error":"#N/A"}]
[null,{"$f":"Age","v":{"$error":"#N/A"}},{"$f":"Salary","v":{"$error":"#N/A"}},null,null,{"$f":"Balance","v":{"$error":"#N/A"}},{"$f":"Interest","v":{"$error":"#N/A"}},{"$f":"YearlySavings","v":{"$error":"#N/A"}},{"$f":"DesiredRetirementIncome","v":{"$error":"#N/A"}},{"$f":"PensionIncome","v":{"$error":"#N/A"}},{"$f":"EndBalance","v":{"$error":"#N/A"}},null,null,{"$f":"Balance_Under","v":{"$error":"#N/A"}},{"$f":"Interest_Under","v":{"$error":"#N/A"}},{"$f":"YearlySavings_Under","v":{"$error":"#N/A"}},{"$f":"DesiredRetirementIncome","v":{"$error":"#N/A"}},{"$f":"PensionIncome_Under","v":{"$error":"#N/A"}},{"$f":"EndBalance","v":{"$error":"#N/A"}},null,null,{"$f":"Balance_Over","v":{"$error":"#N/A"}},{"$f":"Interest_Over","v":{"$error":"#N/A"}},{"$f":"YearlySavings_Over","v":{"$error":"#N/A"}},{"$f":"DesiredRetirementIncome","v":{"$error":"#N/A"}},{"$f":"PensionIncome_Over","v":{"$error":"#N/A"}},{"$f":"EndBalance","v":{"$error":"#N/A"}},null,null,{"$f":"IF(Calculations!B95<DesiredRetirementAge,K95,NA())","v":{"$error":"#N/A"}},{"$f":"IF(Calculations!B95>=(DesiredRetirementAge-1),K95,NA())","v":{"$error":"#N/A"}},null,null,{"$error":"#N/A"}]
[null,{"$f":"Age","v":{"$error":"#N/A"}},{"$f":"Salary","v":{"$error":"#N/A"}},null,null,{"$f":"Balance","v":{"$error":"#N/A"}},{"$f":"Interest","v":{"$error":"#N/A"}},{"$f":"YearlySavings","v":{"$error":"#N/A"}},{"$f":"DesiredRetirementIncome","v":{"$error":"#N/A"}},{"$f":"PensionIncome","v":{"$error":"#N/A"}},{"$f":"EndBalance","v":{"$error":"#N/A"}},null,null,{"$f":"Balance_Under","v":{"$error":"#N/A"}},{"$f":"Interest_Under","v":{"$error":"#N/A"}},{"$f":"YearlySavings_Under","v":{"$error":"#N/A"}},{"$f":"DesiredRetirementIncome","v":{"$error":"#N/A"}},{"$f":"PensionIncome_Under","v":{"$error":"#N/A"}},{"$f":"EndBalance","v":{"$error":"#N/A"}},null,null,{"$f":"Balance_Over","v":{"$error":"#N/A"}},{"$f":"Interest_Over","v":{"$error":"#N/A"}},{"$f":"YearlySavings_Over","v":{"$error":"#N/A"}},{"$f":"DesiredRetirementIncome","v":{"$error":"#N/A"}},{"$f":"PensionIncome_Over","v":{"$error":"#N/A"}},{"$f":"EndBalance","v":{"$error":"#N/A"}},null,null,{"$f":"IF(Calculations!B96<DesiredRetirementAge,K96,NA())","v":{"$error":"#N/A"}},{"$f":"IF(Calculations!B96>=(DesiredRetirementAge-1),K96,NA())","v":{"$error":"#N/A"}},null,null,{"$error":"#N/A"}]
[null,{"$f":"Age","v":{"$error":"#N/A"}},{"$f":"Salary","v":{"$error":"#N/A"}},null,null,{"$f":"Balance","v":{"$error":"#N/A"}},{"$f":"Interest","v":{"$error":"#N/A"}},{"$f":"YearlySavings","v":{"$error":"#N/A"}},{"$f":"DesiredRetirementIncome","v":{"$error":"#N/A"}},{"$f":"PensionIncome","v":{"$error":"#N/A"}},{"$f":"EndBalance","v":{"$error":"#N/A"}},null,null,{"$f":"Balance_Under","v":{"$error":"#N/A"}},{"$f":"Interest_Under","v":{"$error":"#N/A"}},{"$f":"YearlySavings_Under","v":{"$error":"#N/A"}},{"$f":"DesiredRetirementIncome","v":{"$error":"#N/A"}},{"$f":"PensionIncome_Under","v":{"$error":"#N/A"}},{"$f":"EndBalance","v":{"$error":"#N/A"}},null,null,{"$f":"Balance_Over","v":{"$error":"#N/A"}},{"$f":"Interest_Over","v":{"$error":"#N/A"}},{"$f":"YearlySavings_Over","v":{"$error":"#N/A"}},{"$f":"DesiredRetirementIncome","v":{"$error":"#N/A"}},{"$f":"PensionIncome_Over","v":{"$error":"#N/A"}},{"$f":"EndBalance","v":{"$error":"#N/A"}},null,null,{"$f":"IF(Calculations!B97<DesiredRetirementAge,K97,NA())","v":{"$error":"#N/A"}},{"$f":"IF(Calculations!B97>=(DesiredRetirementAge-1),K97,NA())","v":{"$error":"#N/A"}},null,null,{"$error":"#N/A"}]
[null,{"$f":"Age","v":{"$error":"#N/A"}},{"$f":"Salary","v":{"$error":"#N/A"}},null,null,{"$f":"Balance","v":{"$error":"#N/A"}},{"$f":"Interest","v":{"$error":"#N/A"}},{"$f":"YearlySavings","v":{"$error":"#N/A"}},{"$f":"DesiredRetirementIncome","v":{"$error":"#N/A"}},{"$f":"PensionIncome","v":{"$error":"#N/A"}},{"$f":"EndBalance","v":{"$error":"#N/A"}},null,null,{"$f":"Balance_Under","v":{"$error":"#N/A"}},{"$f":"Interest_Under","v":{"$error":"#N/A"}},{"$f":"YearlySavings_Under","v":{"$error":"#N/A"}},{"$f":"DesiredRetirementIncome","v":{"$error":"#N/A"}},{"$f":"PensionIncome_Under","v":{"$error":"#N/A"}},{"$f":"EndBalance","v":{"$error":"#N/A"}},null,null,{"$f":"Balance_Over","v":{"$error":"#N/A"}},{"$f":"Interest_Over","v":{"$error":"#N/A"}},{"$f":"YearlySavings_Over","v":{"$error":"#N/A"}},{"$f":"DesiredRetirementIncome","v":{"$error":"#N/A"}},{"$f":"PensionIncome_Over","v":{"$error":"#N/A"}},{"$f":"EndBalance","v":{"$error":"#N/A"}},null,null,{"$f":"IF(Calculations!B98<DesiredRetirementAge,K98,NA())","v":{"$error":"#N/A"}},{"$f":"IF(Calculations!B98>=(DesiredRetirementAge-1),K98,NA())","v":{"$error":"#N/A"}},null,null,{"$error":"#N/A"}]
[null,{"$f":"Age","v":{"$error":"#N/A"}},{"$f":"Salary","v":{"$error":"#N/A"}},null,null,{"$f":"Balance","v":{"$error":"#N/A"}},{"$f":"Interest","v":{"$error":"#N/A"}},{"$f":"YearlySavings","v":{"$error":"#N/A"}},{"$f":"DesiredRetirementIncome","v":{"$error":"#N/A"}},{"$f":"PensionIncome","v":{"$error":"#N/A"}},{"$f":"EndBalance","v":{"$error":"#N/A"}},null,null,{"$f":"Balance_Under","v":{"$error":"#N/A"}},{"$f":"Interest_Under","v":{"$error":"#N/A"}},{"$f":"YearlySavings_Under","v":{"$error":"#N/A"}},{"$f":"DesiredRetirementIncome","v":{"$error":"#N/A"}},{"$f":"PensionIncome_Under","v":{"$error":"#N/A"}},{"$f":"EndBalance","v":{"$error":"#N/A"}},null,null,{"$f":"Balance_Over","v":{"$error":"#N/A"}},{"$f":"Interest_Over","v":{"$error":"#N/A"}},{"$f":"YearlySavings_Over","v":{"$error":"#N/A"}},{"$f":"DesiredRetirementIncome","v":{"$error":"#N/A"}},{"$f":"PensionIncome_Over","v":{"$error":"#N/A"}},{"$f":"EndBalance","v":{"$error":"#N/A"}},null,null,{"$f":"IF(Calculations!B99<DesiredRetirementAge,K99,NA())","v":{"$error":"#N/A"}},{"$f":"IF(Calculations!B99>=(DesiredRetirementAge-1),K99,NA())","v":{"$error":"#N/A"}},null,null,{"$error":"#N/A"}]
[null,{"$f":"Age","v":{"$error":"#N/A"}},{"$f":"Salary","v":{"$error":"#N/A"}},null,null,{"$f":"Balance","v":{"$error":"#N/A"}},{"$f":"Interest","v":{"$error":"#N/A"}},{"$f":"YearlySavings","v":{"$error":"#N/A"}},{"$f":"DesiredRetirementIncome","v":{"$error":"#N/A"}},{"$f":"PensionIncome","v":{"$error":"#N/A"}},{"$f":"EndBalance","v":{"$error":"#N/A"}},null,null,{"$f":"Balance_Under","v":{"$error":"#N/A"}},{"$f":"Interest_Under","v":{"$error":"#N/A"}},{"$f":"YearlySavings_Under","v":{"$error":"#N/A"}},{"$f":"DesiredRetirementIncome","v":{"$error":"#N/A"}},{"$f":"PensionIncome_Under","v":{"$error":"#N/A"}},{"$f":"EndBalance","v":{"$error":"#N/A"}},null,null,{"$f":"Balance_Over","v":{"$error":"#N/A"}},{"$f":"Interest_Over","v":{"$error":"#N/A"}},{"$f":"YearlySavings_Over","v":{"$error":"#N/A"}},{"$f":"DesiredRetirementIncome","v":{"$error":"#N/A"}},{"$f":"PensionIncome_Over","v":{"$error":"#N/A"}},{"$f":"EndBalance","v":{"$error":"#N/A"}},null,null,{"$f":"IF(Calculations!B100<DesiredRetirementAge,K100,NA())","v":{"$error":"#N/A"}},{"$f":"IF(Calculations!B100>=(DesiredRetirementAge-1),K100,NA())","v":{"$error":"#N/A"}},null,null,{"$error":"#N/A"}]
[null,{"$f":"Age","v":{"$error":"#N/A"}},{"$f":"Salary","v":{"$error":"#N/A"}},null,null,{"$f":"Balance","v":{"$error":"#N/A"}},{"$f":"Interest","v":{"$error":"#N/A"}},{"$f":"YearlySavings","v":{"$error":"#N/A"}},{"$f":"DesiredRetirementIncome","v":{"$error":"#N/A"}},{"$f":"PensionIncome","v":{"$error":"#N/A"}},{"$f":"EndBalance","v":{"$error":"#N/A"}},null,null,{"$f":"Balance_Under","v":{"$error":"#N/A"}},{"$f":"Interest_Under","v":{"$error":"#N/A"}},{"$f":"YearlySavings_Under","v":{"$error":"#N/A"}},{"$f":"DesiredRetirementIncome","v":{"$error":"#N/A"}},{"$f":"PensionIncome_Under","v":{"$error":"#N/A"}},{"$f":"EndBalance","v":{"$error":"#N/A"}},null,null,{"$f":"Balance_Over","v":{"$error":"#N/A"}},{"$f":"Interest_Over","v":{"$error":"#N/A"}},{"$f":"YearlySavings_Over","v":{"$error":"#N/A"}},{"$f":"DesiredRetirementIncome","v":{"$error":"#N/A"}},{"$f":"PensionIncome_Over","v":{"$error":"#N/A"}},{"$f":"EndBalance","v":{"$error":"#N/A"}},null,null,{"$f":"IF(Calculations!B101<DesiredRetirementAge,K101,NA())","v":{"$error":"#N/A"}},{"$f":"IF(Calculations!B101>=(DesiredRetirementAge-1),K101,NA())","v":{"$error":"#N/A"}},null,null,{"$f":"AA101-S101","v":{"$error":"#N/A"}}]
[null,{"$f":"Age","v":{"$error":"#N/A"}},{"$f":"Salary","v":{"$error":"#N/A"}},null,null,{"$f":"Balance","v":{"$error":"#N/A"}},{"$f":"Interest","v":{"$error":"#N/A"}},{"$f":"YearlySavings","v":{"$error":"#N/A"}},{"$f":"DesiredRetirementIncome","v":{"$error":"#N/A"}},{"$f":"PensionIncome","v":{"$error":"#N/A"}},{"$f":"EndBalance","v":{"$error":"#N/A"}},null,null,{"$f":"Balance_Under","v":{"$error":"#N/A"}},{"$f":"Interest_Under","v":{"$error":"#N/A"}},{"$f":"YearlySavings_Under","v":{"$error":"#N/A"}},{"$f":"DesiredRetirementIncome","v":{"$error":"#N/A"}},{"$f":"PensionIncome_Under","v":{"$error":"#N/A"}},{"$f":"EndBalance","v":{"$error":"#N/A"}},null,null,{"$f":"Balance_Over","v":{"$error":"#N/A"}},{"$f":"Interest_Over","v":{"$error":"#N/A"}},{"$f":"YearlySavings_Over","v":{"$error":"#N/A"}},{"$f":"DesiredRetirementIncome","v":{"$error":"#N/A"}},{"$f":"PensionIncome_Over","v":{"$error":"#N/A"}},{"$f":"EndBalance","v":{"$error":"#N/A"}},null,null,{"$f":"IF(Calculations!B102<DesiredRetirementAge,K102,NA())","v":{"$error":"#N/A"}},{"$f":"IF(Calculations!B102>=(DesiredRetirementAge-1),K102,NA())","v":{"$error":"#N/A"}},null,null,{"$error":"#N/A"}]
[null,{"$f":"Age","v":{"$error":"#N/A"}},{"$f":"Salary","v":{"$error":"#N/A"}},null,null,{"$f":"Balance","v":{"$error":"#N/A"}},{"$f":"Interest","v":{"$error":"#N/A"}},{"$f":"YearlySavings","v":{"$error":"#N/A"}},{"$f":"DesiredRetirementIncome","v":{"$error":"#N/A"}},{"$f":"PensionIncome","v":{"$error":"#N/A"}},{"$f":"EndBalance","v":{"$error":"#N/A"}},null,null,{"$f":"Balance_Under","v":{"$error":"#N/A"}},{"$f":"Interest_Under","v":{"$error":"#N/A"}},{"$f":"YearlySavings_Under","v":{"$error":"#N/A"}},{"$f":"DesiredRetirementIncome","v":{"$error":"#N/A"}},{"$f":"PensionIncome_Under","v":{"$error":"#N/A"}},{"$f":"EndBalance","v":{"$error":"#N/A"}},null,null,{"$f":"Balance_Over","v":{"$error":"#N/A"}},{"$f":"Interest_Over","v":{"$error":"#N/A"}},{"$f":"YearlySavings_Over","v":{"$error":"#N/A"}},{"$f":"DesiredRetirementIncome","v":{"$error":"#N/A"}},{"$f":"PensionIncome_Over","v":{"$error":"#N/A"}},{"$f":"EndBalance","v":{"$error":"#N/A"}},null,null,{"$f":"IF(Calculations!B103<DesiredRetirementAge,K103,NA())","v":{"$error":"#N/A"}},{"$f":"IF(Calculations!B103>=(DesiredRetirementAge-1),K103,NA())","v":{"$error":"#N/A"}},null,null,{"$error":"#N/A"}]
[null,{"$f":"Age","v":{"$error":"#N/A"}},{"$f":"Salary","v":{"$error":"#N/A"}},null,null,{"$f":"Balance","v":{"$error":"#N/A"}},{"$f":"Interest","v":{"$error":"#N/A"}},{"$f":"YearlySavings","v":{"$error":"#N/A"}},{"$f":"DesiredRetirementIncome","v":{"$error":"#N/A"}},{"$f":"PensionIncome","v":{"$error":"#N/A"}},{"$f":"EndBalance","v":{"$error":"#N/A"}},null,null,{"$f":"Balance_Under","v":{"$error":"#N/A"}},{"$f":"Interest_Under","v":{"$error":"#N/A"}},{"$f":"YearlySavings_Under","v":{"$error":"#N/A"}},{"$f":"DesiredRetirementIncome","v":{"$error":"#N/A"}},{"$f":"PensionIncome_Under","v":{"$error":"#N/A"}},{"$f":"EndBalance","v":{"$error":"#N/A"}},null,null,{"$f":"Balance_Over","v":{"$error":"#N/A"}},{"$f":"Interest_Over","v":{"$error":"#N/A"}},{"$f":"YearlySavings_Over","v":{"$error":"#N/A"}},{"$f":"DesiredRetirementIncome","v":{"$error":"#N/A"}},{"$f":"PensionIncome_Over","v":{"$error":"#N/A"}},{"$f":"EndBalance","v":{"$error":"#N/A"}},null,null,{"$f":"IF(Calculations!B104<DesiredRetirementAge,K104,NA())","v":{"$error":"#N/A"}},{"$f":"IF(Calculations!B104>=(DesiredRetirementAge-1),K104,NA())","v":{"$error":"#N/A"}},null,null,{"$error":"#N/A"}]
[null,{"$f":"Age","v":{"$error":"#N/A"}},{"$f":"Salary","v":{"$error":"#N/A"}},null,null,{"$f":"Balance","v":{"$error":"#N/A"}},{"$f":"Interest","v":{"$error":"#N/A"}},{"$f":"YearlySavings","v":{"$error":"#N/A"}},{"$f":"DesiredRetirementIncome","v":{"$error":"#N/A"}},{"$f":"PensionIncome","v":{"$error":"#N/A"}},{"$f":"EndBalance","v":{"$error":"#N/A"}},null,null,{"$f":"Balance_Under","v":{"$error":"#N/A"}},{"$f":"Interest_Under","v":{"$error":"#N/A"}},{"$f":"YearlySavings_Under","v":{"$error":"#N/A"}},{"$f":"DesiredRetirementIncome","v":{"$error":"#N/A"}},{"$f":"PensionIncome_Under","v":{"$error":"#N/A"}},{"$f":"EndBalance","v":{"$error":"#N/A"}},null,null,{"$f":"Balance_Over","v":{"$error":"#N/A"}},{"$f":"Interest_Over","v":{"$error":"#N/A"}},{"$f":"YearlySavings_Over","v":{"$error":"#N/A"}},{"$f":"DesiredRetirementIncome","v":{"$error":"#N/A"}},{"$f":"PensionIncome_Over","v":{"$error":"#N/A"}},{"$f":"EndBalance","v":{"$error":"#N/A"}},null,null,{"$f":"IF(Calculations!B105<DesiredRetirementAge,K105,NA())","v":{"$error":"#N/A"}},{"$f":"IF(Calculations!B105>=(DesiredRetirementAge-1),K105,NA())","v":{"$error":"#N/A"}},null,null,{"$error":"#N/A"}]
[null,{"$f":"Age","v":{"$error":"#N/A"}},{"$f":"Salary","v":{"$error":"#N/A"}},null,null,{"$f":"Balance","v":{"$error":"#N/A"}},{"$f":"Interest","v":{"$error":"#N/A"}},{"$f":"YearlySavings","v":{"$error":"#N/A"}},{"$f":"DesiredRetirementIncome","v":{"$error":"#N/A"}},{"$f":"PensionIncome","v":{"$error":"#N/A"}},{"$f":"EndBalance","v":{"$error":"#N/A"}},null,null,{"$f":"Balance_Under","v":{"$error":"#N/A"}},{"$f":"Interest_Under","v":{"$error":"#N/A"}},{"$f":"YearlySavings_Under","v":{"$error":"#N/A"}},{"$f":"DesiredRetirementIncome","v":{"$error":"#N/A"}},{"$f":"PensionIncome_Under","v":{"$error":"#N/A"}},{"$f":"EndBalance","v":{"$error":"#N/A"}},null,null,{"$f":"Balance_Over","v":{"$error":"#N/A"}},{"$f":"Interest_Over","v":{"$error":"#N/A"}},{"$f":"YearlySavings_Over","v":{"$error":"#N/A"}},{"$f":"DesiredRetirementIncome","v":{"$error":"#N/A"}},{"$f":"PensionIncome_Over","v":{"$error":"#N/A"}},{"$f":"EndBalance","v":{"$error":"#N/A"}},null,null,{"$f":"IF(Calculations!B106<DesiredRetirementAge,K106,NA())","v":{"$error":"#N/A"}},{"$f":"IF(Calculations!B106>=(DesiredRetirementAge-1),K106,NA())","v":{"$error":"#N/A"}},null,null,{"$error":"#N/A"}]
[null,{"$f":"Age","v":{"$error":"#N/A"}},{"$f":"Salary","v":{"$error":"#N/A"}},null,null,{"$f":"Balance","v":{"$error":"#N/A"}},{"$f":"Interest","v":{"$error":"#N/A"}},{"$f":"YearlySavings","v":{"$error":"#N/A"}},{"$f":"DesiredRetirementIncome","v":{"$error":"#N/A"}},{"$f":"PensionIncome","v":{"$error":"#N/A"}},{"$f":"EndBalance","v":{"$error":"#N/A"}},null,null,{"$f":"Balance_Under","v":{"$error":"#N/A"}},{"$f":"Interest_Under","v":{"$error":"#N/A"}},{"$f":"YearlySavings_Under","v":{"$error":"#N/A"}},{"$f":"DesiredRetirementIncome","v":{"$error":"#N/A"}},{"$f":"PensionIncome_Under","v":{"$error":"#N/A"}},{"$f":"EndBalance","v":{"$error":"#N/A"}},null,null,{"$f":"Balance_Over","v":{"$error":"#N/A"}},{"$f":"Interest_Over","v":{"$error":"#N/A"}},{"$f":"YearlySavings_Over","v":{"$error":"#N/A"}},{"$f":"DesiredRetirementIncome","v":{"$error":"#N/A"}},{"$f":"PensionIncome_Over","v":{"$error":"#N/A"}},{"$f":"EndBalance","v":{"$error":"#N/A"}},null,null,{"$f":"IF(Calculations!B107<DesiredRetirementAge,K107,NA())","v":{"$error":"#N/A"}},{"$f":"IF(Calculations!B107>=(DesiredRetirementAge-1),K107,NA())","v":{"$error":"#N/A"}},null,null,{"$error":"#N/A"}]
[null,{"$f":"Age","v":{"$error":"#N/A"}},{"$f":"Salary","v":{"$error":"#N/A"}},null,null,{"$f":"Balance","v":{"$error":"#N/A"}},{"$f":"Interest","v":{"$error":"#N/A"}},{"$f":"YearlySavings","v":{"$error":"#N/A"}},{"$f":"DesiredRetirementIncome","v":{"$error":"#N/A"}},{"$f":"PensionIncome","v":{"$error":"#N/A"}},{"$f":"EndBalance","v":{"$error":"#N/A"}},null,null,{"$f":"Balance_Under","v":{"$error":"#N/A"}},{"$f":"Interest_Under","v":{"$error":"#N/A"}},{"$f":"YearlySavings_Under","v":{"$error":"#N/A"}},{"$f":"DesiredRetirementIncome","v":{"$error":"#N/A"}},{"$f":"PensionIncome_Under","v":{"$error":"#N/A"}},{"$f":"EndBalance","v":{"$error":"#N/A"}},null,null,{"$f":"Balance_Over","v":{"$error":"#N/A"}},{"$f":"Interest_Over","v":{"$error":"#N/A"}},{"$f":"YearlySavings_Over","v":{"$error":"#N/A"}},{"$f":"DesiredRetirementIncome","v":{"$error":"#N/A"}},{"$f":"PensionIncome_Over","v":{"$error":"#N/A"}},{"$f":"EndBalance","v":{"$error":"#N/A"}},null,null,{"$f":"IF(Calculations!B108<DesiredRetirementAge,K108,NA())","v":{"$error":"#N/A"}},{"$f":"IF(Calculations!B108>=(DesiredRetirementAge-1),K108,NA())","v":{"$error":"#N/A"}},null,null,{"$error":"#N/A"}]
[null,{"$f":"Age","v":{"$error":"#N/A"}},{"$f":"Salary","v":{"$error":"#N/A"}},null,null,{"$f":"Balance","v":{"$error":"#N/A"}},{"$f":"Interest","v":{"$error":"#N/A"}},{"$f":"YearlySavings","v":{"$error":"#N/A"}},{"$f":"DesiredRetirementIncome","v":{"$error":"#N/A"}},{"$f":"PensionIncome","v":{"$error":"#N/A"}},{"$f":"EndBalance","v":{"$error":"#N/A"}},null,null,{"$f":"Balance_Under","v":{"$error":"#N/A"}},{"$f":"Interest_Under","v":{"$error":"#N/A"}},{"$f":"YearlySavings_Under","v":{"$error":"#N/A"}},{"$f":"DesiredRetirementIncome","v":{"$error":"#N/A"}},{"$f":"PensionIncome_Under","v":{"$error":"#N/A"}},{"$f":"EndBalance","v":{"$error":"#N/A"}},null,null,{"$f":"Balance_Over","v":{"$error":"#N/A"}},{"$f":"Interest_Over","v":{"$error":"#N/A"}},{"$f":"YearlySavings_Over","v":{"$error":"#N/A"}},{"$f":"DesiredRetirementIncome","v":{"$error":"#N/A"}},{"$f":"PensionIncome_Over","v":{"$error":"#N/A"}},{"$f":"EndBalance","v":{"$error":"#N/A"}},null,null,{"$f":"IF(Calculations!B109<DesiredRetirementAge,K109,NA())","v":{"$error":"#N/A"}},{"$f":"IF(Calculations!B109>=(DesiredRetirementAge-1),K109,NA())","v":{"$error":"#N/A"}},null,null,{"$error":"#N/A"}]
[null,{"$f":"Age","v":{"$error":"#N/A"}},{"$f":"Salary","v":{"$error":"#N/A"}},null,null,{"$f":"Balance","v":{"$error":"#N/A"}},{"$f":"Interest","v":{"$error":"#N/A"}},{"$f":"YearlySavings","v":{"$error":"#N/A"}},{"$f":"DesiredRetirementIncome","v":{"$error":"#N/A"}},{"$f":"PensionIncome","v":{"$error":"#N/A"}},{"$f":"EndBalance","v":{"$error":"#N/A"}},null,null,{"$f":"Balance_Under","v":{"$error":"#N/A"}},{"$f":"Interest_Under","v":{"$error":"#N/A"}},{"$f":"YearlySavings_Under","v":{"$error":"#N/A"}},{"$f":"DesiredRetirementIncome","v":{"$error":"#N/A"}},{"$f":"PensionIncome_Under","v":{"$error":"#N/A"}},{"$f":"EndBalance","v":{"$error":"#N/A"}},null,null,{"$f":"Balance_Over","v":{"$error":"#N/A"}},{"$f":"Interest_Over","v":{"$error":"#N/A"}},{"$f":"YearlySavings_Over","v":{"$error":"#N/A"}},{"$f":"DesiredRetirementIncome","v":{"$error":"#N/A"}},{"$f":"PensionIncome_Over","v":{"$error":"#N/A"}},{"$f":"EndBalance","v":{"$error":"#N/A"}},null,null,{"$f":"IF(Calculations!B110<DesiredRetirementAge,K110,NA())","v":{"$error":"#N/A"}},{"$f":"IF(Calculations!B110>=(DesiredRetirementAge-1),K110,NA())","v":{"$error":"#N/A"}},null,null,{"$error":"#N/A"}]
[null,{"$f":"Age","v":{"$error":"#N/A"}},{"$f":"Salary","v":{"$error":"#N/A"}},null,null,{"$f":"Balance","v":{"$error":"#N/A"}},{"$f":"Interest","v":{"$error":"#N/A"}},{"$f":"YearlySavings","v":{"$error":"#N/A"}},{"$f":"DesiredRetirementIncome","v":{"$error":"#N/A"}},{"$f":"PensionIncome","v":{"$error":"#N/A"}},{"$f":"EndBalance","v":{"$error":"#N/A"}},null,null,{"$f":"Balance_Under","v":{"$error":"#N/A"}},{"$f":"Interest_Under","v":{"$error":"#N/A"}},{"$f":"YearlySavings_Under","v":{"$error":"#N/A"}},{"$f":"DesiredRetirementIncome","v":{"$error":"#N/A"}},{"$f":"PensionIncome_Under","v":{"$error":"#N/A"}},{"$f":"EndBalance","v":{"$error":"#N/A"}},null,null,{"$f":"Balance_Over","v":{"$error":"#N/A"}},{"$f":"Interest_Over","v":{"$error":"#N/A"}},{"$f":"YearlySavings_Over","v":{"$error":"#N/A"}},{"$f":"DesiredRetirementIncome","v":{"$error":"#N/A"}},{"$f":"PensionIncome_Over","v":{"$error":"#N/A"}},{"$f":"EndBalance","v":{"$error":"#N/A"}},null,null,{"$f":"IF(Calculations!B111<DesiredRetirementAge,K111,NA())","v":{"$error":"#N/A"}},{"$f":"IF(Calculations!B111>=(DesiredRetirementAge-1),K111,NA())","v":{"$error":"#N/A"}},null,null,{"$error":"#N/A"}]
[null,{"$f":"Age","v":{"$error":"#N/A"}},{"$f":"Salary","v":{"$error":"#N/A"}},null,null,{"$f":"Balance","v":{"$error":"#N/A"}},{"$f":"Interest","v":{"$error":"#N/A"}},{"$f":"YearlySavings","v":{"$error":"#N/A"}},{"$f":"DesiredRetirementIncome","v":{"$error":"#N/A"}},{"$f":"PensionIncome","v":{"$error":"#N/A"}},{"$f":"EndBalance","v":{"$error":"#N/A"}},null,null,{"$f":"Balance_Under","v":{"$error":"#N/A"}},{"$f":"Interest_Under","v":{"$error":"#N/A"}},{"$f":"YearlySavings_Under","v":{"$error":"#N/A"}},{"$f":"DesiredRetirementIncome","v":{"$error":"#N/A"}},{"$f":"PensionIncome_Under","v":{"$error":"#N/A"}},{"$f":"EndBalance","v":{"$error":"#N/A"}},null,null,{"$f":"Balance_Over","v":{"$error":"#N/A"}},{"$f":"Interest_Over","v":{"$error":"#N/A"}},{"$f":"YearlySavings_Over","v":{"$error":"#N/A"}},{"$f":"DesiredRetirementIncome","v":{"$error":"#N/A"}},{"$f":"PensionIncome_Over","v":{"$error":"#N/A"}},{"$f":"EndBalance","v":{"$error":"#N/A"}},null,null,{"$f":"IF(Calculations!B112<DesiredRetirementAge,K112,NA())","v":{"$error":"#N/A"}},{"$f":"IF(Calculations!B112>=(DesiredRetirementAge-1),K112,NA())","v":{"$error":"#N/A"}},null,null,{"$error":"#N/A"}]
[null,{"$f":"Age","v":{"$error":"#N/A"}},{"$f":"Salary","v":{"$error":"#N/A"}},null,null,{"$f":"Balance","v":{"$error":"#N/A"}},{"$f":"Interest","v":{"$error":"#N/A"}},{"$f":"YearlySavings","v":{"$error":"#N/A"}},{"$f":"DesiredRetirementIncome","v":{"$error":"#N/A"}},{"$f":"PensionIncome","v":{"$error":"#N/A"}},{"$f":"EndBalance","v":{"$error":"#N/A"}},null,null,{"$f":"Balance_Under","v":{"$error":"#N/A"}},{"$f":"Interest_Under","v":{"$error":"#N/A"}},{"$f":"YearlySavings_Under","v":{"$error":"#N/A"}},{"$f":"DesiredRetirementIncome","v":{"$error":"#N/A"}},{"$f":"PensionIncome_Under","v":{"$error":"#N/A"}},{"$f":"EndBalance","v":{"$error":"#N/A"}},null,null,{"$f":"Balance_Over","v":{"$error":"#N/A"}},{"$f":"Interest_Over","v":{"$error":"#N/A"}},{"$f":"YearlySavings_Over","v":{"$error":"#N/A"}},{"$f":"DesiredRetirementIncome","v":{"$error":"#N/A"}},{"$f":"PensionIncome_Over","v":{"$error":"#N/A"}},{"$f":"EndBalance","v":{"$error":"#N/A"}},null,null,{"$f":"IF(Calculations!B113<DesiredRetirementAge,K113,NA())","v":{"$error":"#N/A"}},{"$f":"IF(Calculations!B113>=(DesiredRetirementAge-1),K113,NA())","v":{"$error":"#N/A"}},null,null,{"$error":"#N/A"}]
[null,{"$f":"Age","v":{"$error":"#N/A"}},{"$f":"Salary","v":{"$error":"#N/A"}},null,null,{"$f":"Balance","v":{"$error":"#N/A"}},{"$f":"Interest","v":{"$error":"#N/A"}},{"$f":"YearlySavings","v":{"$error":"#N/A"}},{"$f":"DesiredRetirementIncome","v":{"$error":"#N/A"}},{"$f":"PensionIncome","v":{"$error":"#N/A"}},{"$f":"EndBalance","v":{"$error":"#N/A"}},null,null,{"$f":"Balance_Under","v":{"$error":"#N/A"}},{"$f":"Interest_Under","v":{"$error":"#N/A"}},{"$f":"YearlySavings_Under","v":{"$error":"#N/A"}},{"$f":"DesiredRetirementIncome","v":{"$error":"#N/A"}},{"$f":"PensionIncome_Under","v":{"$error":"#N/A"}},{"$f":"EndBalance","v":{"$error":"#N/A"}},null,null,{"$f":"Balance_Over","v":{"$error":"#N/A"}},{"$f":"Interest_Over","v":{"$error":"#N/A"}},{"$f":"YearlySavings_Over","v":{"$error":"#N/A"}},{"$f":"DesiredRetirementIncome","v":{"$error":"#N/A"}},{"$f":"PensionIncome_Over","v":{"$error":"#N/A"}},{"$f":"EndBalance","v":{"$error":"#N/A"}},null,null,{"$f":"IF(Calculations!B114<DesiredRetirementAge,K114,NA())","v":{"$error":"#N/A"}},{"$f":"IF(Calculations!B114>=(DesiredRetirementAge-1),K114,NA())","v":{"$error":"#N/A"}},null,null,{"$error":"#N/A"}]
[null,{"$f":"Age","v":{"$error":"#N/A"}},{"$f":"Salary","v":{"$error":"#N/A"}},null,null,{"$f":"Balance","v":{"$error":"#N/A"}},{"$f":"Interest","v":{"$error":"#N/A"}},{"$f":"YearlySavings","v":{"$error":"#N/A"}},{"$f":"DesiredRetirementIncome","v":{"$error":"#N/A"}},{"$f":"PensionIncome","v":{"$error":"#N/A"}},{"$f":"EndBalance","v":{"$error":"#N/A"}},null,null,{"$f":"Balance_Under","v":{"$error":"#N/A"}},{"$f":"Interest_Under","v":{"$error":"#N/A"}},{"$f":"YearlySavings_Under","v":{"$error":"#N/A"}},{"$f":"DesiredRetirementIncome","v":{"$error":"#N/A"}},{"$f":"PensionIncome_Under","v":{"$error":"#N/A"}},{"$f":"EndBalance","v":{"$error":"#N/A"}},null,null,{"$f":"Balance_Over","v":{"$error":"#N/A"}},{"$f":"Interest_Over","v":{"$error":"#N/A"}},{"$f":"YearlySavings_Over","v":{"$error":"#N/A"}},{"$f":"DesiredRetirementIncome","v":{"$error":"#N/A"}},{"$f":"PensionIncome_Over","v":{"$error":"#N/A"}},{"$f":"EndBalance","v":{"$error":"#N/A"}},null,null,{"$f":"IF(Calculations!B115<DesiredRetirementAge,K115,NA())","v":{"$error":"#N/A"}},{"$f":"IF(Calculations!B115>=(DesiredRetirementAge-1),K115,NA())","v":{"$error":"#N/A"}},null,null,{"$error":"#N/A"}]
[null,{"$f":"Age","v":{"$error":"#N/A"}},{"$f":"Salary","v":{"$error":"#N/A"}},null,null,{"$f":"Balance","v":{"$error":"#N/A"}},{"$f":"Interest","v":{"$error":"#N/A"}},{"$f":"YearlySavings","v":{"$error":"#N/A"}},{"$f":"DesiredRetirementIncome","v":{"$error":"#N/A"}},{"$f":"PensionIncome","v":{"$error":"#N/A"}},{"$f":"EndBalance","v":{"$error":"#N/A"}},null,null,{"$f":"Balance_Under","v":{"$error":"#N/A"}},{"$f":"Interest_Under","v":{"$error":"#N/A"}},{"$f":"YearlySavings_Under","v":{"$error":"#N/A"}},{"$f":"DesiredRetirementIncome","v":{"$error":"#N/A"}},{"$f":"PensionIncome_Under","v":{"$error":"#N/A"}},{"$f":"EndBalance","v":{"$error":"#N/A"}},null,null,{"$f":"Balance_Over","v":{"$error":"#N/A"}},{"$f":"Interest_Over","v":{"$error":"#N/A"}},{"$f":"YearlySavings_Over","v":{"$error":"#N/A"}},{"$f":"DesiredRetirementIncome","v":{"$error":"#N/A"}},{"$f":"PensionIncome_Over","v":{"$error":"#N/A"}},{"$f":"EndBalance","v":{"$error":"#N/A"}},null,null,{"$f":"IF(Calculations!B116<DesiredRetirementAge,K116,NA())","v":{"$error":"#N/A"}},{"$f":"IF(Calculations!B116>=(DesiredRetirementAge-1),K116,NA())","v":{"$error":"#N/A"}},null,null,{"$error":"#N/A"}]
[null,{"$f":"Age","v":{"$error":"#N/A"}},{"$f":"Salary","v":{"$error":"#N/A"}},null,null,{"$f":"Balance","v":{"$error":"#N/A"}},{"$f":"Interest","v":{"$error":"#N/A"}},{"$f":"YearlySavings","v":{"$error":"#N/A"}},{"$f":"DesiredRetirementIncome","v":{"$error":"#N/A"}},{"$f":"PensionIncome","v":{"$error":"#N/A"}},{"$f":"EndBalance","v":{"$error":"#N/A"}},null,null,{"$f":"Balance_Under","v":{"$error":"#N/A"}},{"$f":"Interest_Under","v":{"$error":"#N/A"}},{"$f":"YearlySavings_Under","v":{"$error":"#N/A"}},{"$f":"DesiredRetirementIncome","v":{"$error":"#N/A"}},{"$f":"PensionIncome_Under","v":{"$error":"#N/A"}},{"$f":"EndBalance","v":{"$error":"#N/A"}},null,null,{"$f":"Balance_Over","v":{"$error":"#N/A"}},{"$f":"Interest_Over","v":{"$error":"#N/A"}},{"$f":"YearlySavings_Over","v":{"$error":"#N/A"}},{"$f":"DesiredRetirementIncome","v":{"$error":"#N/A"}},{"$f":"PensionIncome_Over","v":{"$error":"#N/A"}},{"$f":"EndBalance","v":{"$error":"#N/A"}},null,null,{"$f":"IF(Calculations!B117<DesiredRetirementAge,K117,NA())","v":{"$error":"#N/A"}},{"$f":"IF(Calculations!B117>=(DesiredRetirementAge-1),K117,NA())","v":{"$error":"#N/A"}},null,null,{"$error":"#N/A"}]
[null,{"$f":"Age","v":{"$error":"#N/A"}},{"$f":"Salary","v":{"$error":"#N/A"}},null,null,{"$f":"Balance","v":{"$error":"#N/A"}},{"$f":"Interest","v":{"$error":"#N/A"}},{"$f":"YearlySavings","v":{"$error":"#N/A"}},{"$f":"DesiredRetirementIncome","v":{"$error":"#N/A"}},{"$f":"PensionIncome","v":{"$error":"#N/A"}},{"$f":"EndBalance","v":{"$error":"#N/A"}},null,null,{"$f":"Balance_Under","v":{"$error":"#N/A"}},{"$f":"Interest_Under","v":{"$error":"#N/A"}},{"$f":"YearlySavings_Under","v":{"$error":"#N/A"}},{"$f":"DesiredRetirementIncome","v":{"$error":"#N/A"}},{"$f":"PensionIncome_Under","v":{"$error":"#N/A"}},{"$f":"EndBalance","v":{"$error":"#N/A"}},null,null,{"$f":"Balance_Over","v":{"$error":"#N/A"}},{"$f":"Interest_Over","v":{"$error":"#N/A"}},{"$f":"YearlySavings_Over","v":{"$error":"#N/A"}},{"$f":"DesiredRetirementIncome","v":{"$error":"#N/A"}},{"$f":"PensionIncome_Over","v":{"$error":"#N/A"}},{"$f":"EndBalance","v":{"$error":"#N/A"}},null,null,{"$f":"IF(Calculations!B118<DesiredRetirementAge,K118,NA())","v":{"$error":"#N/A"}},{"$f":"IF(Calculations!B118>=(DesiredRetirementAge-1),K118,NA())","v":{"$error":"#N/A"}},null,null,{"$error":"#N/A"}]
[null,{"$f":"Age","v":{"$error":"#N/A"}},{"$f":"Salary","v":{"$error":"#N/A"}},null,null,{"$f":"Balance","v":{"$error":"#N/A"}},{"$f":"Interest","v":{"$error":"#N/A"}},{"$f":"YearlySavings","v":{"$error":"#N/A"}},{"$f":"DesiredRetirementIncome","v":{"$error":"#N/A"}},{"$f":"PensionIncome","v":{"$error":"#N/A"}},{"$f":"EndBalance","v":{"$error":"#N/A"}},null,null,{"$f":"Balance_Under","v":{"$error":"#N/A"}},{"$f":"Interest_Under","v":{"$error":"#N/A"}},{"$f":"YearlySavings_Under","v":{"$error":"#N/A"}},{"$f":"DesiredRetirementIncome","v":{"$error":"#N/A"}},{"$f":"PensionIncome_Under","v":{"$error":"#N/A"}},{"$f":"EndBalance","v":{"$error":"#N/A"}},null,null,{"$f":"Balance_Over","v":{"$error":"#N/A"}},{"$f":"Interest_Over","v":{"$error":"#N/A"}},{"$f":"YearlySavings_Over","v":{"$error":"#N/A"}},{"$f":"DesiredRetirementIncome","v":{"$error":"#N/A"}},{"$f":"PensionIncome_Over","v":{"$error":"#N/A"}},{"$f":"EndBalance","v":{"$error":"#N/A"}},null,null,{"$f":"IF(Calculations!B119<DesiredRetirementAge,K119,NA())","v":{"$error":"#N/A"}},{"$f":"IF(Calculations!B119>=(DesiredRetirementAge-1),K119,NA())","v":{"$error":"#N/A"}},null,null,{"$error":"#N/A"}]
[null,{"$f":"Age","v":{"$error":"#N/A"}},{"$f":"Salary","v":{"$error":"#N/A"}},null,null,{"$f":"Balance","v":{"$error":"#N/A"}},{"$f":"Interest","v":{"$error":"#N/A"}},{"$f":"YearlySavings","v":{"$error":"#N/A"}},{"$f":"DesiredRetirementIncome","v":{"$error":"#N/A"}},{"$f":"PensionIncome","v":{"$error":"#N/A"}},{"$f":"EndBalance","v":{"$error":"#N/A"}},null,null,{"$f":"Balance_Under","v":{"$error":"#N/A"}},{"$f":"Interest_Under","v":{"$error":"#N/A"}},{"$f":"YearlySavings_Under","v":{"$error":"#N/A"}},{"$f":"DesiredRetirementIncome","v":{"$error":"#N/A"}},{"$f":"PensionIncome_Under","v":{"$error":"#N/A"}},{"$f":"EndBalance","v":{"$error":"#N/A"}},null,null,{"$f":"Balance_Over","v":{"$error":"#N/A"}},{"$f":"Interest_Over","v":{"$error":"#N/A"}},{"$f":"YearlySavings_Over","v":{"$error":"#N/A"}},{"$f":"DesiredRetirementIncome","v":{"$error":"#N/A"}},{"$f":"PensionIncome_Over","v":{"$error":"#N/A"}},{"$f":"EndBalance","v":{"$error":"#N/A"}},null,null,{"$f":"IF(Calculations!B120<DesiredRetirementAge,K120,NA())","v":{"$error":"#N/A"}},{"$f":"IF(Calculations!B120>=(DesiredRetirementAge-1),K120,NA())","v":{"$error":"#N/A"}},null,null,{"$error":"#N/A"}]
[null,{"$f":"Age","v":{"$error":"#N/A"}},{"$f":"Salary","v":{"$error":"#N/A"}},null,null,{"$f":"Balance","v":{"$error":"#N/A"}},{"$f":"Interest","v":{"$error":"#N/A"}},{"$f":"YearlySavings","v":{"$error":"#N/A"}},{"$f":"DesiredRetirementIncome","v":{"$error":"#N/A"}},{"$f":"PensionIncome","v":{"$error":"#N/A"}},{"$f":"EndBalance","v":{"$error":"#N/A"}},null,null,{"$f":"Balance_Under","v":{"$error":"#N/A"}},{"$f":"Interest_Under","v":{"$error":"#N/A"}},{"$f":"YearlySavings_Under","v":{"$error":"#N/A"}},{"$f":"DesiredRetirementIncome","v":{"$error":"#N/A"}},{"$f":"PensionIncome_Under","v":{"$error":"#N/A"}},{"$f":"EndBalance","v":{"$error":"#N/A"}},null,null,{"$f":"Balance_Over","v":{"$error":"#N/A"}},{"$f":"Interest_Over","v":{"$error":"#N/A"}},{"$f":"YearlySavings_Over","v":{"$error":"#N/A"}},{"$f":"DesiredRetirementIncome","v":{"$error":"#N/A"}},{"$f":"PensionIncome_Over","v":{"$error":"#N/A"}},{"$f":"EndBalance","v":{"$error":"#N/A"}},null,null,{"$f":"IF(Calculations!B121<DesiredRetirementAge,K121,NA())","v":{"$error":"#N/A"}},{"$f":"IF(Calculations!B121>=(DesiredRetirementAge-1),K121,NA())","v":{"$error":"#N/A"}},null,null,{"$error":"#N/A"}]
[null,{"$f":"Age","v":{"$error":"#N/A"}},{"$f":"Salary","v":{"$error":"#N/A"}},null,null,{"$f":"Balance","v":{"$error":"#N/A"}},{"$f":"Interest","v":{"$error":"#N/A"}},{"$f":"YearlySavings","v":{"$error":"#N/A"}},{"$f":"DesiredRetirementIncome","v":{"$error":"#N/A"}},{"$f":"PensionIncome","v":{"$error":"#N/A"}},{"$f":"EndBalance","v":{"$error":"#N/A"}},null,null,{"$f":"Balance_Under","v":{"$error":"#N/A"}},{"$f":"Interest_Under","v":{"$error":"#N/A"}},{"$f":"YearlySavings_Under","v":{"$error":"#N/A"}},{"$f":"DesiredRetirementIncome","v":{"$error":"#N/A"}},{"$f":"PensionIncome_Under","v":{"$error":"#N/A"}},{"$f":"EndBalance","v":{"$error":"#N/A"}},null,null,{"$f":"Balance_Over","v":{"$error":"#N/A"}},{"$f":"Interest_Over","v":{"$error":"#N/A"}},{"$f":"YearlySavings_Over","v":{"$error":"#N/A"}},{"$f":"DesiredRetirementIncome","v":{"$error":"#N/A"}},{"$f":"PensionIncome_Over","v":{"$error":"#N/A"}},{"$f":"EndBalance","v":{"$error":"#N/A"}},null,null,{"$f":"IF(Calculations!B122<DesiredRetirementAge,K122,NA())","v":{"$error":"#N/A"}},{"$f":"IF(Calculations!B122>=(DesiredRetirementAge-1),K122,NA())","v":{"$error":"#N/A"}},null,null,{"$error":"#N/A"}]
[null,{"$f":"Age","v":{"$error":"#N/A"}},{"$f":"Salary","v":{"$error":"#N/A"}},null,null,{"$f":"Balance","v":{"$error":"#N/A"}},{"$f":"Interest","v":{"$error":"#N/A"}},{"$f":"YearlySavings","v":{"$error":"#N/A"}},{"$f":"DesiredRetirementIncome","v":{"$error":"#N/A"}},{"$f":"PensionIncome","v":{"$error":"#N/A"}},{"$f":"EndBalance","v":{"$error":"#N/A"}},null,null,{"$f":"Balance_Under","v":{"$error":"#N/A"}},{"$f":"Interest_Under","v":{"$error":"#N/A"}},{"$f":"YearlySavings_Under","v":{"$error":"#N/A"}},{"$f":"DesiredRetirementIncome","v":{"$error":"#N/A"}},{"$f":"PensionIncome_Under","v":{"$error":"#N/A"}},{"$f":"EndBalance","v":{"$error":"#N/A"}},null,null,{"$f":"Balance_Over","v":{"$error":"#N/A"}},{"$f":"Interest_Over","v":{"$error":"#N/A"}},{"$f":"YearlySavings_Over","v":{"$error":"#N/A"}},{"$f":"DesiredRetirementIncome","v":{"$error":"#N/A"}},{"$f":"PensionIncome_Over","v":{"$error":"#N/A"}},{"$f":"EndBalance","v":{"$error":"#N/A"}},null,null,{"$f":"IF(Calculations!B123<DesiredRetirementAge,K123,NA())","v":{"$error":"#N/A"}},{"$f":"IF(Calculations!B123>=(DesiredRetirementAge-1),K123,NA())","v":{"$error":"#N/A"}},null,null,{"$error":"#N/A"}]
[null,{"$f":"Age","v":{"$error":"#N/A"}},{"$f":"Salary","v":{"$error":"#N/A"}},null,null,{"$f":"Balance","v":{"$error":"#N/A"}},{"$f":"Interest","v":{"$error":"#N/A"}},{"$f":"YearlySavings","v":{"$error":"#N/A"}},{"$f":"DesiredRetirementIncome","v":{"$error":"#N/A"}},{"$f":"PensionIncome","v":{"$error":"#N/A"}},{"$f":"EndBalance","v":{"$error":"#N/A"}},null,null,{"$f":"Balance_Under","v":{"$error":"#N/A"}},{"$f":"Interest_Under","v":{"$error":"#N/A"}},{"$f":"YearlySavings_Under","v":{"$error":"#N/A"}},{"$f":"DesiredRetirementIncome","v":{"$error":"#N/A"}},{"$f":"PensionIncome_Under","v":{"$error":"#N/A"}},{"$f":"EndBalance","v":{"$error":"#N/A"}},null,null,{"$f":"Balance_Over","v":{"$error":"#N/A"}},{"$f":"Interest_Over","v":{"$error":"#N/A"}},{"$f":"YearlySavings_Over","v":{"$error":"#N/A"}},{"$f":"DesiredRetirementIncome","v":{"$error":"#N/A"}},{"$f":"PensionIncome_Over","v":{"$error":"#N/A"}},{"$f":"EndBalance","v":{"$error":"#N/A"}},null,null,{"$f":"IF(Calculations!B124<DesiredRetirementAge,K124,NA())","v":{"$error":"#N/A"}},{"$f":"IF(Calculations!B124>=(DesiredRetirementAge-1),K124,NA())","v":{"$error":"#N/A"}},null,null,{"$error":"#N/A"}]
[null,{"$f":"Age","v":{"$error":"#N/A"}},{"$f":"Salary","v":{"$error":"#N/A"}},null,null,{"$f":"Balance","v":{"$error":"#N/A"}},{"$f":"Interest","v":{"$error":"#N/A"}},{"$f":"YearlySavings","v":{"$error":"#N/A"}},{"$f":"DesiredRetirementIncome","v":{"$error":"#N/A"}},{"$f":"PensionIncome","v":{"$error":"#N/A"}},{"$f":"EndBalance","v":{"$error":"#N/A"}},null,null,{"$f":"Balance_Under","v":{"$error":"#N/A"}},{"$f":"Interest_Under","v":{"$error":"#N/A"}},{"$f":"YearlySavings_Under","v":{"$error":"#N/A"}},{"$f":"DesiredRetirementIncome","v":{"$error":"#N/A"}},{"$f":"PensionIncome_Under","v":{"$error":"#N/A"}},{"$f":"EndBalance","v":{"$error":"#N/A"}},null,null,{"$f":"Balance_Over","v":{"$error":"#N/A"}},{"$f":"Interest_Over","v":{"$error":"#N/A"}},{"$f":"YearlySavings_Over","v":{"$error":"#N/A"}},{"$f":"DesiredRetirementIncome","v":{"$error":"#N/A"}},{"$f":"PensionIncome_Over","v":{"$error":"#N/A"}},{"$f":"EndBalance","v":{"$error":"#N/A"}},null,null,{"$f":"IF(Calculations!B125<DesiredRetirementAge,K125,NA())","v":{"$error":"#N/A"}},{"$f":"IF(Calculations!B125>=(DesiredRetirementAge-1),K125,NA())","v":{"$error":"#N/A"}},null,null,{"$error":"#N/A"}]
[null,{"$f":"Age","v":{"$error":"#N/A"}},{"$f":"Salary","v":{"$error":"#N/A"}},null,null,{"$f":"Balance","v":{"$error":"#N/A"}},{"$f":"Interest","v":{"$error":"#N/A"}},{"$f":"YearlySavings","v":{"$error":"#N/A"}},{"$f":"DesiredRetirementIncome","v":{"$error":"#N/A"}},{"$f":"PensionIncome","v":{"$error":"#N/A"}},{"$f":"EndBalance","v":{"$error":"#N/A"}},null,null,{"$f":"Balance_Under","v":{"$error":"#N/A"}},{"$f":"Interest_Under","v":{"$error":"#N/A"}},{"$f":"YearlySavings_Under","v":{"$error":"#N/A"}},{"$f":"DesiredRetirementIncome","v":{"$error":"#N/A"}},{"$f":"PensionIncome_Under","v":{"$error":"#N/A"}},{"$f":"EndBalance","v":{"$error":"#N/A"}},null,null,{"$f":"Balance_Over","v":{"$error":"#N/A"}},{"$f":"Interest_Over","v":{"$error":"#N/A"}},{"$f":"YearlySavings_Over","v":{"$error":"#N/A"}},{"$f":"DesiredRetirementIncome","v":{"$error":"#N/A"}},{"$f":"PensionIncome_Over","v":{"$error":"#N/A"}},{"$f":"EndBalance","v":{"$error":"#N/A"}},null,null,{"$f":"IF(Calculations!B126<DesiredRetirementAge,K126,NA())","v":{"$error":"#N/A"}},{"$f":"IF(Calculations!B126>=(DesiredRetirementAge-1),K126,NA())","v":{"$error":"#N/A"}},null,null,{"$error":"#N/A"}]
[null,{"$f":"Age","v":{"$error":"#N/A"}},{"$f":"Salary","v":{"$error":"#N/A"}},null,null,{"$f":"Balance","v":{"$error":"#N/A"}},{"$f":"Interest","v":{"$error":"#N/A"}},{"$f":"YearlySavings","v":{"$error":"#N/A"}},{"$f":"DesiredRetirementIncome","v":{"$error":"#N/A"}},{"$f":"PensionIncome","v":{"$error":"#N/A"}},{"$f":"EndBalance","v":{"$error":"#N/A"}},null,null,{"$f":"Balance_Under","v":{"$error":"#N/A"}},{"$f":"Interest_Under","v":{"$error":"#N/A"}},{"$f":"YearlySavings_Under","v":{"$error":"#N/A"}},{"$f":"DesiredRetirementIncome","v":{"$error":"#N/A"}},{"$f":"PensionIncome_Under","v":{"$error":"#N/A"}},{"$f":"EndBalance","v":{"$error":"#N/A"}},null,null,{"$f":"Balance_Over","v":{"$error":"#N/A"}},{"$f":"Interest_Over","v":{"$error":"#N/A"}},{"$f":"YearlySavings_Over","v":{"$error":"#N/A"}},{"$f":"DesiredRetirementIncome","v":{"$error":"#N/A"}},{"$f":"PensionIncome_Over","v":{"$error":"#N/A"}},{"$f":"EndBalance","v":{"$error":"#N/A"}},null,null,{"$f":"IF(Calculations!B127<DesiredRetirementAge,K127,NA())","v":{"$error":"#N/A"}},{"$f":"IF(Calculations!B127>=(DesiredRetirementAge-1),K127,NA())","v":{"$error":"#N/A"}},null,null,{"$error":"#N/A"}]
[null,{"$f":"Age","v":{"$error":"#N/A"}},{"$f":"Salary","v":{"$error":"#N/A"}},null,null,{"$f":"Balance","v":{"$error":"#N/A"}},{"$f":"Interest","v":{"$error":"#N/A"}},{"$f":"YearlySavings","v":{"$error":"#N/A"}},{"$f":"DesiredRetirementIncome","v":{"$error":"#N/A"}},{"$f":"PensionIncome","v":{"$error":"#N/A"}},{"$f":"EndBalance","v":{"$error":"#N/A"}},null,null,{"$f":"Balance_Under","v":{"$error":"#N/A"}},{"$f":"Interest_Under","v":{"$error":"#N/A"}},{"$f":"YearlySavings_Under","v":{"$error":"#N/A"}},{"$f":"DesiredRetirementIncome","v":{"$error":"#N/A"}},{"$f":"PensionIncome_Under","v":{"$error":"#N/A"}},{"$f":"EndBalance","v":{"$error":"#N/A"}},null,null,{"$f":"Balance_Over","v":{"$error":"#N/A"}},{"$f":"Interest_Over","v":{"$error":"#N/A"}},{"$f":"YearlySavings_Over","v":{"$error":"#N/A"}},{"$f":"DesiredRetirementIncome","v":{"$error":"#N/A"}},{"$f":"PensionIncome_Over","v":{"$error":"#N/A"}},{"$f":"EndBalance","v":{"$error":"#N/A"}},null,null,{"$f":"IF(Calculations!B128<DesiredRetirementAge,K128,NA())","v":{"$error":"#N/A"}},{"$f":"IF(Calculations!B128>=(DesiredRetirementAge-1),K128,NA())","v":{"$error":"#N/A"}},null,null,{"$error":"#N/A"}]
[null,{"$f":"Age","v":{"$error":"#N/A"}},{"$f":"Salary","v":{"$error":"#N/A"}},null,null,{"$f":"Balance","v":{"$error":"#N/A"}},{"$f":"Interest","v":{"$error":"#N/A"}},{"$f":"YearlySavings","v":{"$error":"#N/A"}},{"$f":"DesiredRetirementIncome","v":{"$error":"#N/A"}},{"$f":"PensionIncome","v":{"$error":"#N/A"}},{"$f":"EndBalance","v":{"$error":"#N/A"}},null,null,{"$f":"Balance_Under","v":{"$error":"#N/A"}},{"$f":"Interest_Under","v":{"$error":"#N/A"}},{"$f":"YearlySavings_Under","v":{"$error":"#N/A"}},{"$f":"DesiredRetirementIncome","v":{"$error":"#N/A"}},{"$f":"PensionIncome_Under","v":{"$error":"#N/A"}},{"$f":"EndBalance","v":{"$error":"#N/A"}},null,null,{"$f":"Balance_Over","v":{"$error":"#N/A"}},{"$f":"Interest_Over","v":{"$error":"#N/A"}},{"$f":"YearlySavings_Over","v":{"$error":"#N/A"}},{"$f":"DesiredRetirementIncome","v":{"$error":"#N/A"}},{"$f":"PensionIncome_Over","v":{"$error":"#N/A"}},{"$f":"EndBalance","v":{"$error":"#N/A"}},null,null,{"$f":"IF(Calculations!B129<DesiredRetirementAge,K129,NA())","v":{"$error":"#N/A"}},{"$f":"IF(Calculations!B129>=(DesiredRetirementAge-1),K129,NA())","v":{"$error":"#N/A"}},null,null,{"$error":"#N/A"}]
[null,{"$f":"Age","v":{"$error":"#N/A"}},{"$f":"Salary","v":{"$error":"#N/A"}},null,null,{"$f":"Balance","v":{"$error":"#N/A"}},{"$f":"Interest","v":{"$error":"#N/A"}},{"$f":"YearlySavings","v":{"$error":"#N/A"}},{"$f":"DesiredRetirementIncome","v":{"$error":"#N/A"}},{"$f":"PensionIncome","v":{"$error":"#N/A"}},{"$f":"EndBalance","v":{"$error":"#N/A"}},null,null,{"$f":"Balance_Under","v":{"$error":"#N/A"}},{"$f":"Interest_Under","v":{"$error":"#N/A"}},{"$f":"YearlySavings_Under","v":{"$error":"#N/A"}},{"$f":"DesiredRetirementIncome","v":{"$error":"#N/A"}},{"$f":"PensionIncome_Under","v":{"$error":"#N/A"}},{"$f":"EndBalance","v":{"$error":"#N/A"}},null,null,{"$f":"Balance_Over","v":{"$error":"#N/A"}},{"$f":"Interest_Over","v":{"$error":"#N/A"}},{"$f":"YearlySavings_Over","v":{"$error":"#N/A"}},{"$f":"DesiredRetirementIncome","v":{"$error":"#N/A"}},{"$f":"PensionIncome_Over","v":{"$error":"#N/A"}},{"$f":"EndBalance","v":{"$error":"#N/A"}},null,null,{"$f":"IF(Calculations!B130<DesiredRetirementAge,K130,NA())","v":{"$error":"#N/A"}},{"$f":"IF(Calculations!B130>=(DesiredRetirementAge-1),K130,NA())","v":{"$error":"#N/A"}},null,null,{"$error":"#N/A"}]
[null,{"$f":"Age","v":{"$error":"#N/A"}},{"$f":"Salary","v":{"$error":"#N/A"}},null,null,{"$f":"Balance","v":{"$error":"#N/A"}},{"$f":"Interest","v":{"$error":"#N/A"}},{"$f":"YearlySavings","v":{"$error":"#N/A"}},{"$f":"DesiredRetirementIncome","v":{"$error":"#N/A"}},{"$f":"PensionIncome","v":{"$error":"#N/A"}},{"$f":"EndBalance","v":{"$error":"#N/A"}},null,null,{"$f":"Balance_Under","v":{"$error":"#N/A"}},{"$f":"Interest_Under","v":{"$error":"#N/A"}},{"$f":"YearlySavings_Under","v":{"$error":"#N/A"}},{"$f":"DesiredRetirementIncome","v":{"$error":"#N/A"}},{"$f":"PensionIncome_Under","v":{"$error":"#N/A"}},{"$f":"EndBalance","v":{"$error":"#N/A"}},null,null,{"$f":"Balance_Over","v":{"$error":"#N/A"}},{"$f":"Interest_Over","v":{"$error":"#N/A"}},{"$f":"YearlySavings_Over","v":{"$error":"#N/A"}},{"$f":"DesiredRetirementIncome","v":{"$error":"#N/A"}},{"$f":"PensionIncome_Over","v":{"$error":"#N/A"}},{"$f":"EndBalance","v":{"$error":"#N/A"}},null,null,{"$f":"IF(Calculations!B131<DesiredRetirementAge,K131,NA())","v":{"$error":"#N/A"}},{"$f":"IF(Calculations!B131>=(DesiredRetirementAge-1),K131,NA())","v":{"$error":"#N/A"}},null,null,{"$error":"#N/A"}]
[null,{"$f":"Age","v":{"$error":"#N/A"}},{"$f":"Salary","v":{"$error":"#N/A"}},null,null,{"$f":"Balance","v":{"$error":"#N/A"}},{"$f":"Interest","v":{"$error":"#N/A"}},{"$f":"YearlySavings","v":{"$error":"#N/A"}},{"$f":"DesiredRetirementIncome","v":{"$error":"#N/A"}},{"$f":"PensionIncome","v":{"$error":"#N/A"}},{"$f":"EndBalance","v":{"$error":"#N/A"}},null,null,{"$f":"Balance_Under","v":{"$error":"#N/A"}},{"$f":"Interest_Under","v":{"$error":"#N/A"}},{"$f":"YearlySavings_Under","v":{"$error":"#N/A"}},{"$f":"DesiredRetirementIncome","v":{"$error":"#N/A"}},{"$f":"PensionIncome_Under","v":{"$error":"#N/A"}},{"$f":"EndBalance","v":{"$error":"#N/A"}},null,null,{"$f":"Balance_Over","v":{"$error":"#N/A"}},{"$f":"Interest_Over","v":{"$error":"#N/A"}},{"$f":"YearlySavings_Over","v":{"$error":"#N/A"}},{"$f":"DesiredRetirementIncome","v":{"$error":"#N/A"}},{"$f":"PensionIncome_Over","v":{"$error":"#N/A"}},{"$f":"EndBalance","v":{"$error":"#N/A"}},null,null,{"$f":"IF(Calculations!B132<DesiredRetirementAge,K132,NA())","v":{"$error":"#N/A"}},{"$f":"IF(Calculations!B132>=(DesiredRetirementAge-1),K132,NA())","v":{"$error":"#N/A"}},null,null,{"$error":"#N/A"}]
[null,{"$f":"Age","v":{"$error":"#N/A"}},{"$f":"Salary","v":{"$error":"#N/A"}},null,null,{"$f":"Balance","v":{"$error":"#N/A"}},{"$f":"Interest","v":{"$error":"#N/A"}},{"$f":"YearlySavings","v":{"$error":"#N/A"}},{"$f":"DesiredRetirementIncome","v":{"$error":"#N/A"}},{"$f":"PensionIncome","v":{"$error":"#N/A"}},{"$f":"EndBalance","v":{"$error":"#N/A"}},null,null,{"$f":"Balance_Under","v":{"$error":"#N/A"}},{"$f":"Interest_Under","v":{"$error":"#N/A"}},{"$f":"YearlySavings_Under","v":{"$error":"#N/A"}},{"$f":"DesiredRetirementIncome","v":{"$error":"#N/A"}},{"$f":"PensionIncome_Under","v":{"$error":"#N/A"}},{"$f":"EndBalance","v":{"$error":"#N/A"}},null,null,{"$f":"Balance_Over","v":{"$error":"#N/A"}},{"$f":"Interest_Over","v":{"$error":"#N/A"}},{"$f":"YearlySavings_Over","v":{"$error":"#N/A"}},{"$f":"DesiredRetirementIncome","v":{"$error":"#N/A"}},{"$f":"PensionIncome_Over","v":{"$error":"#N/A"}},{"$f":"EndBalance","v":{"$error":"#N/A"}},null,null,{"$f":"IF(Calculations!B133<DesiredRetirementAge,K133,NA())","v":{"$error":"#N/A"}},{"$f":"IF(Calculations!B133>=(DesiredRetirementAge-1),K133,NA())","v":{"$error":"#N/A"}},null,null,{"$error":"#N/A"}]
[null,{"$f":"Age","v":{"$error":"#N/A"}},{"$f":"Salary","v":{"$error":"#N/A"}},null,null,{"$f":"Balance","v":{"$error":"#N/A"}},{"$f":"Interest","v":{"$error":"#N/A"}},{"$f":"YearlySavings","v":{"$error":"#N/A"}},{"$f":"DesiredRetirementIncome","v":{"$error":"#N/A"}},{"$f":"PensionIncome","v":{"$error":"#N/A"}},{"$f":"EndBalance","v":{"$error":"#N/A"}},null,null,{"$f":"Balance_Under","v":{"$error":"#N/A"}},{"$f":"Interest_Under","v":{"$error":"#N/A"}},{"$f":"YearlySavings_Under","v":{"$error":"#N/A"}},{"$f":"DesiredRetirementIncome","v":{"$error":"#N/A"}},{"$f":"PensionIncome_Under","v":{"$error":"#N/A"}},{"$f":"EndBalance","v":{"$error":"#N/A"}},null,null,{"$f":"Balance_Over","v":{"$error":"#N/A"}},{"$f":"Interest_Over","v":{"$error":"#N/A"}},{"$f":"YearlySavings_Over","v":{"$error":"#N/A"}},{"$f":"DesiredRetirementIncome","v":{"$error":"#N/A"}},{"$f":"PensionIncome_Over","v":{"$error":"#N/A"}},{"$f":"EndBalance","v":{"$error":"#N/A"}},null,null,{"$f":"IF(Calculations!B134<DesiredRetirementAge,K134,NA())","v":{"$error":"#N/A"}},{"$f":"IF(Calculations!B134>=(DesiredRetirementAge-1),K134,NA())","v":{"$error":"#N/A"}},null,null,{"$error":"#N/A"}]
[null,{"$f":"Age","v":{"$error":"#N/A"}},{"$f":"Salary","v":{"$error":"#N/A"}},null,null,{"$f":"Balance","v":{"$error":"#N/A"}},{"$f":"Interest","v":{"$error":"#N/A"}},{"$f":"YearlySavings","v":{"$error":"#N/A"}},{"$f":"DesiredRetirementIncome","v":{"$error":"#N/A"}},{"$f":"PensionIncome","v":{"$error":"#N/A"}},{"$f":"EndBalance","v":{"$error":"#N/A"}},null,null,{"$f":"Balance_Under","v":{"$error":"#N/A"}},{"$f":"Interest_Under","v":{"$error":"#N/A"}},{"$f":"YearlySavings_Under","v":{"$error":"#N/A"}},{"$f":"DesiredRetirementIncome","v":{"$error":"#N/A"}},{"$f":"PensionIncome_Under","v":{"$error":"#N/A"}},{"$f":"EndBalance","v":{"$error":"#N/A"}},null,null,{"$f":"Balance_Over","v":{"$error":"#N/A"}},{"$f":"Interest_Over","v":{"$error":"#N/A"}},{"$f":"YearlySavings_Over","v":{"$error":"#N/A"}},{"$f":"DesiredRetirementIncome","v":{"$error":"#N/A"}},{"$f":"PensionIncome_Over","v":{"$error":"#N/A"}},{"$f":"EndBalance","v":{"$error":"#N/A"}},null,null,{"$f":"IF(Calculations!B135<DesiredRetirementAge,K135,NA())","v":{"$error":"#N/A"}},{"$f":"IF(Calculations!B135>=(DesiredRetirementAge-1),K135,NA())","v":{"$error":"#N/A"}},null,null,{"$error":"#N/A"}]