{"text_format":"3","workbook":"xlsx","n_sheets":12,"sheets":["1","2","3","4","5","6","7","8","9","10","11","12"],"not_rendered":{"defined_names":120},"read":"whole","date_system":"1900"}

{"sheet":"1","index":0,"n_rows":18,"n_cols":33,"rows_kept":18,"merged":[[1,1,1,7],[1,9,1,12],[1,14,1,18],[4,1,4,5],[4,6,4,10],[4,11,4,15],[4,16,4,20],[4,21,4,25],[4,26,4,30],[4,31,4,35]]}
[]
[null,"January",{"$nulls":7},2013,{"$nulls":4},"Sunday"]
[null,"  Calendar Month",{"$nulls":7},"  Calendar Year",{"$nulls":4},"  First Day of Week"]
[]
[null,{"$f":"INDEX(calendar,,1)","v":41273},{"$nulls":4},{"$f":"INDEX(calendar,,2)","v":41274},{"$nulls":4},{"$f":"INDEX(calendar,,3)","v":41275},{"$nulls":4},{"$f":"INDEX(calendar,,4)","v":41276},{"$nulls":4},{"$f":"INDEX(calendar,,5)","v":41277},{"$nulls":4},{"$f":"INDEX(calendar,,6)","v":41278},{"$nulls":4},{"$f":"INDEX(calendar,,7)","v":41279}]
[null,null,{"$f":"INDEX(calendar,ndx+0,1)","v":"2012-12-30"},{"$nulls":4},{"$f":"INDEX(calendar,ndx+0,2)","v":"2012-12-31"},{"$nulls":4},{"$f":"INDEX(calendar,ndx+0,3)","v":"2013-01-01"},{"$nulls":4},{"$f":"INDEX(calendar,ndx+0,4)","v":"2013-01-02"},{"$nulls":4},{"$f":"INDEX(calendar,ndx+0,5)","v":"2013-01-03"},{"$nulls":4},{"$f":"INDEX(calendar,ndx+0,6)","v":"2013-01-04"},{"$nulls":4},{"$f":"INDEX(calendar,ndx+0,7)","v":"2013-01-05"}]
[]
[null,null,{"$f":"INDEX(calendar,ndx+1,1)","v":"2013-01-06"},{"$nulls":4},{"$f":"INDEX(calendar,ndx+1,2)","v":"2013-01-07"},{"$nulls":4},{"$f":"INDEX(calendar,ndx+1,3)","v":"2013-01-08"},{"$nulls":4},{"$f":"INDEX(calendar,ndx+1,4)","v":"2013-01-09"},{"$nulls":4},{"$f":"INDEX(calendar,ndx+1,5)","v":"2013-01-10"},{"$nulls":4},{"$f":"INDEX(calendar,ndx+1,6)","v":"2013-01-11"},{"$nulls":4},{"$f":"INDEX(calendar,ndx+1,7)","v":"2013-01-12"}]
[]
[null,null,{"$f":"INDEX(calendar,ndx+2,1)","v":"2013-01-13"},{"$nulls":4},{"$f":"INDEX(calendar,ndx+2,2)","v":"2013-01-14"},{"$nulls":4},{"$f":"INDEX(calendar,ndx+2,3)","v":"2013-01-15"},{"$nulls":4},{"$f":"INDEX(calendar,ndx+2,4)","v":"2013-01-16"},{"$nulls":4},{"$f":"INDEX(calendar,ndx+2,5)","v":"2013-01-17"},{"$nulls":4},{"$f":"INDEX(calendar,ndx+2,6)","v":"2013-01-18"},{"$nulls":4},{"$f":"INDEX(calendar,ndx+2,7)","v":"2013-01-19"}]
[]
[null,null,{"$f":"INDEX(calendar,ndx+3,1)","v":"2013-01-20"},{"$nulls":4},{"$f":"INDEX(calendar,ndx+3,2)","v":"2013-01-21"},{"$nulls":4},{"$f":"INDEX(calendar,ndx+3,3)","v":"2013-01-22"},{"$nulls":4},{"$f":"INDEX(calendar,ndx+3,4)","v":"2013-01-23"},{"$nulls":4},{"$f":"INDEX(calendar,ndx+3,5)","v":"2013-01-24"},{"$nulls":4},{"$f":"INDEX(calendar,ndx+3,6)","v":"2013-01-25"},{"$nulls":4},{"$f":"INDEX(calendar,ndx+3,7)","v":"2013-01-26"}]
[]
[null,null,{"$f":"INDEX(calendar,ndx+4,1)","v":"2013-01-27"},{"$nulls":4},{"$f":"INDEX(calendar,ndx+4,2)","v":"2013-01-28"},{"$nulls":4},{"$f":"INDEX(calendar,ndx+4,3)","v":"2013-01-29"},{"$nulls":4},{"$f":"INDEX(calendar,ndx+4,4)","v":"2013-01-30"},{"$nulls":4},{"$f":"INDEX(calendar,ndx+4,5)","v":"2013-01-31"},{"$nulls":4},{"$f":"INDEX(calendar,ndx+4,6)","v":"2013-02-01"},{"$nulls":4},{"$f":"INDEX(calendar,ndx+4,7)","v":"2013-02-02"}]
[]
[null,null,{"$f":"INDEX(calendar,ndx+5,1)","v":"2013-02-03"},{"$nulls":4},{"$f":"INDEX(calendar,ndx+5,2)","v":"2013-02-04"},{"$nulls":4},{"$f":"INDEX(calendar,ndx+5,3)","v":"2013-02-05"},{"$nulls":4},{"$f":"INDEX(calendar,ndx+5,4)","v":"2013-02-06"},{"$nulls":4},{"$f":"INDEX(calendar,ndx+5,5)","v":"2013-02-07"},{"$nulls":4},{"$f":"INDEX(calendar,ndx+5,6)","v":"2013-02-08"},{"$nulls":4},{"$f":"INDEX(calendar,ndx+5,7)","v":"2013-02-09"}]
[]
[null,null,"Notes"]

{"sheet":"2","index":1,"n_rows":18,"n_cols":33,"rows_kept":18,"merged":[[1,1,1,7],[1,9,1,12],[1,14,1,18],[4,1,4,5],[4,6,4,10],[4,11,4,15],[4,16,4,20],[4,21,4,25],[4,26,4,30],[4,31,4,35]]}
[]
[null,{"$f":"TEXT(EOMONTH('1'!$C$10,0)+1,\"mmmm\")","v":"February"},{"$nulls":7},{"$f":"YEAR(EOMONTH('1'!$C$10,0)+1)","v":2013},{"$nulls":4},{"$f":"DayToStart","v":"Sunday"}]
[null,"  Calendar Month",{"$nulls":7},"  Calendar Year",{"$nulls":4},"  First Day of Week"]
[]
[null,{"$f":"INDEX(calendar,,1)","v":41301},{"$nulls":4},{"$f":"INDEX(calendar,,2)","v":41302},{"$nulls":4},{"$f":"INDEX(calendar,,3)","v":41303},{"$nulls":4},{"$f":"INDEX(calendar,,4)","v":41304},{"$nulls":4},{"$f":"INDEX(calendar,,5)","v":41305},{"$nulls":4},{"$f":"INDEX(calendar,,6)","v":41306},{"$nulls":4},{"$f":"INDEX(calendar,,7)","v":41307}]
[null,null,{"$f":"INDEX(calendar,ndx+0,1)","v":"2013-01-27"},{"$nulls":4},{"$f":"INDEX(calendar,ndx+0,2)","v":"2013-01-28"},{"$nulls":4},{"$f":"INDEX(calendar,ndx+0,3)","v":"2013-01-29"},{"$nulls":4},{"$f":"INDEX(calendar,ndx+0,4)","v":"2013-01-30"},{"$nulls":4},{"$f":"INDEX(calendar,ndx+0,5)","v":"2013-01-31"},{"$nulls":4},{"$f":"INDEX(calendar,ndx+0,6)","v":"2013-02-01"},{"$nulls":4},{"$f":"INDEX(calendar,ndx+0,7)","v":"2013-02-02"}]
[]
[null,null,{"$f":"INDEX(calendar,ndx+1,1)","v":"2013-02-03"},{"$nulls":4},{"$f":"INDEX(calendar,ndx+1,2)","v":"2013-02-04"},{"$nulls":4},{"$f":"INDEX(calendar,ndx+1,3)","v":"2013-02-05"},{"$nulls":4},{"$f":"INDEX(calendar,ndx+1,4)","v":"2013-02-06"},{"$nulls":4},{"$f":"INDEX(calendar,ndx+1,5)","v":"2013-02-07"},{"$nulls":4},{"$f":"INDEX(calendar,ndx+1,6)","v":"2013-02-08"},{"$nulls":4},{"$f":"INDEX(calendar,ndx+1,7)","v":"2013-02-09"}]
[]
[null,null,{"$f":"INDEX(calendar,ndx+2,1)","v":"2013-02-10"},{"$nulls":4},{"$f":"INDEX(calendar,ndx+2,2)","v":"2013-02-11"},{"$nulls":4},{"$f":"INDEX(calendar,ndx+2,3)","v":"2013-02-12"},{"$nulls":4},{"$f":"INDEX(calendar,ndx+2,4)","v":"2013-02-13"},{"$nulls":4},{"$f":"INDEX(calendar,ndx+2,5)","v":"2013-02-14"},{"$nulls":4},{"$f":"INDEX(calendar,ndx+2,6)","v":"2013-02-15"},{"$nulls":4},{"$f":"INDEX(calendar,ndx+2,7)","v":"2013-02-16"}]
[]
[null,null,{"$f":"INDEX(calendar,ndx+3,1)","v":"2013-02-17"},{"$nulls":4},{"$f":"INDEX(calendar,ndx+3,2)","v":"2013-02-18"},{"$nulls":4},{"$f":"INDEX(calendar,ndx+3,3)","v":"2013-02-19"},{"$nulls":4},{"$f":"INDEX(calendar,ndx+3,4)","v":"2013-02-20"},{"$nulls":4},{"$f":"INDEX(calendar,ndx+3,5)","v":"2013-02-21"},{"$nulls":4},{"$f":"INDEX(calendar,ndx+3,6)","v":"2013-02-22"},{"$nulls":4},{"$f":"INDEX(calendar,ndx+3,7)","v":"2013-02-23"}]
[]
[null,null,{"$f":"INDEX(calendar,ndx+4,1)","v":"2013-02-24"},{"$nulls":4},{"$f":"INDEX(calendar,ndx+4,2)","v":"2013-02-25"},{"$nulls":4},{"$f":"INDEX(calendar,ndx+4,3)","v":"2013-02-26"},{"$nulls":4},{"$f":"INDEX(calendar,ndx+4,4)","v":"2013-02-27"},{"$nulls":4},{"$f":"INDEX(calendar,ndx+4,5)","v":"2013-02-28"},{"$nulls":4},{"$f":"INDEX(calendar,ndx+4,6)","v":"2013-03-01"},{"$nulls":4},{"$f":"INDEX(calendar,ndx+4,7)","v":"2013-03-02"}]
[]
[null,null,{"$f":"INDEX(calendar,ndx+5,1)","v":"2013-03-03"},{"$nulls":4},{"$f":"INDEX(calendar,ndx+5,2)","v":"2013-03-04"},{"$nulls":4},{"$f":"INDEX(calendar,ndx+5,3)","v":"2013-03-05"},{"$nulls":4},{"$f":"INDEX(calendar,ndx+5,4)","v":"2013-03-06"},{"$nulls":4},{"$f":"INDEX(calendar,ndx+5,5)","v":"2013-03-07"},{"$nulls":4},{"$f":"INDEX(calendar,ndx+5,6)","v":"2013-03-08"},{"$nulls":4},{"$f":"INDEX(calendar,ndx+5,7)","v":"2013-03-09"}]
[]
[null,null,"Notes"]

{"sheet":"3","index":2,"n_rows":18,"n_cols":33,"rows_kept":18,"merged":[[1,1,1,7],[1,9,1,12],[1,14,1,18],[4,1,4,5],[4,6,4,10],[4,11,4,15],[4,16,4,20],[4,21,4,25],[4,26,4,30],[4,31,4,35]]}
[]
[null,{"$f":"TEXT(EOMONTH('2'!$C$10,0)+1,\"mmmm\")","v":"March"},{"$nulls":7},{"$f":"YEAR(EOMONTH('2'!$C$10,0)+1)","v":2013},{"$nulls":4},{"$f":"DayToStart","v":"Sunday"}]
[null,"  Calendar Month",{"$nulls":7},"  Calendar Year",{"$nulls":4},"  First Day of Week"]
[]
[null,{"$f":"INDEX(calendar,,1)","v":41329},{"$nulls":4},{"$f":"INDEX(calendar,,2)","v":41330},{"$nulls":4},{"$f":"INDEX(calendar,,3)","v":41331},{"$nulls":4},{"$f":"INDEX(calendar,,4)","v":41332},{"$nulls":4},{"$f":"INDEX(calendar,,5)","v":41333},{"$nulls":4},{"$f":"INDEX(calendar,,6)","v":41334},{"$nulls":4},{"$f":"INDEX(calendar,,7)","v":41335}]
[null,null,{"$f":"INDEX(calendar,ndx+0,1)","v":"2013-02-24"},{"$nulls":4},{"$f":"INDEX(calendar,ndx+0,2)","v":"2013-02-25"},{"$nulls":4},{"$f":"INDEX(calendar,ndx+0,3)","v":"2013-02-26"},{"$nulls":4},{"$f":"INDEX(calendar,ndx+0,4)","v":"2013-02-27"},{"$nulls":4},{"$f":"INDEX(calendar,ndx+0,5)","v":"2013-02-28"},{"$nulls":4},{"$f":"INDEX(calendar,ndx+0,6)","v":"2013-03-01"},{"$nulls":4},{"$f":"INDEX(calendar,ndx+0,7)","v":"2013-03-02"}]
[]
[null,null,{"$f":"INDEX(calendar,ndx+1,1)","v":"2013-03-03"},{"$nulls":4},{"$f":"INDEX(calendar,ndx+1,2)","v":"2013-03-04"},{"$nulls":4},{"$f":"INDEX(calendar,ndx+1,3)","v":"2013-03-05"},{"$nulls":4},{"$f":"INDEX(calendar,ndx+1,4)","v":"2013-03-06"},{"$nulls":4},{"$f":"INDEX(calendar,ndx+1,5)","v":"2013-03-07"},{"$nulls":4},{"$f":"INDEX(calendar,ndx+1,6)","v":"2013-03-08"},{"$nulls":4},{"$f":"INDEX(calendar,ndx+1,7)","v":"2013-03-09"}]
[]
[null,null,{"$f":"INDEX(calendar,ndx+2,1)","v":"2013-03-10"},{"$nulls":4},{"$f":"INDEX(calendar,ndx+2,2)","v":"2013-03-11"},{"$nulls":4},{"$f":"INDEX(calendar,ndx+2,3)","v":"2013-03-12"},{"$nulls":4},{"$f":"INDEX(calendar,ndx+2,4)","v":"2013-03-13"},{"$nulls":4},{"$f":"INDEX(calendar,ndx+2,5)","v":"2013-03-14"},{"$nulls":4},{"$f":"INDEX(calendar,ndx+2,6)","v":"2013-03-15"},{"$nulls":4},{"$f":"INDEX(calendar,ndx+2,7)","v":"2013-03-16"}]
[]
[null,null,{"$f":"INDEX(calendar,ndx+3,1)","v":"2013-03-17"},{"$nulls":4},{"$f":"INDEX(calendar,ndx+3,2)","v":"2013-03-18"},{"$nulls":4},{"$f":"INDEX(calendar,ndx+3,3)","v":"2013-03-19"},{"$nulls":4},{"$f":"INDEX(calendar,ndx+3,4)","v":"2013-03-20"},{"$nulls":4},{"$f":"INDEX(calendar,ndx+3,5)","v":"2013-03-21"},{"$nulls":4},{"$f":"INDEX(calendar,ndx+3,6)","v":"2013-03-22"},{"$nulls":4},{"$f":"INDEX(calendar,ndx+3,7)","v":"2013-03-23"}]
[]
[null,null,{"$f":"INDEX(calendar,ndx+4,1)","v":"2013-03-24"},{"$nulls":4},{"$f":"INDEX(calendar,ndx+4,2)","v":"2013-03-25"},{"$nulls":4},{"$f":"INDEX(calendar,ndx+4,3)","v":"2013-03-26"},{"$nulls":4},{"$f":"INDEX(calendar,ndx+4,4)","v":"2013-03-27"},{"$nulls":4},{"$f":"INDEX(calendar,ndx+4,5)","v":"2013-03-28"},{"$nulls":4},{"$f":"INDEX(calendar,ndx+4,6)","v":"2013-03-29"},{"$nulls":4},{"$f":"INDEX(calendar,ndx+4,7)","v":"2013-03-30"}]
[]
[null,null,{"$f":"INDEX(calendar,ndx+5,1)","v":"2013-03-31"},{"$nulls":4},{"$f":"INDEX(calendar,ndx+5,2)","v":"2013-04-01"},{"$nulls":4},{"$f":"INDEX(calendar,ndx+5,3)","v":"2013-04-02"},{"$nulls":4},{"$f":"INDEX(calendar,ndx+5,4)","v":"2013-04-03"},{"$nulls":4},{"$f":"INDEX(calendar,ndx+5,5)","v":"2013-04-04"},{"$nulls":4},{"$f":"INDEX(calendar,ndx+5,6)","v":"2013-04-05"},{"$nulls":4},{"$f":"INDEX(calendar,ndx+5,7)","v":"2013-04-06"}]
[]
[null,null,"Notes"]

{"sheet":"4","index":3,"n_rows":18,"n_cols":33,"rows_kept":18,"merged":[[1,1,1,7],[1,9,1,12],[1,14,1,18],[4,1,4,5],[4,6,4,10],[4,11,4,15],[4,16,4,20],[4,21,4,25],[4,26,4,30],[4,31,4,35]]}
[]
[null,{"$f":"TEXT(EOMONTH('3'!$C$10,0)+1,\"mmmm\")","v":"April"},{"$nulls":7},{"$f":"YEAR(EOMONTH('3'!$C$10,0)+1)","v":2013},{"$nulls":4},{"$f":"DayToStart","v":"Sunday"}]
[null,"  Calendar Month",{"$nulls":7},"  Calendar Year",{"$nulls":4},"  First Day of Week"]
[]
[null,{"$f":"INDEX(calendar,,1)","v":41364},{"$nulls":4},{"$f":"INDEX(calendar,,2)","v":41365},{"$nulls":4},{"$f":"INDEX(calendar,,3)","v":41366},{"$nulls":4},{"$f":"INDEX(calendar,,4)","v":41367},{"$nulls":4},{"$f":"INDEX(calendar,,5)","v":41368},{"$nulls":4},{"$f":"INDEX(calendar,,6)","v":41369},{"$nulls":4},{"$f":"INDEX(calendar,,7)","v":41370}]
[null,null,{"$f":"INDEX(calendar,ndx+0,1)","v":"2013-03-31"},{"$nulls":4},{"$f":"INDEX(calendar,ndx+0,2)","v":"2013-04-01"},{"$nulls":4},{"$f":"INDEX(calendar,ndx+0,3)","v":"2013-04-02"},{"$nulls":4},{"$f":"INDEX(calendar,ndx+0,4)","v":"2013-04-03"},{"$nulls":4},{"$f":"INDEX(calendar,ndx+0,5)","v":"2013-04-04"},{"$nulls":4},{"$f":"INDEX(calendar,ndx+0,6)","v":"2013-04-05"},{"$nulls":4},{"$f":"INDEX(calendar,ndx+0,7)","v":"2013-04-06"}]
[]
[null,null,{"$f":"INDEX(calendar,ndx+1,1)","v":"2013-04-07"},{"$nulls":4},{"$f":"INDEX(calendar,ndx+1,2)","v":"2013-04-08"},{"$nulls":4},{"$f":"INDEX(calendar,ndx+1,3)","v":"2013-04-09"},{"$nulls":4},{"$f":"INDEX(calendar,ndx+1,4)","v":"2013-04-10"},{"$nulls":4},{"$f":"INDEX(calendar,ndx+1,5)","v":"2013-04-11"},{"$nulls":4},{"$f":"INDEX(calendar,ndx+1,6)","v":"2013-04-12"},{"$nulls":4},{"$f":"INDEX(calendar,ndx+1,7)","v":"2013-04-13"}]
[]
[null,null,{"$f":"INDEX(calendar,ndx+2,1)","v":"2013-04-14"},{"$nulls":4},{"$f":"INDEX(calendar,ndx+2,2)","v":"2013-04-15"},{"$nulls":4},{"$f":"INDEX(calendar,ndx+2,3)","v":"2013-04-16"},{"$nulls":4},{"$f":"INDEX(calendar,ndx+2,4)","v":"2013-04-17"},{"$nulls":4},{"$f":"INDEX(calendar,ndx+2,5)","v":"2013-04-18"},{"$nulls":4},{"$f":"INDEX(calendar,ndx+2,6)","v":"2013-04-19"},{"$nulls":4},{"$f":"INDEX(calendar,ndx+2,7)","v":"2013-04-20"}]
[]
[null,null,{"$f":"INDEX(calendar,ndx+3,1)","v":"2013-04-21"},{"$nulls":4},{"$f":"INDEX(calendar,ndx+3,2)","v":"2013-04-22"},{"$nulls":4},{"$f":"INDEX(calendar,ndx+3,3)","v":"2013-04-23"},{"$nulls":4},{"$f":"INDEX(calendar,ndx+3,4)","v":"2013-04-24"},{"$nulls":4},{"$f":"INDEX(calendar,ndx+3,5)","v":"2013-04-25"},{"$nulls":4},{"$f":"INDEX(calendar,ndx+3,6)","v":"2013-04-26"},{"$nulls":4},{"$f":"INDEX(calendar,ndx+3,7)","v":"2013-04-27"}]
[]
[null,null,{"$f":"INDEX(calendar,ndx+4,1)","v":"2013-04-28"},{"$nulls":4},{"$f":"INDEX(calendar,ndx+4,2)","v":"2013-04-29"},{"$nulls":4},{"$f":"INDEX(calendar,ndx+4,3)","v":"2013-04-30"},{"$nulls":4},{"$f":"INDEX(calendar,ndx+4,4)","v":"2013-05-01"},{"$nulls":4},{"$f":"INDEX(calendar,ndx+4,5)","v":"2013-05-02"},{"$nulls":4},{"$f":"INDEX(calendar,ndx+4,6)","v":"2013-05-03"},{"$nulls":4},{"$f":"INDEX(calendar,ndx+4,7)","v":"2013-05-04"}]
[]
[null,null,{"$f":"INDEX(calendar,ndx+5,1)","v":"2013-05-05"},{"$nulls":4},{"$f":"INDEX(calendar,ndx+5,2)","v":"2013-05-06"},{"$nulls":4},{"$f":"INDEX(calendar,ndx+5,3)","v":"2013-05-07"},{"$nulls":4},{"$f":"INDEX(calendar,ndx+5,4)","v":"2013-05-08"},{"$nulls":4},{"$f":"INDEX(calendar,ndx+5,5)","v":"2013-05-09"},{"$nulls":4},{"$f":"INDEX(calendar,ndx+5,6)","v":"2013-05-10"},{"$nulls":4},{"$f":"INDEX(calendar,ndx+5,7)","v":"2013-05-11"}]
[]
[null,null,"Notes"]

{"sheet":"5","index":4,"n_rows":18,"n_cols":33,"rows_kept":18,"merged":[[1,1,1,7],[1,9,1,12],[1,14,1,18],[4,1,4,5],[4,6,4,10],[4,11,4,15],[4,16,4,20],[4,21,4,25],[4,26,4,30],[4,31,4,35]]}
[]
[null,{"$f":"TEXT(EOMONTH('4'!$C$10,0)+1,\"mmmm\")","v":"May"},{"$nulls":7},{"$f":"YEAR(EOMONTH('4'!$C$10,0)+1)","v":2013},{"$nulls":4},{"$f":"DayToStart","v":"Sunday"}]
[null,"  Calendar Month",{"$nulls":7},"  Calendar Year",{"$nulls":4},"  First Day of Week"]
[]
[null,{"$f":"INDEX(calendar,,1)","v":41392},{"$nulls":4},{"$f":"INDEX(calendar,,2)","v":41393},{"$nulls":4},{"$f":"INDEX(calendar,,3)","v":41394},{"$nulls":4},{"$f":"INDEX(calendar,,4)","v":41395},{"$nulls":4},{"$f":"INDEX(calendar,,5)","v":41396},{"$nulls":4},{"$f":"INDEX(calendar,,6)","v":41397},{"$nulls":4},{"$f":"INDEX(calendar,,7)","v":41398}]
[null,null,{"$f":"INDEX(calendar,ndx+0,1)","v":"2013-04-28"},{"$nulls":4},{"$f":"INDEX(calendar,ndx+0,2)","v":"2013-04-29"},{"$nulls":4},{"$f":"INDEX(calendar,ndx+0,3)","v":"2013-04-30"},{"$nulls":4},{"$f":"INDEX(calendar,ndx+0,4)","v":"2013-05-01"},{"$nulls":4},{"$f":"INDEX(calendar,ndx+0,5)","v":"2013-05-02"},{"$nulls":4},{"$f":"INDEX(calendar,ndx+0,6)","v":"2013-05-03"},{"$nulls":4},{"$f":"INDEX(calendar,ndx+0,7)","v":"2013-05-04"}]
[]
[null,null,{"$f":"INDEX(calendar,ndx+1,1)","v":"2013-05-05"},{"$nulls":4},{"$f":"INDEX(calendar,ndx+1,2)","v":"2013-05-06"},{"$nulls":4},{"$f":"INDEX(calendar,ndx+1,3)","v":"2013-05-07"},{"$nulls":4},{"$f":"INDEX(calendar,ndx+1,4)","v":"2013-05-08"},{"$nulls":4},{"$f":"INDEX(calendar,ndx+1,5)","v":"2013-05-09"},{"$nulls":4},{"$f":"INDEX(calendar,ndx+1,6)","v":"2013-05-10"},{"$nulls":4},{"$f":"INDEX(calendar,ndx+1,7)","v":"2013-05-11"}]
[]
[null,null,{"$f":"INDEX(calendar,ndx+2,1)","v":"2013-05-12"},{"$nulls":4},{"$f":"INDEX(calendar,ndx+2,2)","v":"2013-05-13"},{"$nulls":4},{"$f":"INDEX(calendar,ndx+2,3)","v":"2013-05-14"},{"$nulls":4},{"$f":"INDEX(calendar,ndx+2,4)","v":"2013-05-15"},{"$nulls":4},{"$f":"INDEX(calendar,ndx+2,5)","v":"2013-05-16"},{"$nulls":4},{"$f":"INDEX(calendar,ndx+2,6)","v":"2013-05-17"},{"$nulls":4},{"$f":"INDEX(calendar,ndx+2,7)","v":"2013-05-18"}]
[]
[null,null,{"$f":"INDEX(calendar,ndx+3,1)","v":"2013-05-19"},{"$nulls":4},{"$f":"INDEX(calendar,ndx+3,2)","v":"2013-05-20"},{"$nulls":4},{"$f":"INDEX(calendar,ndx+3,3)","v":"2013-05-21"},{"$nulls":4},{"$f":"INDEX(calendar,ndx+3,4)","v":"2013-05-22"},{"$nulls":4},{"$f":"INDEX(calendar,ndx+3,5)","v":"2013-05-23"},{"$nulls":4},{"$f":"INDEX(calendar,ndx+3,6)","v":"2013-05-24"},{"$nulls":4},{"$f":"INDEX(calendar,ndx+3,7)","v":"2013-05-25"}]
[]
[null,null,{"$f":"INDEX(calendar,ndx+4,1)","v":"2013-05-26"},{"$nulls":4},{"$f":"INDEX(calendar,ndx+4,2)","v":"2013-05-27"},{"$nulls":4},{"$f":"INDEX(calendar,ndx+4,3)","v":"2013-05-28"},{"$nulls":4},{"$f":"INDEX(calendar,ndx+4,4)","v":"2013-05-29"},{"$nulls":4},{"$f":"INDEX(calendar,ndx+4,5)","v":"2013-05-30"},{"$nulls":4},{"$f":"INDEX(calendar,ndx+4,6)","v":"2013-05-31"},{"$nulls":4},{"$f":"INDEX(calendar,ndx+4,7)","v":"2013-06-01"}]
[]
[null,null,{"$f":"INDEX(calendar,ndx+5,1)","v":"2013-06-02"},{"$nulls":4},{"$f":"INDEX(calendar,ndx+5,2)","v":"2013-06-03"},{"$nulls":4},{"$f":"INDEX(calendar,ndx+5,3)","v":"2013-06-04"},{"$nulls":4},{"$f":"INDEX(calendar,ndx+5,4)","v":"2013-06-05"},{"$nulls":4},{"$f":"INDEX(calendar,ndx+5,5)","v":"2013-06-06"},{"$nulls":4},{"$f":"INDEX(calendar,ndx+5,6)","v":"2013-06-07"},{"$nulls":4},{"$f":"INDEX(calendar,ndx+5,7)","v":"2013-06-08"}]
[]
[null,null,"Notes"]

{"sheet":"6","index":5,"n_rows":18,"n_cols":33,"rows_kept":18,"merged":[[1,1,1,7],[1,9,1,12],[1,14,1,18],[4,1,4,5],[4,6,4,10],[4,11,4,15],[4,16,4,20],[4,21,4,25],[4,26,4,30],[4,31,4,35]]}
[]
[null,{"$f":"TEXT(EOMONTH('5'!$C$10,0)+1,\"mmmm\")","v":"June"},{"$nulls":7},{"$f":"YEAR(EOMONTH('5'!$C$10,0)+1)","v":2013},{"$nulls":4},{"$f":"DayToStart","v":"Sunday"}]
[null,"  Calendar Month",{"$nulls":7},"  Calendar Year",{"$nulls":4},"  First Day of Week"]
[]
[null,{"$f":"INDEX(calendar,,1)","v":41420},{"$nulls":4},{"$f":"INDEX(calendar,,2)","v":41421},{"$nulls":4},{"$f":"INDEX(calendar,,3)","v":41422},{"$nulls":4},{"$f":"INDEX(calendar,,4)","v":41423},{"$nulls":4},{"$f":"INDEX(calendar,,5)","v":41424},{"$nulls":4},{"$f":"INDEX(calendar,,6)","v":41425},{"$nulls":4},{"$f":"INDEX(calendar,,7)","v":41426}]
[null,null,{"$f":"INDEX(calendar,ndx+0,1)","v":"2013-05-26"},{"$nulls":4},{"$f":"INDEX(calendar,ndx+0,2)","v":"2013-05-27"},{"$nulls":4},{"$f":"INDEX(calendar,ndx+0,3)","v":"2013-05-28"},{"$nulls":4},{"$f":"INDEX(calendar,ndx+0,4)","v":"2013-05-29"},{"$nulls":4},{"$f":"INDEX(calendar,ndx+0,5)","v":"2013-05-30"},{"$nulls":4},{"$f":"INDEX(calendar,ndx+0,6)","v":"2013-05-31"},{"$nulls":4},{"$f":"INDEX(calendar,ndx+0,7)","v":"2013-06-01"}]
[]
[null,null,{"$f":"INDEX(calendar,ndx+1,1)","v":"2013-06-02"},{"$nulls":4},{"$f":"INDEX(calendar,ndx+1,2)","v":"2013-06-03"},{"$nulls":4},{"$f":"INDEX(calendar,ndx+1,3)","v":"2013-06-04"},{"$nulls":4},{"$f":"INDEX(calendar,ndx+1,4)","v":"2013-06-05"},{"$nulls":4},{"$f":"INDEX(calendar,ndx+1,5)","v":"2013-06-06"},{"$nulls":4},{"$f":"INDEX(calendar,ndx+1,6)","v":"2013-06-07"},{"$nulls":4},{"$f":"INDEX(calendar,ndx+1,7)","v":"2013-06-08"}]
[]
[null,null,{"$f":"INDEX(calendar,ndx+2,1)","v":"2013-06-09"},{"$nulls":4},{"$f":"INDEX(calendar,ndx+2,2)","v":"2013-06-10"},{"$nulls":4},{"$f":"INDEX(calendar,ndx+2,3)","v":"2013-06-11"},{"$nulls":4},{"$f":"INDEX(calendar,ndx+2,4)","v":"2013-06-12"},{"$nulls":4},{"$f":"INDEX(calendar,ndx+2,5)","v":"2013-06-13"},{"$nulls":4},{"$f":"INDEX(calendar,ndx+2,6)","v":"2013-06-14"},{"$nulls":4},{"$f":"INDEX(calendar,ndx+2,7)","v":"2013-06-15"}]
[]
[null,null,{"$f":"INDEX(calendar,ndx+3,1)","v":"2013-06-16"},{"$nulls":4},{"$f":"INDEX(calendar,ndx+3,2)","v":"2013-06-17"},{"$nulls":4},{"$f":"INDEX(calendar,ndx+3,3)","v":"2013-06-18"},{"$nulls":4},{"$f":"INDEX(calendar,ndx+3,4)","v":"2013-06-19"},{"$nulls":4},{"$f":"INDEX(calendar,ndx+3,5)","v":"2013-06-20"},{"$nulls":4},{"$f":"INDEX(calendar,ndx+3,6)","v":"2013-06-21"},{"$nulls":4},{"$f":"INDEX(calendar,ndx+3,7)","v":"2013-06-22"}]
[]
[null,null,{"$f":"INDEX(calendar,ndx+4,1)","v":"2013-06-23"},{"$nulls":4},{"$f":"INDEX(calendar,ndx+4,2)","v":"2013-06-24"},{"$nulls":4},{"$f":"INDEX(calendar,ndx+4,3)","v":"2013-06-25"},{"$nulls":4},{"$f":"INDEX(calendar,ndx+4,4)","v":"2013-06-26"},{"$nulls":4},{"$f":"INDEX(calendar,ndx+4,5)","v":"2013-06-27"},{"$nulls":4},{"$f":"INDEX(calendar,ndx+4,6)","v":"2013-06-28"},{"$nulls":4},{"$f":"INDEX(calendar,ndx+4,7)","v":"2013-06-29"}]
[]
[null,null,{"$f":"INDEX(calendar,ndx+5,1)","v":"2013-06-30"},{"$nulls":4},{"$f":"INDEX(calendar,ndx+5,2)","v":"2013-07-01"},{"$nulls":4},{"$f":"INDEX(calendar,ndx+5,3)","v":"2013-07-02"},{"$nulls":4},{"$f":"INDEX(calendar,ndx+5,4)","v":"2013-07-03"},{"$nulls":4},{"$f":"INDEX(calendar,ndx+5,5)","v":"2013-07-04"},{"$nulls":4},{"$f":"INDEX(calendar,ndx+5,6)","v":"2013-07-05"},{"$nulls":4},{"$f":"INDEX(calendar,ndx+5,7)","v":"2013-07-06"}]
[]
[null,null,"Notes"]

{"sheet":"7","index":6,"n_rows":18,"n_cols":33,"rows_kept":18,"merged":[[1,1,1,7],[1,9,1,12],[1,14,1,18],[4,1,4,5],[4,6,4,10],[4,11,4,15],[4,16,4,20],[4,21,4,25],[4,26,4,30],[4,31,4,35]]}
[]
[null,{"$f":"TEXT(EOMONTH('6'!$C$10,0)+1,\"mmmm\")","v":"July"},{"$nulls":7},{"$f":"YEAR(EOMONTH('6'!$C$10,0)+1)","v":2013},{"$nulls":4},{"$f":"DayToStart","v":"Sunday"}]
[null,"  Calendar Month",{"$nulls":7},"  Calendar Year",{"$nulls":4},"  First Day of Week"]
[]
[null,{"$f":"INDEX(calendar,,1)","v":41455},{"$nulls":4},{"$f":"INDEX(calendar,,2)","v":41456},{"$nulls":4},{"$f":"INDEX(calendar,,3)","v":41457},{"$nulls":4},{"$f":"INDEX(calendar,,4)","v":41458},{"$nulls":4},{"$f":"INDEX(calendar,,5)","v":41459},{"$nulls":4},{"$f":"INDEX(calendar,,6)","v":41460},{"$nulls":4},{"$f":"INDEX(calendar,,7)","v":41461}]
[null,null,{"$f":"INDEX(calendar,ndx+0,1)","v":"2013-06-30"},{"$nulls":4},{"$f":"INDEX(calendar,ndx+0,2)","v":"2013-07-01"},{"$nulls":4},{"$f":"INDEX(calendar,ndx+0,3)","v":"2013-07-02"},{"$nulls":4},{"$f":"INDEX(calendar,ndx+0,4)","v":"2013-07-03"},{"$nulls":4},{"$f":"INDEX(calendar,ndx+0,5)","v":"2013-07-04"},{"$nulls":4},{"$f":"INDEX(calendar,ndx+0,6)","v":"2013-07-05"},{"$nulls":4},{"$f":"INDEX(calendar,ndx+0,7)","v":"2013-07-06"}]
[]
[null,null,{"$f":"INDEX(calendar,ndx+1,1)","v":"2013-07-07"},{"$nulls":4},{"$f":"INDEX(calendar,ndx+1,2)","v":"2013-07-08"},{"$nulls":4},{"$f":"INDEX(calendar,ndx+1,3)","v":"2013-07-09"},{"$nulls":4},{"$f":"INDEX(calendar,ndx+1,4)","v":"2013-07-10"},{"$nulls":4},{"$f":"INDEX(calendar,ndx+1,5)","v":"2013-07-11"},{"$nulls":4},{"$f":"INDEX(calendar,ndx+1,6)","v":"2013-07-12"},{"$nulls":4},{"$f":"INDEX(calendar,ndx+1,7)","v":"2013-07-13"}]
[]
[null,null,{"$f":"INDEX(calendar,ndx+2,1)","v":"2013-07-14"},{"$nulls":4},{"$f":"INDEX(calendar,ndx+2,2)","v":"2013-07-15"},{"$nulls":4},{"$f":"INDEX(calendar,ndx+2,3)","v":"2013-07-16"},{"$nulls":4},{"$f":"INDEX(calendar,ndx+2,4)","v":"2013-07-17"},{"$nulls":4},{"$f":"INDEX(calendar,ndx+2,5)","v":"2013-07-18"},{"$nulls":4},{"$f":"INDEX(calendar,ndx+2,6)","v":"2013-07-19"},{"$nulls":4},{"$f":"INDEX(calendar,ndx+2,7)","v":"2013-07-20"}]
[]
[null,null,{"$f":"INDEX(calendar,ndx+3,1)","v":"2013-07-21"},{"$nulls":4},{"$f":"INDEX(calendar,ndx+3,2)","v":"2013-07-22"},{"$nulls":4},{"$f":"INDEX(calendar,ndx+3,3)","v":"2013-07-23"},{"$nulls":4},{"$f":"INDEX(calendar,ndx+3,4)","v":"2013-07-24"},{"$nulls":4},{"$f":"INDEX(calendar,ndx+3,5)","v":"2013-07-25"},{"$nulls":4},{"$f":"INDEX(calendar,ndx+3,6)","v":"2013-07-26"},{"$nulls":4},{"$f":"INDEX(calendar,ndx+3,7)","v":"2013-07-27"}]
[]
[null,null,{"$f":"INDEX(calendar,ndx+4,1)","v":"2013-07-28"},{"$nulls":4},{"$f":"INDEX(calendar,ndx+4,2)","v":"2013-07-29"},{"$nulls":4},{"$f":"INDEX(calendar,ndx+4,3)","v":"2013-07-30"},{"$nulls":4},{"$f":"INDEX(calendar,ndx+4,4)","v":"2013-07-31"},{"$nulls":4},{"$f":"INDEX(calendar,ndx+4,5)","v":"2013-08-01"},{"$nulls":4},{"$f":"INDEX(calendar,ndx+4,6)","v":"2013-08-02"},{"$nulls":4},{"$f":"INDEX(calendar,ndx+4,7)","v":"2013-08-03"}]
[]
[null,null,{"$f":"INDEX(calendar,ndx+5,1)","v":"2013-08-04"},{"$nulls":4},{"$f":"INDEX(calendar,ndx+5,2)","v":"2013-08-05"},{"$nulls":4},{"$f":"INDEX(calendar,ndx+5,3)","v":"2013-08-06"},{"$nulls":4},{"$f":"INDEX(calendar,ndx+5,4)","v":"2013-08-07"},{"$nulls":4},{"$f":"INDEX(calendar,ndx+5,5)","v":"2013-08-08"},{"$nulls":4},{"$f":"INDEX(calendar,ndx+5,6)","v":"2013-08-09"},{"$nulls":4},{"$f":"INDEX(calendar,ndx+5,7)","v":"2013-08-10"}]
[]
[null,null,"Notes"]

{"sheet":"8","index":7,"n_rows":18,"n_cols":33,"rows_kept":18,"merged":[[1,1,1,7],[1,9,1,12],[1,14,1,18],[4,1,4,5],[4,6,4,10],[4,11,4,15],[4,16,4,20],[4,21,4,25],[4,26,4,30],[4,31,4,35]]}
[]
[null,{"$f":"TEXT(EOMONTH('7'!$C$10,0)+1,\"mmmm\")","v":"August"},{"$nulls":7},{"$f":"YEAR(EOMONTH('7'!$C$10,0)+1)","v":2013},{"$nulls":4},{"$f":"DayToStart","v":"Sunday"}]
[null,"  Calendar Month",{"$nulls":7},"  Calendar Year",{"$nulls":4},"  First Day of Week"]
[]
[null,{"$f":"INDEX(calendar,,1)","v":41483},{"$nulls":4},{"$f":"INDEX(calendar,,2)","v":41484},{"$nulls":4},{"$f":"INDEX(calendar,,3)","v":41485},{"$nulls":4},{"$f":"INDEX(calendar,,4)","v":41486},{"$nulls":4},{"$f":"INDEX(calendar,,5)","v":41487},{"$nulls":4},{"$f":"INDEX(calendar,,6)","v":41488},{"$nulls":4},{"$f":"INDEX(calendar,,7)","v":41489}]
[null,null,{"$f":"INDEX(calendar,ndx+0,1)","v":"2013-07-28"},{"$nulls":4},{"$f":"INDEX(calendar,ndx+0,2)","v":"2013-07-29"},{"$nulls":4},{"$f":"INDEX(calendar,ndx+0,3)","v":"2013-07-30"},{"$nulls":4},{"$f":"INDEX(calendar,ndx+0,4)","v":"2013-07-31"},{"$nulls":4},{"$f":"INDEX(calendar,ndx+0,5)","v":"2013-08-01"},{"$nulls":4},{"$f":"INDEX(calendar,ndx+0,6)","v":"2013-08-02"},{"$nulls":4},{"$f":"INDEX(calendar,ndx+0,7)","v":"2013-08-03"}]
[]
[null,null,{"$f":"INDEX(calendar,ndx+1,1)","v":"2013-08-04"},{"$nulls":4},{"$f":"INDEX(calendar,ndx+1,2)","v":"2013-08-05"},{"$nulls":4},{"$f":"INDEX(calendar,ndx+1,3)","v":"2013-08-06"},{"$nulls":4},{"$f":"INDEX(calendar,ndx+1,4)","v":"2013-08-07"},{"$nulls":4},{"$f":"INDEX(calendar,ndx+1,5)","v":"2013-08-08"},{"$nulls":4},{"$f":"INDEX(calendar,ndx+1,6)","v":"2013-08-09"},{"$nulls":4},{"$f":"INDEX(calendar,ndx+1,7)","v":"2013-08-10"}]
[]
[null,null,{"$f":"INDEX(calendar,ndx+2,1)","v":"2013-08-11"},{"$nulls":4},{"$f":"INDEX(calendar,ndx+2,2)","v":"2013-08-12"},{"$nulls":4},{"$f":"INDEX(calendar,ndx+2,3)","v":"2013-08-13"},{"$nulls":4},{"$f":"INDEX(calendar,ndx+2,4)","v":"2013-08-14"},{"$nulls":4},{"$f":"INDEX(calendar,ndx+2,5)","v":"2013-08-15"},{"$nulls":4},{"$f":"INDEX(calendar,ndx+2,6)","v":"2013-08-16"},{"$nulls":4},{"$f":"INDEX(calendar,ndx+2,7)","v":"2013-08-17"}]
[]
[null,null,{"$f":"INDEX(calendar,ndx+3,1)","v":"2013-08-18"},{"$nulls":4},{"$f":"INDEX(calendar,ndx+3,2)","v":"2013-08-19"},{"$nulls":4},{"$f":"INDEX(calendar,ndx+3,3)","v":"2013-08-20"},{"$nulls":4},{"$f":"INDEX(calendar,ndx+3,4)","v":"2013-08-21"},{"$nulls":4},{"$f":"INDEX(calendar,ndx+3,5)","v":"2013-08-22"},{"$nulls":4},{"$f":"INDEX(calendar,ndx+3,6)","v":"2013-08-23"},{"$nulls":4},{"$f":"INDEX(calendar,ndx+3,7)","v":"2013-08-24"}]
[]
[null,null,{"$f":"INDEX(calendar,ndx+4,1)","v":"2013-08-25"},{"$nulls":4},{"$f":"INDEX(calendar,ndx+4,2)","v":"2013-08-26"},{"$nulls":4},{"$f":"INDEX(calendar,ndx+4,3)","v":"2013-08-27"},{"$nulls":4},{"$f":"INDEX(calendar,ndx+4,4)","v":"2013-08-28"},{"$nulls":4},{"$f":"INDEX(calendar,ndx+4,5)","v":"2013-08-29"},{"$nulls":4},{"$f":"INDEX(calendar,ndx+4,6)","v":"2013-08-30"},{"$nulls":4},{"$f":"INDEX(calendar,ndx+4,7)","v":"2013-08-31"}]
[]
[null,null,{"$f":"INDEX(calendar,ndx+5,1)","v":"2013-09-01"},{"$nulls":4},{"$f":"INDEX(calendar,ndx+5,2)","v":"2013-09-02"},{"$nulls":4},{"$f":"INDEX(calendar,ndx+5,3)","v":"2013-09-03"},{"$nulls":4},{"$f":"INDEX(calendar,ndx+5,4)","v":"2013-09-04"},{"$nulls":4},{"$f":"INDEX(calendar,ndx+5,5)","v":"2013-09-05"},{"$nulls":4},{"$f":"INDEX(calendar,ndx+5,6)","v":"2013-09-06"},{"$nulls":4},{"$f":"INDEX(calendar,ndx+5,7)","v":"2013-09-07"}]
[]
[null,null,"Notes"]

{"sheet":"9","index":8,"n_rows":18,"n_cols":33,"rows_kept":18,"merged":[[1,1,1,7],[1,9,1,12],[1,14,1,18],[4,1,4,5],[4,6,4,10],[4,11,4,15],[4,16,4,20],[4,21,4,25],[4,26,4,30],[4,31,4,35]]}
[]
[null,{"$f":"TEXT(EOMONTH('8'!$C$10,0)+1,\"mmmm\")","v":"September"},{"$nulls":7},{"$f":"YEAR(EOMONTH('8'!$C$10,0)+1)","v":2013},{"$nulls":4},{"$f":"DayToStart","v":"Sunday"}]
[null,"  Calendar Month",{"$nulls":7},"  Calendar Year",{"$nulls":4},"  First Day of Week"]
[]
[null,{"$f":"INDEX(calendar,,1)","v":41518},{"$nulls":4},{"$f":"INDEX(calendar,,2)","v":41519},{"$nulls":4},{"$f":"INDEX(calendar,,3)","v":41520},{"$nulls":4},{"$f":"INDEX(calendar,,4)","v":41521},{"$nulls":4},{"$f":"INDEX(calendar,,5)","v":41522},{"$nulls":4},{"$f":"INDEX(calendar,,6)","v":41523},{"$nulls":4},{"$f":"INDEX(calendar,,7)","v":41524}]
[null,null,{"$f":"INDEX(calendar,ndx+0,1)","v":"2013-09-01"},{"$nulls":4},{"$f":"INDEX(calendar,ndx+0,2)","v":"2013-09-02"},{"$nulls":4},{"$f":"INDEX(calendar,ndx+0,3)","v":"2013-09-03"},{"$nulls":4},{"$f":"INDEX(calendar,ndx+0,4)","v":"2013-09-04"},{"$nulls":4},{"$f":"INDEX(calendar,ndx+0,5)","v":"2013-09-05"},{"$nulls":4},{"$f":"INDEX(calendar,ndx+0,6)","v":"2013-09-06"},{"$nulls":4},{"$f":"INDEX(calendar,ndx+0,7)","v":"2013-09-07"}]
[]
[null,null,{"$f":"INDEX(calendar,ndx+1,1)","v":"2013-09-08"},{"$nulls":4},{"$f":"INDEX(calendar,ndx+1,2)","v":"2013-09-09"},{"$nulls":4},{"$f":"INDEX(calendar,ndx+1,3)","v":"2013-09-10"},{"$nulls":4},{"$f":"INDEX(calendar,ndx+1,4)","v":"2013-09-11"},{"$nulls":4},{"$f":"INDEX(calendar,ndx+1,5)","v":"2013-09-12"},{"$nulls":4},{"$f":"INDEX(calendar,ndx+1,6)","v":"2013-09-13"},{"$nulls":4},{"$f":"INDEX(calendar,ndx+1,7)","v":"2013-09-14"}]
[]
[null,null,{"$f":"INDEX(calendar,ndx+2,1)","v":"2013-09-15"},{"$nulls":4},{"$f":"INDEX(calendar,ndx+2,2)","v":"2013-09-16"},{"$nulls":4},{"$f":"INDEX(calendar,ndx+2,3)","v":"2013-09-17"},{"$nulls":4},{"$f":"INDEX(calendar,ndx+2,4)","v":"2013-09-18"},{"$nulls":4},{"$f":"INDEX(calendar,ndx+2,5)","v":"2013-09-19"},{"$nulls":4},{"$f":"INDEX(calendar,ndx+2,6)","v":"2013-09-20"},{"$nulls":4},{"$f":"INDEX(calendar,ndx+2,7)","v":"2013-09-21"}]
[]
[null,null,{"$f":"INDEX(calendar,ndx+3,1)","v":"2013-09-22"},{"$nulls":4},{"$f":"INDEX(calendar,ndx+3,2)","v":"2013-09-23"},{"$nulls":4},{"$f":"INDEX(calendar,ndx+3,3)","v":"2013-09-24"},{"$nulls":4},{"$f":"INDEX(calendar,ndx+3,4)","v":"2013-09-25"},{"$nulls":4},{"$f":"INDEX(calendar,ndx+3,5)","v":"2013-09-26"},{"$nulls":4},{"$f":"INDEX(calendar,ndx+3,6)","v":"2013-09-27"},{"$nulls":4},{"$f":"INDEX(calendar,ndx+3,7)","v":"2013-09-28"}]
[]
[null,null,{"$f":"INDEX(calendar,ndx+4,1)","v":"2013-09-29"},{"$nulls":4},{"$f":"INDEX(calendar,ndx+4,2)","v":"2013-09-30"},{"$nulls":4},{"$f":"INDEX(calendar,ndx+4,3)","v":"2013-10-01"},{"$nulls":4},{"$f":"INDEX(calendar,ndx+4,4)","v":"2013-10-02"},{"$nulls":4},{"$f":"INDEX(calendar,ndx+4,5)","v":"2013-10-03"},{"$nulls":4},{"$f":"INDEX(calendar,ndx+4,6)","v":"2013-10-04"},{"$nulls":4},{"$f":"INDEX(calendar,ndx+4,7)","v":"2013-10-05"}]
[]
[null,null,{"$f":"INDEX(calendar,ndx+5,1)","v":"2013-10-06"},{"$nulls":4},{"$f":"INDEX(calendar,ndx+5,2)","v":"2013-10-07"},{"$nulls":4},{"$f":"INDEX(calendar,ndx+5,3)","v":"2013-10-08"},{"$nulls":4},{"$f":"INDEX(calendar,ndx+5,4)","v":"2013-10-09"},{"$nulls":4},{"$f":"INDEX(calendar,ndx+5,5)","v":"2013-10-10"},{"$nulls":4},{"$f":"INDEX(calendar,ndx+5,6)","v":"2013-10-11"},{"$nulls":4},{"$f":"INDEX(calendar,ndx+5,7)","v":"2013-10-12"}]
[{"$nulls":32}," "]
[null,null,"Notes"]

{"sheet":"10","index":9,"n_rows":18,"n_cols":33,"rows_kept":18,"merged":[[1,1,1,7],[1,9,1,12],[1,14,1,18],[4,1,4,5],[4,6,4,10],[4,11,4,15],[4,16,4,20],[4,21,4,25],[4,26,4,30],[4,31,4,35]]}
[]
[null,{"$f":"TEXT(EOMONTH('9'!$C$10,0)+1,\"mmmm\")","v":"October"},{"$nulls":7},{"$f":"YEAR(EOMONTH('9'!$C$10,0)+1)","v":2013},{"$nulls":4},{"$f":"DayToStart","v":"Sunday"}]
[null,"  Calendar Month",{"$nulls":7},"  Calendar Year",{"$nulls":4},"  First Day of Week"]
[]
[null,{"$f":"INDEX(calendar,,1)","v":41546},{"$nulls":4},{"$f":"INDEX(calendar,,2)","v":41547},{"$nulls":4},{"$f":"INDEX(calendar,,3)","v":41548},{"$nulls":4},{"$f":"INDEX(calendar,,4)","v":41549},{"$nulls":4},{"$f":"INDEX(calendar,,5)","v":41550},{"$nulls":4},{"$f":"INDEX(calendar,,6)","v":41551},{"$nulls":4},{"$f":"INDEX(calendar,,7)","v":41552}]
[null,null,{"$f":"INDEX(calendar,ndx+0,1)","v":"2013-09-29"},{"$nulls":4},{"$f":"INDEX(calendar,ndx+0,2)","v":"2013-09-30"},{"$nulls":4},{"$f":"INDEX(calendar,ndx+0,3)","v":"2013-10-01"},{"$nulls":4},{"$f":"INDEX(calendar,ndx+0,4)","v":"2013-10-02"},{"$nulls":4},{"$f":"INDEX(calendar,ndx+0,5)","v":"2013-10-03"},{"$nulls":4},{"$f":"INDEX(calendar,ndx+0,6)","v":"2013-10-04"},{"$nulls":4},{"$f":"INDEX(calendar,ndx+0,7)","v":"2013-10-05"}]
[]
[null,null,{"$f":"INDEX(calendar,ndx+1,1)","v":"2013-10-06"},{"$nulls":4},{"$f":"INDEX(calendar,ndx+1,2)","v":"2013-10-07"},{"$nulls":4},{"$f":"INDEX(calendar,ndx+1,3)","v":"2013-10-08"},{"$nulls":4},{"$f":"INDEX(calendar,ndx+1,4)","v":"2013-10-09"},{"$nulls":4},{"$f":"INDEX(calendar,ndx+1,5)","v":"2013-10-10"},{"$nulls":4},{"$f":"INDEX(calendar,ndx+1,6)","v":"2013-10-11"},{"$nulls":4},{"$f":"INDEX(calendar,ndx+1,7)","v":"2013-10-12"}]
[]
[null,null,{"$f":"INDEX(calendar,ndx+2,1)","v":"2013-10-13"},{"$nulls":4},{"$f":"INDEX(calendar,ndx+2,2)","v":"2013-10-14"},{"$nulls":4},{"$f":"INDEX(calendar,ndx+2,3)","v":"2013-10-15"},{"$nulls":4},{"$f":"INDEX(calendar,ndx+2,4)","v":"2013-10-16"},{"$nulls":4},{"$f":"INDEX(calendar,ndx+2,5)","v":"2013-10-17"},{"$nulls":4},{"$f":"INDEX(calendar,ndx+2,6)","v":"2013-10-18"},{"$nulls":4},{"$f":"INDEX(calendar,ndx+2,7)","v":"2013-10-19"}]
[]
[null,null,{"$f":"INDEX(calendar,ndx+3,1)","v":"2013-10-20"},{"$nulls":4},{"$f":"INDEX(calendar,ndx+3,2)","v":"2013-10-21"},{"$nulls":4},{"$f":"INDEX(calendar,ndx+3,3)","v":"2013-10-22"},{"$nulls":4},{"$f":"INDEX(calendar,ndx+3,4)","v":"2013-10-23"},{"$nulls":4},{"$f":"INDEX(calendar,ndx+3,5)","v":"2013-10-24"},{"$nulls":4},{"$f":"INDEX(calendar,ndx+3,6)","v":"2013-10-25"},{"$nulls":4},{"$f":"INDEX(calendar,ndx+3,7)","v":"2013-10-26"}]
[]
[null,null,{"$f":"INDEX(calendar,ndx+4,1)","v":"2013-10-27"},{"$nulls":4},{"$f":"INDEX(calendar,ndx+4,2)","v":"2013-10-28"},{"$nulls":4},{"$f":"INDEX(calendar,ndx+4,3)","v":"2013-10-29"},{"$nulls":4},{"$f":"INDEX(calendar,ndx+4,4)","v":"2013-10-30"},{"$nulls":4},{"$f":"INDEX(calendar,ndx+4,5)","v":"2013-10-31"},{"$nulls":4},{"$f":"INDEX(calendar,ndx+4,6)","v":"2013-11-01"},{"$nulls":4},{"$f":"INDEX(calendar,ndx+4,7)","v":"2013-11-02"}]
[]
[null,null,{"$f":"INDEX(calendar,ndx+5,1)","v":"2013-11-03"},{"$nulls":4},{"$f":"INDEX(calendar,ndx+5,2)","v":"2013-11-04"},{"$nulls":4},{"$f":"INDEX(calendar,ndx+5,3)","v":"2013-11-05"},{"$nulls":4},{"$f":"INDEX(calendar,ndx+5,4)","v":"2013-11-06"},{"$nulls":4},{"$f":"INDEX(calendar,ndx+5,5)","v":"2013-11-07"},{"$nulls":4},{"$f":"INDEX(calendar,ndx+5,6)","v":"2013-11-08"},{"$nulls":4},{"$f":"INDEX(calendar,ndx+5,7)","v":"2013-11-09"}]
[]
[null,null,"Notes"]

{"sheet":"11","index":10,"n_rows":18,"n_cols":33,"rows_kept":18,"merged":[[1,1,1,7],[1,9,1,12],[1,14,1,18],[4,1,4,5],[4,6,4,10],[4,11,4,15],[4,16,4,20],[4,21,4,25],[4,26,4,30],[4,31,4,35]]}
[]
[null,{"$f":"TEXT(EOMONTH('10'!$C$10,0)+1,\"mmmm\")","v":"November"},{"$nulls":7},{"$f":"YEAR(EOMONTH('10'!$C$10,0)+1)","v":2013},{"$nulls":4},{"$f":"DayToStart","v":"Sunday"}]
[null,"  Calendar Month",{"$nulls":7},"  Calendar Year",{"$nulls":4},"  First Day of Week"]
[]
[null,{"$f":"INDEX(calendar,,1)","v":41574},{"$nulls":4},{"$f":"INDEX(calendar,,2)","v":41575},{"$nulls":4},{"$f":"INDEX(calendar,,3)","v":41576},{"$nulls":4},{"$f":"INDEX(calendar,,4)","v":41577},{"$nulls":4},{"$f":"INDEX(calendar,,5)","v":41578},{"$nulls":4},{"$f":"INDEX(calendar,,6)","v":41579},{"$nulls":4},{"$f":"INDEX(calendar,,7)","v":41580}]
[null,null,{"$f":"INDEX(calendar,ndx+0,1)","v":"2013-10-27"},{"$nulls":4},{"$f":"INDEX(calendar,ndx+0,2)","v":"2013-10-28"},{"$nulls":4},{"$f":"INDEX(calendar,ndx+0,3)","v":"2013-10-29"},{"$nulls":4},{"$f":"INDEX(calendar,ndx+0,4)","v":"2013-10-30"},{"$nulls":4},{"$f":"INDEX(calendar,ndx+0,5)","v":"2013-10-31"},{"$nulls":4},{"$f":"INDEX(calendar,ndx+0,6)","v":"2013-11-01"},{"$nulls":4},{"$f":"INDEX(calendar,ndx+0,7)","v":"2013-11-02"}]
[]
[null,null,{"$f":"INDEX(calendar,ndx+1,1)","v":"2013-11-03"},{"$nulls":4},{"$f":"INDEX(calendar,ndx+1,2)","v":"2013-11-04"},{"$nulls":4},{"$f":"INDEX(calendar,ndx+1,3)","v":"2013-11-05"},{"$nulls":4},{"$f":"INDEX(calendar,ndx+1,4)","v":"2013-11-06"},{"$nulls":4},{"$f":"INDEX(calendar,ndx+1,5)","v":"2013-11-07"},{"$nulls":4},{"$f":"INDEX(calendar,ndx+1,6)","v":"2013-11-08"},{"$nulls":4},{"$f":"INDEX(calendar,ndx+1,7)","v":"2013-11-09"}]
[]
[null,null,{"$f":"INDEX(calendar,ndx+2,1)","v":"2013-11-10"},{"$nulls":4},{"$f":"INDEX(calendar,ndx+2,2)","v":"2013-11-11"},{"$nulls":4},{"$f":"INDEX(calendar,ndx+2,3)","v":"2013-11-12"},{"$nulls":4},{"$f":"INDEX(calendar,ndx+2,4)","v":"2013-11-13"},{"$nulls":4},{"$f":"INDEX(calendar,ndx+2,5)","v":"2013-11-14"},{"$nulls":4},{"$f":"INDEX(calendar,ndx+2,6)","v":"2013-11-15"},{"$nulls":4},{"$f":"INDEX(calendar,ndx+2,7)","v":"2013-11-16"}]
[]
[null,null,{"$f":"INDEX(calendar,ndx+3,1)","v":"2013-11-17"},{"$nulls":4},{"$f":"INDEX(calendar,ndx+3,2)","v":"2013-11-18"},{"$nulls":4},{"$f":"INDEX(calendar,ndx+3,3)","v":"2013-11-19"},{"$nulls":4},{"$f":"INDEX(calendar,ndx+3,4)","v":"2013-11-20"},{"$nulls":4},{"$f":"INDEX(calendar,ndx+3,5)","v":"2013-11-21"},{"$nulls":4},{"$f":"INDEX(calendar,ndx+3,6)","v":"2013-11-22"},{"$nulls":4},{"$f":"INDEX(calendar,ndx+3,7)","v":"2013-11-23"}]
[]
[null,null,{"$f":"INDEX(calendar,ndx+4,1)","v":"2013-11-24"},{"$nulls":4},{"$f":"INDEX(calendar,ndx+4,2)","v":"2013-11-25"},{"$nulls":4},{"$f":"INDEX(calendar,ndx+4,3)","v":"2013-11-26"},{"$nulls":4},{"$f":"INDEX(calendar,ndx+4,4)","v":"2013-11-27"},{"$nulls":4},{"$f":"INDEX(calendar,ndx+4,5)","v":"2013-11-28"},{"$nulls":4},{"$f":"INDEX(calendar,ndx+4,6)","v":"2013-11-29"},{"$nulls":4},{"$f":"INDEX(calendar,ndx+4,7)","v":"2013-11-30"}]
[]
[null,null,{"$f":"INDEX(calendar,ndx+5,1)","v":"2013-12-01"},{"$nulls":4},{"$f":"INDEX(calendar,ndx+5,2)","v":"2013-12-02"},{"$nulls":4},{"$f":"INDEX(calendar,ndx+5,3)","v":"2013-12-03"},{"$nulls":4},{"$f":"INDEX(calendar,ndx+5,4)","v":"2013-12-04"},{"$nulls":4},{"$f":"INDEX(calendar,ndx+5,5)","v":"2013-12-05"},{"$nulls":4},{"$f":"INDEX(calendar,ndx+5,6)","v":"2013-12-06"},{"$nulls":4},{"$f":"INDEX(calendar,ndx+5,7)","v":"2013-12-07"}]
[]
[null,null,"Notes"]

{"sheet":"12","index":11,"n_rows":18,"n_cols":33,"rows_kept":18,"merged":[[1,1,1,7],[1,9,1,12],[1,14,1,18],[4,1,4,5],[4,6,4,10],[4,11,4,15],[4,16,4,20],[4,21,4,25],[4,26,4,30],[4,31,4,35]]}
[]
[null,{"$f":"TEXT(EOMONTH('11'!$C$10,0)+1,\"mmmm\")","v":"December"},{"$nulls":7},{"$f":"YEAR(EOMONTH('11'!$C$10,0)+1)","v":2013},{"$nulls":4},{"$f":"DayToStart","v":"Sunday"}]
[null,"  Calendar Month",{"$nulls":7},"  Calendar Year",{"$nulls":4},"  First Day of Week"]
[]
[null,{"$f":"INDEX(calendar,,1)","v":41609},{"$nulls":4},{"$f":"INDEX(calendar,,2)","v":41610},{"$nulls":4},{"$f":"INDEX(calendar,,3)","v":41611},{"$nulls":4},{"$f":"INDEX(calendar,,4)","v":41612},{"$nulls":4},{"$f":"INDEX(calendar,,5)","v":41613},{"$nulls":4},{"$f":"INDEX(calendar,,6)","v":41614},{"$nulls":4},{"$f":"INDEX(calendar,,7)","v":41615}]
[null,null,{"$f":"INDEX(calendar,ndx+0,1)","v":"2013-12-01"},{"$nulls":4},{"$f":"INDEX(calendar,ndx+0,2)","v":"2013-12-02"},{"$nulls":4},{"$f":"INDEX(calendar,ndx+0,3)","v":"2013-12-03"},{"$nulls":4},{"$f":"INDEX(calendar,ndx+0,4)","v":"2013-12-04"},{"$nulls":4},{"$f":"INDEX(calendar,ndx+0,5)","v":"2013-12-05"},{"$nulls":4},{"$f":"INDEX(calendar,ndx+0,6)","v":"2013-12-06"},{"$nulls":4},{"$f":"INDEX(calendar,ndx+0,7)","v":"2013-12-07"}]
[]
[null,null,{"$f":"INDEX(calendar,ndx+1,1)","v":"2013-12-08"},{"$nulls":4},{"$f":"INDEX(calendar,ndx+1,2)","v":"2013-12-09"},{"$nulls":4},{"$f":"INDEX(calendar,ndx+1,3)","v":"2013-12-10"},{"$nulls":4},{"$f":"INDEX(calendar,ndx+1,4)","v":"2013-12-11"},{"$nulls":4},{"$f":"INDEX(calendar,ndx+1,5)","v":"2013-12-12"},{"$nulls":4},{"$f":"INDEX(calendar,ndx+1,6)","v":"2013-12-13"},{"$nulls":4},{"$f":"INDEX(calendar,ndx+1,7)","v":"2013-12-14"}]
[]
[null,null,{"$f":"INDEX(calendar,ndx+2,1)","v":"2013-12-15"},{"$nulls":4},{"$f":"INDEX(calendar,ndx+2,2)","v":"2013-12-16"},{"$nulls":4},{"$f":"INDEX(calendar,ndx+2,3)","v":"2013-12-17"},{"$nulls":4},{"$f":"INDEX(calendar,ndx+2,4)","v":"2013-12-18"},{"$nulls":4},{"$f":"INDEX(calendar,ndx+2,5)","v":"2013-12-19"},{"$nulls":4},{"$f":"INDEX(calendar,ndx+2,6)","v":"2013-12-20"},{"$nulls":4},{"$f":"INDEX(calendar,ndx+2,7)","v":"2013-12-21"}]
[]
[null,null,{"$f":"INDEX(calendar,ndx+3,1)","v":"2013-12-22"},{"$nulls":4},{"$f":"INDEX(calendar,ndx+3,2)","v":"2013-12-23"},{"$nulls":4},{"$f":"INDEX(calendar,ndx+3,3)","v":"2013-12-24"},{"$nulls":4},{"$f":"INDEX(calendar,ndx+3,4)","v":"2013-12-25"},{"$nulls":4},{"$f":"INDEX(calendar,ndx+3,5)","v":"2013-12-26"},{"$nulls":4},{"$f":"INDEX(calendar,ndx+3,6)","v":"2013-12-27"},{"$nulls":4},{"$f":"INDEX(calendar,ndx+3,7)","v":"2013-12-28"}]
[]
[null,null,{"$f":"INDEX(calendar,ndx+4,1)","v":"2013-12-29"},{"$nulls":4},{"$f":"INDEX(calendar,ndx+4,2)","v":"2013-12-30"},{"$nulls":4},{"$f":"INDEX(calendar,ndx+4,3)","v":"2013-12-31"},{"$nulls":4},{"$f":"INDEX(calendar,ndx+4,4)","v":"2014-01-01"},{"$nulls":4},{"$f":"INDEX(calendar,ndx+4,5)","v":"2014-01-02"},{"$nulls":4},{"$f":"INDEX(calendar,ndx+4,6)","v":"2014-01-03"},{"$nulls":4},{"$f":"INDEX(calendar,ndx+4,7)","v":"2014-01-04"}]
[]
[null,null,{"$f":"INDEX(calendar,ndx+5,1)","v":"2014-01-05"},{"$nulls":4},{"$f":"INDEX(calendar,ndx+5,2)","v":"2014-01-06"},{"$nulls":4},{"$f":"INDEX(calendar,ndx+5,3)","v":"2014-01-07"},{"$nulls":4},{"$f":"INDEX(calendar,ndx+5,4)","v":"2014-01-08"},{"$nulls":4},{"$f":"INDEX(calendar,ndx+5,5)","v":"2014-01-09"},{"$nulls":4},{"$f":"INDEX(calendar,ndx+5,6)","v":"2014-01-10"},{"$nulls":4},{"$f":"INDEX(calendar,ndx+5,7)","v":"2014-01-11"}]
[]
[null,null,"Notes"]