{"text_format":"3","workbook":"xlsx","n_sheets":14,"sheets":["Home","Aug-11","Sep-11","Oct-11","Nov-11","Dec-11","Jan-12","Feb-12","Mar-12","Apr-12","May-12","Jun-12","Jul-12","Aug-12"],"not_rendered":{"images":5},"read":"whole","date_system":"1900"}

{"sheet":"Home","index":0,"n_rows":10,"n_cols":8,"rows_kept":10,"merged":[[1,6,1,7],[3,1,8,2],[3,3,3,5],[3,6,8,7],[9,1,10,5],[9,6,10,6],[9,7,10,7],[11,1,14,7]]}
[]
[{"$nulls":6},"2011 | 2012"]
[]
[]
[{"$nulls":4},"August\nSeptember\nOctober"]
[{"$nulls":4},"November\nDecember\nJanuary"]
[{"$nulls":4},"February\nMarch\nApril"]
[{"$nulls":4},"May\nJune\nJuly"]
[{"$nulls":4},"August"]
[null,"A u g u s t    2 011    t o   A u g u s t    2 0 1 2",{"$nulls":5},"S t a r t"]

{"sheet":"Aug-11","index":1,"n_rows":12,"n_cols":8,"rows_kept":12,"merged":[[1,1,1,5],[1,6,1,7],[8,1,8,5],[8,6,9,6],[8,7,9,7],[9,1,9,2],[9,3,9,5],[10,3,13,6],[10,7,12,7]]}
[]
[{"$nulls":6},"August"]
[null,"SUN","MON","TUE","WED","THU","FRI","SAT"]
[]
[]
[]
[]
[]
[{"$nulls":6},"Home","Next"]
[null,"Schedules/entries"]
[null,"This month",{"$f":"COUNTA(B4:H8)","v":0}]
[null,"Next month",{"$f":"COUNTA('Sep-11'!B4:H8)","v":2}]

{"sheet":"Sep-11","index":2,"n_rows":13,"n_cols":8,"rows_kept":13,"merged":[[1,1,1,5],[1,6,1,7],[8,1,8,5],[8,6,9,6],[8,7,9,7],[9,1,9,2],[9,3,9,5],[10,3,13,6],[10,7,12,7]]}
[]
[{"$nulls":6},"September"]
[null,"SUN","MON","TUE","WED","THU","FRI","SAT"]
[]
[null,null,"Labor Day"]
[]
[{"$nulls":6},"First day of Autumn"]
[]
[{"$nulls":6},"Previous","Next"]
[null,"Schedules/entries"]
[null,"This month",{"$f":"COUNTA(B4:H8)","v":2}]
[null,"Previous month",{"$f":"COUNTA('Aug-11'!B4:H8)","v":0}]
[null,"Next month",{"$f":"COUNTA('Oct-11'!B4:H9)","v":1}]

{"sheet":"Oct-11","index":3,"n_rows":14,"n_cols":8,"rows_kept":14,"merged":[[1,1,1,5],[1,6,1,7],[9,1,9,5],[9,6,10,6],[9,7,10,7],[10,1,10,2],[10,3,10,5],[11,3,14,6],[11,7,13,7]]}
[]
[{"$nulls":6},"October"]
[null,"SUN","MON","TUE","WED","THU","FRI","SAT"]
[]
[]
[null,null,"Columbus Day"]
[]
[]
[]
[{"$nulls":6},"Previous","Next"]
[null,"Schedules/entries"]
[null,"This month",{"$f":"COUNTA(B4:H9)","v":1}]
[null,"Previous month",{"$f":"COUNTA('Sep-11'!B4:H8)","v":2}]
[null,"Next month",{"$f":"COUNTA('Nov-11'!B4:H8)","v":3}]

{"sheet":"Nov-11","index":4,"n_rows":13,"n_cols":8,"rows_kept":13,"merged":[[1,1,1,5],[1,6,1,7],[8,1,8,5],[8,6,9,6],[8,7,9,7],[9,1,9,2],[9,3,9,5],[10,3,13,6],[10,7,12,7]]}
[]
[{"$nulls":6},"November"]
[null,"SUN","MON","TUE","WED","THU","FRI","SAT"]
[]
[null,"Daylight Saving Time Ends",{"$nulls":4},"Veteran's Day"]
[]
[{"$nulls":5},"Thanksgiving"]
[]
[{"$nulls":6},"Previous","Next"]
[null,"Schedules/entries"]
[null,"This month",{"$f":"COUNTA(B4:H8)","v":3}]
[null,"Previous month",{"$f":"COUNTA('Oct-11'!B4:H9)","v":1}]
[null,"Next month",{"$f":"COUNTA('Dec-11'!B4:H8)","v":3}]

{"sheet":"Dec-11","index":5,"n_rows":13,"n_cols":8,"rows_kept":13,"merged":[[1,1,1,5],[1,6,1,7],[8,1,8,5],[8,6,9,6],[8,7,9,7],[9,1,9,2],[9,3,9,5],[10,3,13,6],[10,7,12,7]]}
[]
[{"$nulls":6},"December"]
[null,"SUN","MON","TUE","WED","THU","FRI","SAT"]
[]
[]
[]
[{"$nulls":4},"First Day of Winter",null,null,"Christmas Eve"]
[null,"Christmas Day"]
[{"$nulls":6},"Previous","Next"]
[null,"Schedules/entries"]
[null,"This month",{"$f":"COUNTA(B4:H8)","v":3}]
[null,"Previous month",{"$f":"COUNTA('Nov-11'!B4:H8)","v":3}]
[null,"Next month",{"$f":"COUNTA('Jan-12'!B4:H8)","v":3}]

{"sheet":"Jan-12","index":6,"n_rows":13,"n_cols":8,"rows_kept":13,"merged":[[1,1,1,5],[1,6,1,7],[8,1,8,5],[8,6,9,6],[8,7,9,7],[9,1,9,2],[9,3,9,5],[10,3,13,6],[10,7,12,7]]}
[]
[{"$nulls":6},"January"]
[null,"SUN","MON","TUE","WED","THU","FRI","SAT"]
[null,"New Year's Day"]
[]
[null,null,"Martin Luther King, Jr. Day"]
[null,null,"Chinese New Year"]
[]
[{"$nulls":6},"Previous","Next"]
[null,"Schedules/entries"]
[null,"This month",{"$f":"COUNTA(B4:H8)","v":3}]
[null,"Previous month",{"$f":"COUNTA('Dec-11'!B4:H8)","v":3}]
[null,"Next month",{"$f":"COUNTA('Feb-12'!B4:H8)","v":3}]

{"sheet":"Feb-12","index":7,"n_rows":13,"n_cols":8,"rows_kept":13,"merged":[[1,1,1,5],[1,6,1,7],[8,1,8,5],[8,6,9,6],[8,7,9,7],[9,1,9,2],[9,3,9,5],[10,3,13,6],[10,7,12,7]]}
[]
[{"$nulls":6},"February"]
[null,"SUN","MON","TUE","WED","THU","FRI","SAT"]
[]
[]
[{"$nulls":3},"Valentine's Day"]
[null,null,"President's Day"]
[{"$nulls":4},"Leap Day"]
[{"$nulls":6},"Previous","Next"]
[null,"Schedules/entries"]
[null,"This month",{"$f":"COUNTA(B4:H8)","v":3}]
[null,"Previous month",{"$f":"COUNTA('Jan-12'!B4:H8)","v":3}]
[null,"Next month",{"$f":"COUNTA('Mar-12'!B4:H8)","v":3}]

{"sheet":"Mar-12","index":8,"n_rows":13,"n_cols":8,"rows_kept":13,"merged":[[1,1,1,5],[1,6,1,7],[8,1,8,5],[8,6,9,6],[8,7,9,7],[9,1,9,2],[9,3,9,5],[10,3,13,6],[10,7,12,7]]}
[]
[{"$nulls":6},"March"]
[null,"SUN","MON","TUE","WED","THU","FRI","SAT"]
[]
[]
[null,"Daylight Saving Time Begins",{"$nulls":5},"St. Patrick's Day"]
[{"$nulls":3},"First Day of Spring"]
[]
[{"$nulls":6},"Previous","Next"]
[null,"Schedules/entries"]
[null,"This month",{"$f":"COUNTA(B4:H8)","v":3}]
[null,"Previous month",{"$f":"COUNTA('Feb-12'!B4:H8)","v":3}]
[null,"Next month",{"$f":"COUNTA('Apr-12'!B4:H8)","v":0}]

{"sheet":"Apr-12","index":9,"n_rows":13,"n_cols":8,"rows_kept":13,"merged":[[1,1,1,5],[1,6,1,7],[8,1,8,5],[8,6,9,6],[8,7,9,7],[9,1,9,2],[9,3,9,5],[10,3,13,6],[10,7,12,7]]}
[]
[{"$nulls":6},"April"]
[null,"SUN","MON","TUE","WED","THU","FRI","SAT"]
[]
[]
[]
[]
[]
[{"$nulls":6},"Previous","Next"]
[null,"Schedules/entries"]
[null,"This month",{"$f":"COUNTA(B4:H8)","v":0}]
[null,"Previous month",{"$f":"COUNTA('Mar-12'!B4:H8)","v":3}]
[null,"Next month",{"$f":"COUNTA('May-12'!B4:H8)","v":2}]

{"sheet":"May-12","index":10,"n_rows":13,"n_cols":8,"rows_kept":13,"merged":[[1,1,1,5],[1,6,1,7],[8,1,8,5],[8,6,9,6],[8,7,9,7],[9,1,9,2],[9,3,9,5],[10,3,13,6],[10,7,12,7]]}
[]
[{"$nulls":6},"May"]
[null,"SUN","MON","TUE","WED","THU","FRI","SAT"]
[]
[]
[null,"Mother's Day"]
[]
[null,null,"Memorial Day"]
[{"$nulls":6},"Previous","Next"]
[null,"Schedules/entries"]
[null,"This month",{"$f":"COUNTA(B4:H8)","v":2}]
[null,"Previous month",{"$f":"COUNTA('Apr-12'!B4:H8)","v":0}]
[null,"Next month",{"$f":"COUNTA('Jun-12'!B4:H8)","v":2}]

{"sheet":"Jun-12","index":11,"n_rows":13,"n_cols":8,"rows_kept":13,"merged":[[1,1,1,5],[1,6,1,7],[8,1,8,5],[8,6,9,6],[8,7,9,7],[9,1,9,2],[9,3,9,5],[10,3,13,6],[10,7,12,7]]}
[]
[{"$nulls":6},"June"]
[null,"SUN","MON","TUE","WED","THU","FRI","SAT"]
[]
[]
[]
[null,"Father's Day",null,null,"First Day of Summer"]
[]
[{"$nulls":6},"Previous","Next"]
[null,"Schedules/entries"]
[null,"This month",{"$f":"COUNTA(B4:H8)","v":2}]
[null,"Previous month",{"$f":"COUNTA('May-12'!B4:H8)","v":2}]
[null,"Next month",{"$f":"COUNTA('Jul-12'!B4:H8)","v":1}]

{"sheet":"Jul-12","index":12,"n_rows":13,"n_cols":8,"rows_kept":13,"merged":[[1,1,1,5],[1,6,1,7],[8,1,8,5],[8,6,9,6],[8,7,9,7],[9,1,9,2],[9,3,9,5],[10,3,13,6],[10,7,12,7]]}
[]
[{"$nulls":6},"July"]
[null,"SUN","MON","TUE","WED","THU","FRI","SAT"]
[{"$nulls":4},"Independence Day"]
[]
[]
[]
[]
[{"$nulls":6},"Previous","Next"]
[null,"Schedules/entries"]
[null,"This month",{"$f":"COUNTA(B4:H8)","v":1}]
[null,"Previous month",{"$f":"COUNTA('Jul-12'!B4:H8)","v":1}]
[null,"Next month",{"$f":"COUNTA('Aug-12'!B4:H8)","v":0}]

{"sheet":"Aug-12","index":13,"n_rows":12,"n_cols":8,"rows_kept":12,"merged":[[1,1,1,5],[1,6,1,7],[8,1,8,5],[8,6,9,6],[8,7,9,7],[9,1,9,2],[9,3,9,5],[10,3,13,6],[10,7,12,7]]}
[]
[{"$nulls":6},"August"]
[null,"SUN","MON","TUE","WED","THU","FRI","SAT"]
[]
[]
[]
[]
[]
[{"$nulls":6},"Previous","Home"]
[null,"Schedules/entries"]
[null,"This month",{"$f":"COUNTA(B4:H8)","v":0}]
[null,"Previous month",{"$f":"COUNTA('Jul-12'!B4:H8)","v":1}]